Workbook

Sheet ПУНЦ до 670 кВт
A1: ПРЕДЕЛЬНЫЕ УРОВНИ НЕРЕГУЛИРУЕМЫХ ЦЕН НА ЭЛЕКТРИЧЕСКУЮ ЭНЕРГИЮ (МОЩНОСТЬ), ПОСТАВЛЯЕМУЮ ПОТРЕБИТЕЛЯМ (ПОКУПАТЕЛЯМ) с максимальной мощностью энергопринимающих устройств до 670 кВт ПАО "ТНС энерго Ростов-на-Дону" В ноябре 2024г.
A2: I. ПЕРВАЯ ЦЕНОВАЯ КАТЕГОРИЯ (для объемов покупки электрической энергии (мощности). учет которых осуществляется в целом за расчетный период)
A4: 1. Предельный уровень нерегулируемых цен без НДС
A5: Категория потребителей | E5: По договорам энергоснабжения | I5: По договорам купли-продажи
E6: ВН | F6: СН1 | G6: СН11 | H6: НН | I6: ВН | J6: СН1 | K6: СН11 | L6: НН
A7: 2 | E7: 12=3+4+5+6+7+8 | F7: 13=3+4+5+6+7+9 | G7: 14=3+4+5+6+7+10 | H7: 15=3+4+5+6+7+11 | I7: 12=3+4+5+6+7+8 | J7: 13=3+4+5+6+7+9 | K7: 14=3+4+5+6+7+10 | L7: 15=3+4+5+6+7+11
A8: Иные прочие потребители
A9: Для потребителей ПАО "ТНС энерго Ростов-на-Дону" | E9: ='1, 2 ц.к.'!K10 -> 8065.5 | F9: ='1, 2 ц.к.'!L10 -> 8417.72 | G9: ='1, 2 ц.к.'!M10 -> 8561.56 | H9: ='1, 2 ц.к.'!N10 -> 9543.37 | I9: ='1, 2 ц.к.'!O10 -> 4859.72 | J9: ='1, 2 ц.к.'!P10 -> 4859.72 | K9: ='1, 2 ц.к.'!Q10 -> 4859.72 | L9: ='1, 2 ц.к.'!R10 -> 4859.72
A11: Для Сетевых организаций по договорам купли-продажи для целей компенсации потерь(объемы не превышающие значения в сводном прогнозном балансе) | E11: ='1, 2 ц.к.'!K20 -> x | F11: ='1, 2 ц.к.'!L20 -> x | G11: ='1, 2 ц.к.'!M20 -> x | H11: ='1, 2 ц.к.'!N20 -> x | I11: ='1, 2 ц.к.'!O20 -> 4386.24 | J11: ='1, 2 ц.к.'!P20 -> 4386.24 | K11: ='1, 2 ц.к.'!Q20 -> 4386.24 | L11: ='1, 2 ц.к.'!R20 -> 4386.24
A12: Для Сетевых организаций по договорам купли-продажи для целей компенсации потерь(объемы превышающие значения в сводном прогнозном балансе) | E12: п. 96 ППРФ №442 определено, что при превышении балансового объема потерь, в расчетах используется сбытовая надбавка для группы прочие потребители с макс. мощностью энергопринимающих устройств от 670 КВт до 10 МВт
A13: 2. Средневзвешенная нерегулируемая цена на электрическую энергию (мощность), используемая для расчета предельного уровня нерегулируемых цен для первой ценовой категории, руб/МВт*ч без НДС | H13: =VLOOKUP(A13,'[1]2024'!$B$4:$N$56,MATCH("ноябрь",'[1]2024'!$B$3:$N$3,0),0) -> 3835.54
A14: 3. Составляющие расчета средневзвешенной нерегулируемой цены на электрическую энергию (мощность). используемой для расчета предельного уровня нерегулируемых цен для первой ценовой категории:
A15: а) Средневзвешенная нерегулируемая цена на электрическую энергию на оптовом рынке, руб/МВт*ч | H15: =VLOOKUP(A15,'[1]2024'!$B$4:$N$56,MATCH("ноябрь",'[1]2024'!$B$3:$N$3,0),0) -> 2159,1
A16: б) Средневзвешенная нерегулируемая цена на мощность на оптовом рынке, руб/МВт | H16: =VLOOKUP(A16,'[1]2024'!$B$4:$N$56,MATCH("ноябрь",'[1]2024'!$B$3:$N$3,0),0) -> 917570,48
A17: в) Коэфициент оплаты мощности потребителями (покупателями), осуществляющими расчеты по первой ценовой категории 1/час | H17: =VLOOKUP(A17,'[1]2024'!$B$4:$N$56,MATCH("ноябрь",'[1]2024'!$B$3:$N$3,0),0) -> 0.001827039
A18: г) Объем фактического пикового потребления гарантирующего поставщика на оптовом рынке, МВт | H18: =VLOOKUP(A18,'[1]2024'!$B$4:$N$56,MATCH("ноябрь",'[1]2024'!$B$3:$N$3,0),0) -> 1783.92
A19: д) Величина мощности, соответствующей покупке электрической энергии гарантирующим поставщиком у производителей электрической энергии (мощности) на розничных рынках, МВт | H19: =VLOOKUP(A19,'[1]2024'!$B$4:$N$56,MATCH("ноябрь",'[1]2024'!$B$3:$N$3,0),0)+OFFSET('[1]2024'!$B$3,7,MATCH("ноябрь",'[1]2024'!$C$3:$N$3,0)) -> #VALUE!
A20: е) Сумма величин мощности, оплачиваемой на розничном рынке потребителями (покупателями), осуществляющими расчеты по второй - шестой ценовым категориям, МВт | H20: =VLOOKUP(A20,'[1]2024'!$B$4:$N$56,MATCH("ноябрь",'[1]2024'!$B$3:$N$3,0),0) -> 268.63755
A21: в том числе:
A22: по второй ценовой категории, МВт | H22: =VLOOKUP(A22,'[1]2024'!$B$4:$N$56,MATCH("ноябрь",'[1]2024'!$B$3:$N$3,0),0) -> 1.964976
A23: по третьей ценовой категории, МВт | H23: =VLOOKUP(A23,'[1]2024'!$B$4:$N$56,MATCH("ноябрь",'[1]2024'!$B$3:$N$3,0),0) -> 235.28626
A24: по четвертой ценовой категории, МВт | H24: =VLOOKUP(A24,'[1]2024'!$B$4:$N$56,MATCH("ноябрь",'[1]2024'!$B$3:$N$3,0),0) -> 31.386319
A25: по пятой ценовой категории, МВт | H25: =VLOOKUP(A25,'[1]2024'!$B$4:$N$56,MATCH("ноябрь",'[1]2024'!$B$3:$N$3,0),0) -> 0
A26: по шестой ценовой категории, МВт | H26: =VLOOKUP(A26,'[1]2024'!$B$4:$N$56,MATCH("ноябрь",'[1]2024'!$B$3:$N$3,0),0) -> 0
A27: ж) Объем потребления мощности населением и приравненными к нему категориями потребителей, МВт | H27: =VLOOKUP(A27,'[1]2024'!$B$4:$N$56,MATCH("ноябрь",'[1]2024'!$B$3:$N$3,0),0) -> 640.85
A28: з) Объем потребления электрической энергии потребителями (покупателями), осуществляющими расчеты по второй ценовой категории, МВт*ч | H28: =VLOOKUP(A28,'[1]2024'!$B$4:$N$56,MATCH("ноябрь",'[1]2024'!$B$3:$N$3,0),0) -> 907.285
A29: в том числе: для трех зон суток, МВт*ч: | H29: =VLOOKUP(A29,'[1]2024'!$B$4:$N$56,MATCH("ноябрь",'[1]2024'!$B$3:$N$3,0),0) -> 107.074
A30: по ночной зоне суток, МВт*ч | H30: =VLOOKUP(A30,'[1]2024'!$B$4:$N$56,MATCH("ноябрь",'[1]2024'!$B$3:$N$3,0),0) -> 78.456
A31: по полупиковой зоне суток, МВт*ч | H31: =VLOOKUP(A31,'[1]2024'!$B$4:$N$56,MATCH("ноябрь",'[1]2024'!$B$3:$N$3,0),0) -> 18.758
A32: по пиковой зоне суток, МВт*ч | H32: =VLOOKUP(A32,'[1]2024'!$B$4:$N$56,MATCH("ноябрь",'[1]2024'!$B$3:$N$3,0),0) -> 9.86
A33: в том числе: для двух зон суток, МВт*ч: | H33: =VLOOKUP(A33,'[1]2024'!$B$4:$N$56,MATCH("ноябрь",'[1]2024'!$B$3:$N$3,0),0) -> 800.211
A34: по ночной зоне суток, МВт*ч | H34: =OFFSET('[1]2024'!$B$3,29,MATCH("ноябрь",'[1]2024'!$C$3:$N$3,0)) -> #VALUE!
A35: по пиковой зоне суток, МВт*ч | H35: =OFFSET('[1]2024'!$B$3,30,MATCH("ноябрь",'[1]2024'!$C$3:$N$3,0)) -> #VALUE!
A36: и) Фактический объем потребления электрической энергии гарантирующим поставщиком на оптовом рынке МВт*ч | H36: =VLOOKUP(A36,'[1]2024'!$B$4:$N$56,MATCH("ноябрь",'[1]2024'!$B$3:$N$3,0),0) -> 1094453.9
A37: к) Объем покупки электрической энергии гарантирующим поставщиком у производителей электрической энергии (мощности) на розничных рынках, МВт*ч | H37: =VLOOKUP(A37,'[1]2024'!$B$4:$N$56,MATCH("ноябрь",'[1]2024'!$B$3:$N$3,0),0)+OFFSET('[1]2024'!$B$3,33,MATCH("ноябрь",'[1]2024'!$C$3:$N$3,0)) -> #VALUE!
A38: в т.ч. объем покупки электрической энергии у собственников и иных законных владельцев объектов микрогенерации, МВт*ч | H38: =OFFSET('[1]2024'!$B$3,33,MATCH("ноябрь",'[1]2024'!$C$3:$N$3,0)) -> #VALUE!
A39: л) Сумма объемов потребления электрической энергии потребителями (покупателями), осуществляющими расчеты по второй - шестой ценовым категориям, МВт*ч | H39: =VLOOKUP(A39,'[1]2024'!$B$4:$N$56,MATCH("ноябрь",'[1]2024'!$B$3:$N$3,0),0) -> 215390.66
A40: в том числе:
A41: по второй ценовой категории, МВт*ч | H41: =VLOOKUP(A41,'[1]2024'!$B$4:$N$56,MATCH("ноябрь",'[1]2024'!$B$3:$N$3,0),0) -> 907.285
A42: по третьей ценовой категории, МВт*ч | H42: =VLOOKUP(A42,'[1]2024'!$B$4:$N$56,MATCH("ноябрь",'[1]2024'!$B$3:$N$3,0),0) -> 192297.35
...

Sheet ПУНЦ 670 кВт - 10 МВт
A1: ПРЕДЕЛЬНЫЕ УРОВНИ НЕРЕГУЛИРУЕМЫХ ЦЕН НА ЭЛЕКТРИЧЕСКУЮ ЭНЕРГИЮ (МОЩНОСТЬ), ПОСТАВЛЯЕМУЮ ПОТРЕБИТЕЛЯМ (ПОКУПАТЕЛЯМ) с максимальной мощностью энергопринимающих устройств от 670 кВт до 10 МВт ПАО "ТНС энерго Ростов-на-Дону" В ноябре 2024г.
A2: I. ПЕРВАЯ ЦЕНОВАЯ КАТЕГОРИЯ (для объемов покупки электрической энергии (мощности). учет которых осуществляется в целом за расчетный период)
A4: 1. Предельный уровень нерегулируемых цен без НДС
A5: Категория потребителей | E5: По договорам энергоснабжения | I5: По договорам купли-продажи
E6: ВН | F6: СН1 | G6: СН11 | H6: НН | I6: ВН | J6: СН1 | K6: СН11 | L6: НН
A7: 2 | E7: 12=3+4+5+6+7+8 | F7: 13=3+4+5+6+7+9 | G7: 14=3+4+5+6+7+10 | H7: 15=3+4+5+6+7+11 | I7: 12=3+4+5+6+7+8 | J7: 13=3+4+5+6+7+9 | K7: 14=3+4+5+6+7+10 | L7: 15=3+4+5+6+7+11
A8: Иные прочие потребители
A9: Для потребителей ПАО "ТНС энерго Ростов-на-Дону" | E9: ='1, 2 ц.к.'!K23 -> 7390.76 | F9: ='1, 2 ц.к.'!L23 -> 7742.98 | G9: ='1, 2 ц.к.'!M23 -> 7886.82 | H9: ='1, 2 ц.к.'!N23 -> 8868.63 | I9: ='1, 2 ц.к.'!O23 -> 4184.98 | J9: ='1, 2 ц.к.'!P23 -> 4184.98 | K9: ='1, 2 ц.к.'!Q23 -> 4184.98 | L9: ='1, 2 ц.к.'!R23 -> 4184.98
A11: Для Сетевых организаций по договорам купли-продажи для целей компенсации потерь(объемы не превышающие значения в сводном прогнозном балансе) | E11: ='1, 2 ц.к.'!K20 -> x | F11: ='1, 2 ц.к.'!L20 -> x | G11: ='1, 2 ц.к.'!M20 -> x | H11: ='1, 2 ц.к.'!N20 -> x | I11: ='1, 2 ц.к.'!O33 -> 4386.24 | J11: ='1, 2 ц.к.'!P33 -> 4386.24 | K11: ='1, 2 ц.к.'!Q33 -> 4386.24 | L11: ='1, 2 ц.к.'!R33 -> 4386.24
A12: Для Сетевых организаций по договорам купли-продажи для целей компенсации потерь(объемы превышающие значения в сводном прогнозном балансе) | E12: ='1, 2 ц.к.'!K21 -> x | F12: ='1, 2 ц.к.'!L21 -> x | G12: ='1, 2 ц.к.'!M21 -> x | H12: ='1, 2 ц.к.'!N21 -> x | I12: ='1, 2 ц.к.'!O34 -> 4184.98 | J12: ='1, 2 ц.к.'!P34 -> 4184.98 | K12: ='1, 2 ц.к.'!Q34 -> 4184.98 | L12: ='1, 2 ц.к.'!R34 -> 4184.98
A13: 2. Средневзвешенная нерегулируемая цена на электрическую энергию (мощность), используемая для расчета предельного уровня нерегулируемых цен для первой ценовой категории, руб/МВт*ч без НДС | H13: ='ПУНЦ до 670 кВт'!H13 -> 3835.54
A14: 3. Составляющие расчета средневзвешенной нерегулируемой цены на электрическую энергию (мощность). используемой для расчета предельного уровня нерегулируемых цен для первой ценовой категории:
A15: а) Средневзвешенная нерегулируемая цена на электрическую энергию на оптовом рынке, руб/МВт*ч | H15: ='ПУНЦ до 670 кВт'!H15 -> 2159,1
A16: б) Средневзвешенная нерегулируемая цена на мощность на оптовом рынке, руб/МВт | H16: ='ПУНЦ до 670 кВт'!H16 -> 917570,48
A17: в) Коэфициент оплаты мощности потребителями (покупателями), осуществляющими расчеты по первой ценовой категории 1/час | H17: ='ПУНЦ до 670 кВт'!H17 -> 0.001827039
A18: г) Объем фактического пикового потребления гарантирующего поставщика на оптовом рынке, МВт | H18: ='ПУНЦ до 670 кВт'!H18 -> 1783.92
A19: д) Величина мощности, соответствующей покупке электрической энергии гарантирующим поставщиком у производителей электрической энергии (мощности) на розничных рынках, МВт | H19: ='ПУНЦ до 670 кВт'!H19 -> #VALUE!
A20: е) Сумма величин мощности, оплачиваемой на розничном рынке потребителями (покупателями), осуществляющими расчеты по второй - шестой ценовым категориям, МВт | H20: ='ПУНЦ до 670 кВт'!H20 -> 268.63755
A21: в том числе:
A22: по второй ценовой категории, МВт | H22: ='ПУНЦ до 670 кВт'!H22 -> 1.964976
A23: по третьей ценовой категории, МВт | H23: ='ПУНЦ до 670 кВт'!H23 -> 235.28626
A24: по четвертой ценовой категории, МВт | H24: ='ПУНЦ до 670 кВт'!H24 -> 31.386319
A25: по пятой ценовой категории, МВт | H25: ='ПУНЦ до 670 кВт'!H25 -> 0
A26: по шестой ценовой категории, МВт | H26: ='ПУНЦ до 670 кВт'!H26 -> 0
A27: ж) Объем потребления мощности населением и приравненными к нему категориями потребителей, МВт | H27: ='ПУНЦ до 670 кВт'!H27 -> 640.85
A28: з) Объем потребления электрической энергии потребителями (покупателями), осуществляющими расчеты по второй ценовой категории, МВт*ч | H28: ='ПУНЦ до 670 кВт'!H28 -> 907.285
A29: в том числе: для трех зон суток, МВт*ч: | H29: ='ПУНЦ до 670 кВт'!H29 -> 107.074
A30: по ночной зоне суток, МВт*ч | H30: ='ПУНЦ до 670 кВт'!H30 -> 78.456
A31: по полупиковой зоне суток, МВт*ч | H31: ='ПУНЦ до 670 кВт'!H31 -> 18.758
A32: по пиковой зоне суток, МВт*ч | H32: ='ПУНЦ до 670 кВт'!H32 -> 9.86
A33: в том числе: для двух зон суток, МВт*ч: | H33: ='ПУНЦ до 670 кВт'!H33 -> 800.211
... A39: л) Сумма объемов потребления электрической энергии потребителями (покупателями), осуществляющими расчеты по второй - шестой ценовым категориям, МВт*ч | H39: ='ПУНЦ до 670 кВт'!H39 -> 215390.66
A40: в том числе:
A41: по второй ценовой категории, МВт*ч | H41: ='ПУНЦ до 670 кВт'!H41 -> 907.285
A42: по третьей ценовой категории, МВт*ч | H42: ='ПУНЦ до 670 кВт'!H42 -> 192297.35
A43: по четвертой ценовой категории, МВт*ч | H43: ='ПУНЦ до 670 кВт'!H43 -> 22186.028
A44: по пятой ценовой категории, МВт*ч | H44: ='ПУНЦ до 670 кВт'!H44 -> 0
A45: по шестой ценовой категории, МВт*ч | H45: ='ПУНЦ до 670 кВт'!H45 -> 0
A46: м) Объем потребления электрической энергии населением и приравненными к нему категориями потребителей, МВт*ч | H46: ='ПУНЦ до 670 кВт'!H46 -> 400531.1
A47: н) Величина изменения средневзвешенной нерегулируемой цены на электрическую энергию (мощность), связанная с учетом данных за предыдущие расчетные периоды, руб/МВт*ч | H47: ='ПУНЦ до 670 кВт'!H47 -> 0
...

Sheet ПУНЦ от 10 МВт
A1: ПРЕДЕЛЬНЫЕ УРОВНИ НЕРЕГУЛИРУЕМЫХ ЦЕН НА ЭЛЕКТРИЧЕСКУЮ ЭНЕРГИЮ (МОЩНОСТЬ), ПОСТАВЛЯЕМУЮ ПОТРЕБИТЕЛЯМ (ПОКУПАТЕЛЯМ) с максимальной мощностью энергопринимающих устройств свыше 10 МВт ПАО "ТНС энерго Ростов-на-Дону" В ноябре 2024г.
A2: I. ПЕРВАЯ ЦЕНОВАЯ КАТЕГОРИЯ (для объемов покупки электрической энергии (мощности). учет которых осуществляется в целом за расчетный период)
A4: 1. Предельный уровень нерегулируемых цен без НДС
A5: Категория потребителей | E5: По договорам энергоснабжения | I5: По договорам купли-продажи
E6: ВН | F6: СН1 | G6: СН11 | H6: НН | I6: ВН | J6: СН1 | K6: СН11 | L6: НН
A7: 2 | E7: 12=3+4+5+6+7+8 | F7: 13=3+4+5+6+7+9 | G7: 14=3+4+5+6+7+10 | H7: 15=3+4+5+6+7+11 | I7: 12=3+4+5+6+7+8 | J7: 13=3+4+5+6+7+9 | K7: 14=3+4+5+6+7+10 | L7: 15=3+4+5+6+7+11
A8: Иные прочие потребители
A9: Для потребителей ПАО "ТНС энерго Ростов-на-Дону" | E9: ='1, 2 ц.к.'!K36 -> 7390.76 | F9: ='1, 2 ц.к.'!L36 -> 7742.98 | G9: ='1, 2 ц.к.'!M36 -> 7886.82 | H9: ='1, 2 ц.к.'!N36 -> 8868.63 | I9: ='1, 2 ц.к.'!O36 -> 4184.98 | J9: ='1, 2 ц.к.'!P36 -> 4184.98 | K9: ='1, 2 ц.к.'!Q36 -> 4184.98 | L9: ='1, 2 ц.к.'!R36 -> 4184.98
A11: Для Сетевых организаций по договорам купли-продажи для целей компенсации потерь(объемы не превышающие значения в сводном прогнозном балансе) | E11: ='1, 2 ц.к.'!K20 -> x | F11: ='1, 2 ц.к.'!L20 -> x | G11: ='1, 2 ц.к.'!M20 -> x | H11: ='1, 2 ц.к.'!N20 -> x | I11: ='1, 2 ц.к.'!O46 -> 4386.24 | J11: ='1, 2 ц.к.'!P46 -> 4386.24 | K11: ='1, 2 ц.к.'!Q46 -> 4386.24 | L11: ='1, 2 ц.к.'!R46 -> 4386.24
A12: Для Сетевых организаций по договорам купли-продажи для целей компенсации потерь(объемы превышающие значения в сводном прогнозном балансе) | E12: п. 96 ППРФ №442 определено, что при превышении балансового объема потерь, в расчетах используется сбытовая надбавка для группы прочие потребители с макс. мощностью энергопринимающих устройств от 670 КВт до 10 МВт
A13: 2. Средневзвешенная нерегулируемая цена на электрическую энергию (мощность), используемая для расчета предельного уровня нерегулируемых цен для первой ценовой категории, руб/МВт*ч без НДС | H13: ='ПУНЦ до 670 кВт'!H13 -> 3835.54
A14: 3. Составляющие расчета средневзвешенной нерегулируемой цены на электрическую энергию (мощность). используемой для расчета предельного уровня нерегулируемых цен для первой ценовой категории:
A15: а) Средневзвешенная нерегулируемая цена на электрическую энергию на оптовом рынке, руб/МВт*ч | H15: ='ПУНЦ до 670 кВт'!H15 -> 2159,1
A16: б) Средневзвешенная нерегулируемая цена на мощность на оптовом рынке, руб/МВт | H16: ='ПУНЦ до 670 кВт'!H16 -> 917570,48
A17: в) Коэфициент оплаты мощности потребителями (покупателями), осуществляющими расчеты по первой ценовой категории 1/час | H17: ='ПУНЦ до 670 кВт'!H17 -> 0.001827039
A18: г) Объем фактического пикового потребления гарантирующего поставщика на оптовом рынке, МВт | H18: ='ПУНЦ до 670 кВт'!H18 -> 1783.92
A19: д) Величина мощности, соответствующей покупке электрической энергии гарантирующим поставщиком у производителей электрической энергии (мощности) на розничных рынках, МВт | H19: ='ПУНЦ до 670 кВт'!H19 -> #VALUE!
A20: е) Сумма величин мощности, оплачиваемой на розничном рынке потребителями (покупателями), осуществляющими расчеты по второй - шестой ценовым категориям, МВт | H20: ='ПУНЦ до 670 кВт'!H20 -> 268.63755
A21: в том числе:
A22: по второй ценовой категории, МВт | H22: ='ПУНЦ до 670 кВт'!H22 -> 1.964976
A23: по третьей ценовой категории, МВт | H23: ='ПУНЦ до 670 кВт'!H23 -> 235.28626
A24: по четвертой ценовой категории, МВт | H24: ='ПУНЦ до 670 кВт'!H24 -> 31.386319
A25: по пятой ценовой категории, МВт | H25: ='ПУНЦ до 670 кВт'!H25 -> 0
A26: по шестой ценовой категории, МВт | H26: ='ПУНЦ до 670 кВт'!H26 -> 0
A27: ж) Объем потребления мощности населением и приравненными к нему категориями потребителей, МВт | H27: ='ПУНЦ до 670 кВт'!H27 -> 640.85
A28: з) Объем потребления электрической энергии потребителями (покупателями), осуществляющими расчеты по второй ценовой категории, МВт*ч | H28: ='ПУНЦ до 670 кВт'!H28 -> 907.285
A29: в том числе: для трех зон суток, МВт*ч: | H29: ='ПУНЦ до 670 кВт'!H29 -> 107.074
A30: по ночной зоне суток, МВт*ч | H30: ='ПУНЦ до 670 кВт'!H30 -> 78.456
A31: по полупиковой зоне суток, МВт*ч | H31: ='ПУНЦ до 670 кВт'!H31 -> 18.758
A32: по пиковой зоне суток, МВт*ч | H32: ='ПУНЦ до 670 кВт'!H32 -> 9.86
A33: в том числе: для двух зон суток, МВт*ч: | H33: ='ПУНЦ до 670 кВт'!H33 -> 800.211
... A39: л) Сумма объемов потребления электрической энергии потребителями (покупателями), осуществляющими расчеты по второй - шестой ценовым категориям, МВт*ч | H39: ='ПУНЦ до 670 кВт'!H39 -> 215390.66
A40: в том числе:
A41: по второй ценовой категории, МВт*ч | H41: ='ПУНЦ до 670 кВт'!H41 -> 907.285
A42: по третьей ценовой категории, МВт*ч | H42: ='ПУНЦ до 670 кВт'!H42 -> 192297.35
A43: по четвертой ценовой категории, МВт*ч | H43: ='ПУНЦ до 670 кВт'!H43 -> 22186.028
A44: по пятой ценовой категории, МВт*ч | H44: ='ПУНЦ до 670 кВт'!H44 -> 0
A45: по шестой ценовой категории, МВт*ч | H45: ='ПУНЦ до 670 кВт'!H45 -> 0
A46: м) Объем потребления электрической энергии населением и приравненными к нему категориями потребителей, МВт*ч | H46: ='ПУНЦ до 670 кВт'!H46 -> 400531.1
A47: н) Величина изменения средневзвешенной нерегулируемой цены на электрическую энергию (мощность), связанная с учетом данных за предыдущие расчетные периоды, руб/МВт*ч | H47: ='ПУНЦ до 670 кВт'!H47 -> 0
...

Sheet 1, 2 ц.к.
A1: Фактический предельный уровень нерегулируемых цен на электрическую энергию
A2: для потребителей ПАО "ТНС энерго Ростов-на-Дону" за ноябрь 2024 г.
Q3: без НДС
A4: № п/п | B4: Тарифные группы потребителей | C4: Средневзвешенная свободная (нерегулируемая) цена, сложившаяся на оптовом рынке по данным АО "АТС", руб/МВт*ч | D4: Размер платы за регулируемые услуги в одноставочном выражении, руб/МВт*ч | K4: Предельные уровни нерегулируемых цен для потребителей, заключивших договоры энергоснабжения, руб/МВт*ч | O4: Предельные уровни нерегулируемых цен для потребителей, заключивших договоры купли-продажи, руб/МВт*ч
D5: Плата за иные прочие услуги, руб/МВт*ч | E5: Плата за услуги по упр. изменением режима потребления ээ, руб/МВт*ч | F5: Сбытовая надбавка ПАО "ТНС энерго Ростов-на-Дону", утв. Пост.РСТ РО №755 от 30.11.2023г., Пост.РСТ РО №834 от 19.12.2023г., руб/МВт*ч | G5: Тариф на услуги по передаче, утвержденный Постановлением РСТ РО №790 от 06.12.2023г., руб/МВт*ч
G7: ВН | H7: СН1 | I7: СН11 | J7: НН | K7: ВН | L7: СН1 | M7: СН11 | N7: НН | O7: ВН | P7: СН1 | Q7: СН11 | R7: НН
A8: 1 | B8: 2 | C8: 3 | D8: 4 | E8: 5 | F8: 6 | G8: 7 | H8: 8 | I8: 9 | J8: 10 | K8: 11=3+4+5+6+7 | L8: 12=3+4+5+6+8 | M8: 13=3+4+5+6+9 | N8: 14=3+4+5+6+10 | O8: 15=3+4+5+6 | P8: 16=3+4+5+6 | Q8: 17=3+4+5+6 | R8: 18=3+4+5+6
B9: Для потребителей до 670 кВт | F9: 1018.54
A10: 1. | B10: 1 ценовая категория | C10: =ROUND('ПУНЦ до 670 кВт'!H13,2) -> 3835.54 | D10: =VLOOKUP("Плата за иные услуги, рублей/МВт*ч",'[1]2024'!$B$59:$N$59,MATCH("ноябрь",'[1]2024'!$B$3:$N$3,0),0) -> 4.81 | E10: ='[1]2024'!$M$92 -> 0.83 | F10: 1018.54 | G10: 3205.78 | H10: 3558 | I10: 3701.84 | J10: 4683.65 | K10: =C10+D10+E10+F10+G10 -> 8065.5 | L10: =C10+D10+E10+F10+H10 -> 8417.72 | M10: =C10+D10+E10+F10+I10 -> 8561.56 | N10: =C10+D10+E10+F10+J10 -> 9543.37 | O10: =C10+D10+E10+F10 -> 4859.72 | P10: =C10+D10+E10+F10 -> 4859.72 | Q10: =C10+D10+E10+F10 -> 4859.72 | R10: =C10+D10+E10+F10 -> 4859.72 | S10: =C10/1000 -> 3.83554 | T10: =N10*0.05 -> 477.1685
A12: 2. | B12: 2 ценовая категория
A13: 2.1. | B13: Тарифы, дифференцированные по трем зонам суток
B14: -ночная зона | C14: =ROUND([2]Лист1!B11,2) -> 1607.52 | D14: =$D$10 -> 4.81 | E14: =$E$10 -> 0.83 | F14: =F9 -> 1018.54 | G14: =$G$10 -> 3205.78 | H14: =$H$10 -> 3558 | I14: =$I$10 -> 3701.84 | J14: =$J$10 -> 4683.65 | K14: =C14+D14+E14+F14+G14 -> 5837.48 | L14: =C14+D14+E14+F14+H14 -> 6189.7 | M14: =C14+D14+E14+F14+I14 -> 6333.54 | N14: =C14+D14+E14+F14+J14 -> 7315.35 | O14: =C14+D14+E14+F14 -> 2631.7 | P14: =C14+D14+E14+F14 -> 2631.7 | Q14: =C14+D14+E14+F14 -> 2631.7 | R14: =C14+D14+E14+F14 -> 2631.7 | S14: =C14/1000 -> 1.60752 | T14: =F14/1000 -> 1.01854
B15: -полупиковая зона | C15: =ROUND([2]Лист1!B12,2) -> 3907.85 | D15: =$D$10 -> 4.81 | E15: =$E$10 -> 0.83 | F15: =F9 -> 1018.54 | G15: =$G$10 -> 3205.78 | H15: =$H$10 -> 3558 | I15: =$I$10 -> 3701.84 | J15: =$J$10 -> 4683.65 | K15: =C15+D15+E15+F15+G15 -> 8137.81 | L15: =C15+D15+E15+F15+H15 -> 8490.03 | M15: =C15+D15+E15+F15+I15 -> 8633.87 | N15: =C15+D15+E15+F15+J15 -> 9615.68 | O15: =C15+D15+E15+F15 -> 4932.03 | P15: =C15+D15+E15+F15 -> 4932.03 | Q15: =C15+D15+E15+F15 -> 4932.03 | R15: =C15+D15+E15+F15 -> 4932.03 | S15: =C15/1000 -> 3.90785
B16: -пиковая зона | C16: =ROUND([2]Лист1!B13,2) -> 11303.08 | D16: =$D$10 -> 4.81 | E16: =$E$10 -> 0.83 | F16: =F9 -> 1018.54 | G16: =$G$10 -> 3205.78 | H16: =$H$10 -> 3558 | I16: =$I$10 -> 3701.84 | J16: =$J$10 -> 4683.65 | K16: =C16+D16+E16+F16+G16 -> 15533.04 | L16: =C16+D16+E16+F16+H16 -> 15885.26 | M16: =C16+D16+E16+F16+I16 -> 16029.1 | N16: =C16+D16+E16+F16+J16 -> 17010.91 | O16: =C16+D16+E16+F16 -> 12327.26 | P16: =C16+D16+E16+F16 -> 12327.26 | Q16: =C16+D16+E16+F16 -> 12327.26 | R16: =C16+D16+E16+F16 -> 12327.26 | S16: =C16/1000 -> 11.30308
A17: 2.2. | B17: Тарифы, дифференцированные по двум зонам суток | E17: =$E$10 -> 0.83
B18: -ночная зона | C18: =ROUND([2]Лист1!$B$15,2) -> 1607.52 | D18: =$D$10 -> 4.81 | E18: =$E$10 -> 0.83 | F18: =F9 -> 1018.54 | G18: =$G$10 -> 3205.78 | H18: =$H$10 -> 3558 | I18: =$I$10 -> 3701.84 | J18: =$J$10 -> 4683.65 | K18: =C18+D18+E18+F18+G18 -> 5837.48 | L18: =C18+D18+E18+F18+H18 -> 6189.7 | M18: =C18+D18+E18+F18+I18 -> 6333.54 | N18: =C18+D18+E18+F18+J18 -> 7315.35 | O18: =C18+D18+E18+F18 -> 2631.7 | P18: =C18+D18+E18+F18 -> 2631.7 | Q18: =C18+D18+E18+F18 -> 2631.7 | R18: =C18+D18+E18+F18 -> 2631.7 | S18: =C18/1000 -> 1.60752
B19: -дневная зона | C19: =ROUND([2]Лист1!$B$16,2) -> 6086.51 | D19: =$D$10 -> 4.81 | E19: =$E$10 -> 0.83 | F19: =F9 -> 1018.54 | G19: =$G$10 -> 3205.78 | H19: =$H$10 -> 3558 | I19: =$I$10 -> 3701.84 | J19: =$J$10 -> 4683.65 | K19: =C19+D19+E19+F19+G19 -> 10316.47 | L19: =C19+D19+E19+F19+H19 -> 10668.69 | M19: =C19+D19+E19+F19+I19 -> 10812.53 | N19: =C19+D19+E19+F19+J19 -> 11794.34 | O19: =C19+D19+E19+F19 -> 7110.69 | P19: =C19+D19+E19+F19 -> 7110.69 | Q19: =C19+D19+E19+F19 -> 7110.69 | R19: =C19+D19+E19+F19 -> 7110.69 | S19: =C19/1000 -> 6.08651
A20: 2.3. | B20: Компенсация потерь РСК (объемы не превышающие значения в сводном прогнозном балансе) | C20: =$C$10 -> 3835.54 | D20: =$D$10 -> 4.81 | E20: =$E$10 -> 0.83 | F20: 545.06 | G20: x | H20: x | I20: x | J20: x | K20: x | L20: x | M20: x | N20: x | O20: =C20+D20+E20+F20 -> 4386.24 | P20: =C20+D20+E20+F20 -> 4386.24 | Q20: =C20+D20+E20+F20 -> 4386.24 | R20: =C20+D20+E20+F20 -> 4386.24
A21: 2.4. | B21: Компенсация потерь РСК (объемы превышающие значения в сводном прогнозном балансе) | C21: х | D21: х | E21: х | F21: х | G21: x | H21: x | I21: x | J21: x | K21: x | L21: x | M21: x | N21: x | O21: х | P21: х | Q21: х | R21: х
B22: Для потребителей от 670 кВт до 10 МВт | F22: 343.8
A23: 1. | B23: 1 ценовая категория | C23: =$C$10 -> 3835.54 | D23: =$D$10 -> 4.81 | E23: =$E$10 -> 0.83 | F23: =F22 -> 343.8 | G23: =$G$10 -> 3205.78 | H23: =$H$10 -> 3558 | I23: =$I$10 -> 3701.84 | J23: =$J$10 -> 4683.65 | K23: =C23+D23+E23+F23+G23 -> 7390.76 | L23: =C23+D23+E23+F23+H23 -> 7742.98 | M23: =C23+D23+E23+F23+I23 -> 7886.82 | N23: =C23+D23+E23+F23+J23 -> 8868.63 | O23: =C23+D23+E23+F23 -> 4184.98 | P23: =C23+D23+E23+F23 -> 4184.98 | Q23: =C23+D23+E23+F23 -> 4184.98 | R23: =C23+D23+E23+F23 -> 4184.98
A25: 2. | B25: 2 ценовая категория
A26: 2.1. | B26: Тарифы, дифференцированные по трем зонам суток
B27: -ночная зона | C27: =$C$14 -> 1607.52 | D27: =$D$10 -> 4.81 | E27: =$E$10 -> 0.83 | F27: =F22 -> 343.8 | G27: =$G$10 -> 3205.78 | H27: =$H$10 -> 3558 | I27: =$I$10 -> 3701.84 | J27: =$J$10 -> 4683.65 | K27: =C27+D27+E27+F27+G27 -> 5162.74 | L27: =C27+D27+E27+F27+H27 -> 5514.96 | M27: =C27+D27+E27+F27+I27 -> 5658.8 | N27: =C27+D27+E27+F27+J27 -> 6640.61 | O27: =C27+D27+E27+F27 -> 1956.96 | P27: =C27+D27+E27+F27 -> 1956.96 | Q27: =C27+D27+E27+F27 -> 1956.96 | R27: =C27+D27+E27+F27 -> 1956.96
B28: -полупиковая зона | C28: =$C$15 -> 3907.85 | D28: =$D$10 -> 4.81 | E28: =$E$10 -> 0.83 | F28: =F22 -> 343.8 | G28: =$G$10 -> 3205.78 | H28: =$H$10 -> 3558 | I28: =$I$10 -> 3701.84 | J28: =$J$10 -> 4683.65 | K28: =C28+D28+E28+F28+G28 -> 7463.07 | L28: =C28+D28+E28+F28+H28 -> 7815.29 | M28: =C28+D28+E28+F28+I28 -> 7959.13 | N28: =C28+D28+E28+F28+J28 -> 8940.94 | O28: =C28+D28+E28+F28 -> 4257.29 | P28: =C28+D28+E28+F28 -> 4257.29 | Q28: =C28+D28+E28+F28 -> 4257.29 | R28: =C28+D28+E28+F28 -> 4257.29
B29: -пиковая зона | C29: =$C$16 -> 11303.08 | D29: =$D$10 -> 4.81 | E29: =$E$10 -> 0.83 | F29: =F22 -> 343.8 | G29: =$G$10 -> 3205.78 | H29: =$H$10 -> 3558 | I29: =$I$10 -> 3701.84 | J29: =$J$10 -> 4683.65 | K29: =C29+D29+E29+F29+G29 -> 14858.3 | L29: =C29+D29+E29+F29+H29 -> 15210.52 | M29: =C29+D29+E29+F29+I29 -> 15354.36 | N29: =C29+D29+E29+F29+J29 -> 16336.17 | O29: =C29+D29+E29+F29 -> 11652.52 | P29: =C29+D29+E29+F29 -> 11652.52 | Q29: =C29+D29+E29+F29 -> 11652.52 | R29: =C29+D29+E29+F29 -> 11652.52
A30: 2.2. | B30: Тарифы, дифференцированные по двум зонам суток
B31: -ночная зона | C31: =$C$18 -> 1607.52 | D31: =$D$10 -> 4.81 | E31: =$E$10 -> 0.83 | F31: =F22 -> 343.8 | G31: =$G$10 -> 3205.78 | H31: =$H$10 -> 3558 | I31: =$I$10 -> 3701.84 | J31: =$J$10 -> 4683.65 | K31: =C31+D31+E31+F31+G31 -> 5162.74 | L31: =C31+D31+E31+F31+H31 -> 5514.96 | M31: =C31+D31+E31+F31+I31 -> 5658.8 | N31: =C31+D31+E31+F31+J31 -> 6640.61 | O31: =C31+D31+E31+F31 -> 1956.96 | P31: =C31+D31+E31+F31 -> 1956.96 | Q31: =C31+D31+E31+F31 -> 1956.96 | R31: =C31+D31+E31+F31 -> 1956.96
B32: -дневная зона | C32: =$C$19 -> 6086.51 | D32: =$D$10 -> 4.81 | E32: =$E$10 -> 0.83 | F32: =F22 -> 343.8 | G32: =$G$10 -> 3205.78 | H32: =$H$10 -> 3558 | I32: =$I$10 -> 3701.84 | J32: =$J$10 -> 4683.65 | K32: =C32+D32+E32+F32+G32 -> 9641.73 | L32: =C32+D32+E32+F32+H32 -> 9993.95 | M32: =C32+D32+E32+F32+I32 -> 10137.79 | N32: =C32+D32+E32+F32+J32 -> 11119.6 | O32: =C32+D32+E32+F32 -> 6435.95 | P32: =C32+D32+E32+F32 -> 6435.95 | Q32: =C32+D32+E32+F32 -> 6435.95 | R32: =C32+D32+E32+F32 -> 6435.95
A33: 2.3. | B33: Компенсация потерь РСК (объемы не превышающие значения в сводном прогнозном балансе) | C33: =$C$10 -> 3835.54 | D33: =$D$10 -> 4.81 | E33: =$E$10 -> 0.83 | F33: =F20 -> 545.06 | G33: x | H33: x | I33: x | J33: x | K33: x | L33: x | M33: x | N33: x | O33: =C33+D33+E33+F33 -> 4386.24 | P33: =C33+D33+E33+F33 -> 4386.24 | Q33: =C33+D33+E33+F33 -> 4386.24 | R33: =C33+D33+E33+F33 -> 4386.24
A34: 2.4. | B34: Компенсация потерь РСК (объемы превышающие значения в сводном прогнозном балансе) п. 96 ППРФ №442 определено, что при превышении балансового объема потерь, в расчетах используется сбытовая надбавка для группы прочие потребители с макс. мощностью энергопринимающих устройств от 670 КВт до 10 МВт | C34: =$C$10 -> 3835.54 | D34: =$D$10 -> 4.81 | E34: =$E$10 -> 0.83 | F34: =F22 -> 343.8 | G34: x | H34: x | I34: x | J34: x | K34: x | L34: x | M34: x | N34: x | O34: =C34+D34+E34+F34 -> 4184.98 | P34: =C34+D34+E34+F34 -> 4184.98 | Q34: =C34+D34+E34+F34 -> 4184.98 | R34: =C34+D34+E34+F34 -> 4184.98
B35: Для потребителей от 10 МВт | F35: 343.8
A36: 1. | B36: 1 ценовая категория | C36: =$C$10 -> 3835.54 | D36: =$D$10 -> 4.81 | E36: =$E$10 -> 0.83 | F36: =F35 -> 343.8 | G36: =$G$10 -> 3205.78 | H36: =$H$10 -> 3558 | I36: =$I$10 -> 3701.84 | J36: =$J$10 -> 4683.65 | K36: =C36+D36+E36+F36+G36 -> 7390.76 | L36: =C36+D36+E36+F36+H36 -> 7742.98 | M36: =C36+D36+E36+F36+I36 -> 7886.82 | N36: =C36+D36+E36+F36+J36 -> 8868.63 | O36: =C36+D36+E36+F36 -> 4184.98 | P36: =C36+D36+E36+F36 -> 4184.98 | Q36: =C36+D36+E36+F36 -> 4184.98 | R36: =C36+D36+E36+F36 -> 4184.98
A38: 2. | B38: 2 ценовая категория
A39: 2.1. | B39: Тарифы, дифференцированные по трем зонам суток
B40: -ночная зона | C40: =$C$14 -> 1607.52 | D40: =$D$10 -> 4.81 | E40: =$E$10 -> 0.83 | F40: =F35 -> 343.8 | G40: =$G$10 -> 3205.78 | H40: =$H$10 -> 3558 | I40: =$I$10 -> 3701.84 | J40: =$J$10 -> 4683.65 | K40: =C40+D40+E40+F40+G40 -> 5162.74 | L40: =C40+D40+E40+F40+H40 -> 5514.96 | M40: =C40+D40+E40+F40+I40 -> 5658.8 | N40: =C40+D40+E40+F40+J40 -> 6640.61 | O40: =C40+D40+E40+F40 -> 1956.96 | P40: =C40+D40+E40+F40 -> 1956.96 | Q40: =C40+D40+E40+F40 -> 1956.96 | R40: =C40+D40+E40+F40 -> 1956.96
B41: -полупиковая зона | C41: =$C$15 -> 3907.85 | D41: =$D$10 -> 4.81 | E41: =$E$10 -> 0.83 | F41: =F35 -> 343.8 | G41: =$G$10 -> 3205.78 | H41: =$H$10 -> 3558 | I41: =$I$10 -> 3701.84 | J41: =$J$10 -> 4683.65 | K41: =C41+D41+E41+F41+G41 -> 7463.07 | L41: =C41+D41+E41+F41+H41 -> 7815.29 | M41: =C41+D41+E41+F41+I41 -> 7959.13 | N41: =C41+D41+E41+F41+J41 -> 8940.94 | O41: =C41+D41+E41+F41 -> 4257.29 | P41: =C41+D41+E41+F41 -> 4257.29 | Q41: =C41+D41+E41+F41 -> 4257.29 | R41: =C41+D41+E41+F41 -> 4257.29
B42: -пиковая зона | C42: =$C$16 -> 11303.08 | D42: =$D$10 -> 4.81 | E42: =$E$10 -> 0.83 | F42: =F35 -> 343.8 | G42: =$G$10 -> 3205.78 | H42: =$H$10 -> 3558 | I42: =$I$10 -> 3701.84 | J42: =$J$10 -> 4683.65 | K42: =C42+D42+E42+F42+G42 -> 14858.3 | L42: =C42+D42+E42+F42+H42 -> 15210.52 | M42: =C42+D42+E42+F42+I42 -> 15354.36 | N42: =C42+D42+E42+F42+J42 -> 16336.17 | O42: =C42+D42+E42+F42 -> 11652.52 | P42: =C42+D42+E42+F42 -> 11652.52 | Q42: =C42+D42+E42+F42 -> 11652.52 | R42: =C42+D42+E42+F42 -> 11652.52
A43: 2.2. | B43: Тарифы, дифференцированные по двум зонам суток
B44: -ночная зона | C44: =$C$18 -> 1607.52 | D44: =$D$10 -> 4.81 | E44: =$E$10 -> 0.83 | F44: =F35 -> 343.8 | G44: =$G$10 -> 3205.78 | H44: =$H$10 -> 3558 | I44: =$I$10 -> 3701.84 | J44: =$J$10 -> 4683.65 | K44: =C44+D44+E44+F44+G44 -> 5162.74 | L44: =C44+D44+E44+F44+H44 -> 5514.96 | M44: =C44+D44+E44+F44+I44 -> 5658.8 | N44: =C44+D44+E44+F44+J44 -> 6640.61 | O44: =C44+D44+E44+F44 -> 1956.96 | P44: =C44+D44+E44+F44 -> 1956.96 | Q44: =C44+D44+E44+F44 -> 1956.96 | R44: =C44+D44+E44+F44 -> 1956.96
...

Sheet третья ц.к.
A1: III. Третья ценовая категория (для объемов покупки электрической энергии (мощности), в отношении которых в расчетном периоде осуществляется почасовой учет, и стоимость услуг по передаче электрической энергии определяется по цене услуг в одноставочном исчислении)
A4: 1. Ставка за электрическую энергию предельного уровня нерегулируемой цены
A5: факт | V5: без НДС
A6: Дата | B6: Час | C6: Нерегули-руемая цена на ОРЭ, определяемая КО на РСВ И БР, руб/МВт*ч | D6: Размер платы за регулируемые услуги в одноставочном выражении, руб/МВт*ч | H6: Одноставочный тариф на услуги по передаче, утвержденный Постановлением РСТ РО №790 от 06.12.2023г., руб/МВт*ч | L6: Ставка, применяемая к фактическому почасовому объему покупки электрической энергии, руб/МВт*ч
D7: Плата за иные услуги, руб/МВт*ч | E7: ='1, 2 ц.к.'!F5 -> Сбытовая надбавка ПАО "ТНС энерго Ростов-на-Дону", утв. Пост.РСТ РО №755 от 30.11.2023г., Пост.РСТ РО №834 от 19.12.2023г., руб/МВт*ч
L8: до 670 кВт | P8: 670 кВт-10 МВт | T8: свыше 10 МВт
E9: до 670 | F9: 670-10000 | G9: свыше 10МВт | H9: ВН | I9: СН1 | J9: СН11 | K9: НН | L9: ВН | M9: СН1 | N9: СН11 | O9: НН | P9: ВН | Q9: СН1 | R9: СН11 | S9: НН | T9: ВН | U9: СН1 | V9: СН11 | W9: НН
A10: 45597 | B10: 0 | C10: =ROUND([2]Лист1!F57,2) -> 1463.79 | D10: ='1, 2 ц.к.'!$D$10 -> 4.81 | E10: ='1, 2 ц.к.'!$F$9 -> 1018.54 | F10: ='1, 2 ц.к.'!$F$22 -> 343.8 | G10: ='1, 2 ц.к.'!$F$35 -> 343.8 | H10: ='1, 2 ц.к.'!G10 -> 3205.78 | I10: ='1, 2 ц.к.'!H10 -> 3558 | J10: ='1, 2 ц.к.'!I10 -> 3701.84 | K10: ='1, 2 ц.к.'!J10 -> 4683.65 | L10: =ROUND(C10+D10+E10+H10,2) -> 5692.92 | M10: =ROUND(C10+D10+E10+I10,2) -> 6045.14 | N10: =ROUND(C10+D10+E10+J10,2) -> 6188.98 | O10: =ROUND(C10+D10+E10+K10,2) -> 7170.79 | P10: =ROUND(C10+D10+F10+H10,2) -> 5018.18 | Q10: =ROUND(C10+D10+F10+I10,2) -> 5370.4 | R10: =ROUND(C10+D10+F10+J10,2) -> 5514.24 | S10: =ROUND(C10+D10+F10+K10,2) -> 6496.05 | T10: =ROUND(C10+D10+G10+H10,2) -> 5018.18 | U10: =ROUND(C10+D10+G10+I10,2) -> 5370.4 | V10: =ROUND(C10+D10+G10+J10,2) -> 5514.24 | W10: =ROUND(C10+D10+G10+K10,2) -> 6496.05
A11: 01.06.2008 | B11: 1 | C11: =ROUND([2]Лист1!F58,2) -> 1442.44 | D11: =D10 -> 4.81 | E11: =E10 -> 1018.54 | F11: =F10 -> 343.8 | G11: =G10 -> 343.8 | H11: =H10 -> 3205.78 | I11: =I10 -> 3558 | J11: =J10 -> 3701.84 | K11: =K10 -> 4683.65 | L11: =ROUND(C11+D11+E11+H11,2) -> 5671.57 | M11: =ROUND(C11+D11+E11+I11,2) -> 6023.79 | N11: =ROUND(C11+D11+E11+J11,2) -> 6167.63 | O11: =ROUND(C11+D11+E11+K11,2) -> 7149.44 | P11: =ROUND(C11+D11+F11+H11,2) -> 4996.83 | Q11: =ROUND(C11+D11+F11+I11,2) -> 5349.05 | R11: =ROUND(C11+D11+F11+J11,2) -> 5492.89 | S11: =ROUND(C11+D11+F11+K11,2) -> 6474.7 | T11: =ROUND(C11+D11+G11+H11,2) -> 4996.83 | U11: =ROUND(C11+D11+G11+I11,2) -> 5349.05 | V11: =ROUND(C11+D11+G11+J11,2) -> 5492.89 | W11: =ROUND(C11+D11+G11+K11,2) -> 6474.7
A12: 01.06.2008 | B12: 2 | C12: =ROUND([2]Лист1!F59,2) -> 1442.41 | D12: =D11 -> 4.81 | E12: =E11 -> 1018.54 | F12: =F11 -> 343.8 | G12: =G11 -> 343.8 | H12: =H11 -> 3205.78 | I12: =I11 -> 3558 | J12: =J11 -> 3701.84 | K12: =K11 -> 4683.65 | L12: =ROUND(C12+D12+E12+H12,2) -> 5671.54 | M12: =ROUND(C12+D12+E12+I12,2) -> 6023.76 | N12: =ROUND(C12+D12+E12+J12,2) -> 6167.6 | O12: =ROUND(C12+D12+E12+K12,2) -> 7149.41 | P12: =ROUND(C12+D12+F12+H12,2) -> 4996.8 | Q12: =ROUND(C12+D12+F12+I12,2) -> 5349.02 | R12: =ROUND(C12+D12+F12+J12,2) -> 5492.86 | S12: =ROUND(C12+D12+F12+K12,2) -> 6474.67 | T12: =ROUND(C12+D12+G12+H12,2) -> 4996.8 | U12: =ROUND(C12+D12+G12+I12,2) -> 5349.02 | V12: =ROUND(C12+D12+G12+J12,2) -> 5492.86 | W12: =ROUND(C12+D12+G12+K12,2) -> 6474.67
A13: 01.06.2008 | B13: 3 | C13: =ROUND([2]Лист1!F60,2) -> 1351.74 | D13: =D12 -> 4.81 | E13: =E12 -> 1018.54 | F13: =F12 -> 343.8 | G13: =G12 -> 343.8 | H13: =H12 -> 3205.78 | I13: =I12 -> 3558 | J13: =J12 -> 3701.84 | K13: =K12 -> 4683.65 | L13: =ROUND(C13+D13+E13+H13,2) -> 5580.87 | M13: =ROUND(C13+D13+E13+I13,2) -> 5933.09 | N13: =ROUND(C13+D13+E13+J13,2) -> 6076.93 | O13: =ROUND(C13+D13+E13+K13,2) -> 7058.74 | P13: =ROUND(C13+D13+F13+H13,2) -> 4906.13 | Q13: =ROUND(C13+D13+F13+I13,2) -> 5258.35 | R13: =ROUND(C13+D13+F13+J13,2) -> 5402.19 | S13: =ROUND(C13+D13+F13+K13,2) -> 6384 | T13: =ROUND(C13+D13+G13+H13,2) -> 4906.13 | U13: =ROUND(C13+D13+G13+I13,2) -> 5258.35 | V13: =ROUND(C13+D13+G13+J13,2) -> 5402.19 | W13: =ROUND(C13+D13+G13+K13,2) -> 6384
A14: 01.06.2008 | B14: 4 | C14: =ROUND([2]Лист1!F61,2) -> 1404.66 | D14: =D13 -> 4.81 | E14: =E13 -> 1018.54 | F14: =F13 -> 343.8 | G14: =G13 -> 343.8 | H14: =H13 -> 3205.78 | I14: =I13 -> 3558 | J14: =J13 -> 3701.84 | K14: =K13 -> 4683.65 | L14: =ROUND(C14+D14+E14+H14,2) -> 5633.79 | M14: =ROUND(C14+D14+E14+I14,2) -> 5986.01 | N14: =ROUND(C14+D14+E14+J14,2) -> 6129.85 | O14: =ROUND(C14+D14+E14+K14,2) -> 7111.66 | P14: =ROUND(C14+D14+F14+H14,2) -> 4959.05 | Q14: =ROUND(C14+D14+F14+I14,2) -> 5311.27 | R14: =ROUND(C14+D14+F14+J14,2) -> 5455.11 | S14: =ROUND(C14+D14+F14+K14,2) -> 6436.92 | T14: =ROUND(C14+D14+G14+H14,2) -> 4959.05 | U14: =ROUND(C14+D14+G14+I14,2) -> 5311.27 | V14: =ROUND(C14+D14+G14+J14,2) -> 5455.11 | W14: =ROUND(C14+D14+G14+K14,2) -> 6436.92
A15: 01.06.2008 | B15: 5 | C15: =ROUND([2]Лист1!F62,2) -> 1752.31 | D15: =D14 -> 4.81 | E15: =E14 -> 1018.54 | F15: =F14 -> 343.8 | G15: =G14 -> 343.8 | H15: =H14 -> 3205.78 | I15: =I14 -> 3558 | J15: =J14 -> 3701.84 | K15: =K14 -> 4683.65 | L15: =ROUND(C15+D15+E15+H15,2) -> 5981.44 | M15: =ROUND(C15+D15+E15+I15,2) -> 6333.66 | N15: =ROUND(C15+D15+E15+J15,2) -> 6477.5 | O15: =ROUND(C15+D15+E15+K15,2) -> 7459.31 | P15: =ROUND(C15+D15+F15+H15,2) -> 5306.7 | Q15: =ROUND(C15+D15+F15+I15,2) -> 5658.92 | R15: =ROUND(C15+D15+F15+J15,2) -> 5802.76 | S15: =ROUND(C15+D15+F15+K15,2) -> 6784.57 | T15: =ROUND(C15+D15+G15+H15,2) -> 5306.7 | U15: =ROUND(C15+D15+G15+I15,2) -> 5658.92 | V15: =ROUND(C15+D15+G15+J15,2) -> 5802.76 | W15: =ROUND(C15+D15+G15+K15,2) -> 6784.57
A16: 01.06.2008 | B16: 6 | C16: =ROUND([2]Лист1!F63,2) -> 1819.69 | D16: =D15 -> 4.81 | E16: =E15 -> 1018.54 | F16: =F15 -> 343.8 | G16: =G15 -> 343.8 | H16: =H15 -> 3205.78 | I16: =I15 -> 3558 | J16: =J15 -> 3701.84 | K16: =K15 -> 4683.65 | L16: =ROUND(C16+D16+E16+H16,2) -> 6048.82 | M16: =ROUND(C16+D16+E16+I16,2) -> 6401.04 | N16: =ROUND(C16+D16+E16+J16,2) -> 6544.88 | O16: =ROUND(C16+D16+E16+K16,2) -> 7526.69 | P16: =ROUND(C16+D16+F16+H16,2) -> 5374.08 | Q16: =ROUND(C16+D16+F16+I16,2) -> 5726.3 | R16: =ROUND(C16+D16+F16+J16,2) -> 5870.14 | S16: =ROUND(C16+D16+F16+K16,2) -> 6851.95 | T16: =ROUND(C16+D16+G16+H16,2) -> 5374.08 | U16: =ROUND(C16+D16+G16+I16,2) -> 5726.3 | V16: =ROUND(C16+D16+G16+J16,2) -> 5870.14 | W16: =ROUND(C16+D16+G16+K16,2) -> 6851.95
A17: 01.06.2008 | B17: 7 | C17: =ROUND([2]Лист1!F64,2) -> 2162.97 | D17: =D16 -> 4.81 | E17: =E16 -> 1018.54 | F17: =F16 -> 343.8 | G17: =G16 -> 343.8 | H17: =H16 -> 3205.78 | I17: =I16 -> 3558 | J17: =J16 -> 3701.84 | K17: =K16 -> 4683.65 | L17: =ROUND(C17+D17+E17+H17,2) -> 6392.1 | M17: =ROUND(C17+D17+E17+I17,2) -> 6744.32 | N17: =ROUND(C17+D17+E17+J17,2) -> 6888.16 | O17: =ROUND(C17+D17+E17+K17,2) -> 7869.97 | P17: =ROUND(C17+D17+F17+H17,2) -> 5717.36 | Q17: =ROUND(C17+D17+F17+I17,2) -> 6069.58 | R17: =ROUND(C17+D17+F17+J17,2) -> 6213.42 | S17: =ROUND(C17+D17+F17+K17,2) -> 7195.23 | T17: =ROUND(C17+D17+G17+H17,2) -> 5717.36 | U17: =ROUND(C17+D17+G17+I17,2) -> 6069.58 | V17: =ROUND(C17+D17+G17+J17,2) -> 6213.42 | W17: =ROUND(C17+D17+G17+K17,2) -> 7195.23
A18: 01.06.2008 | B18: 8 | C18: =ROUND([2]Лист1!F65,2) -> 2386.16 | D18: =D17 -> 4.81 | E18: =E17 -> 1018.54 | F18: =F17 -> 343.8 | G18: =G17 -> 343.8 | H18: =H17 -> 3205.78 | I18: =I17 -> 3558 | J18: =J17 -> 3701.84 | K18: =K17 -> 4683.65 | L18: =ROUND(C18+D18+E18+H18,2) -> 6615.29 | M18: =ROUND(C18+D18+E18+I18,2) -> 6967.51 | N18: =ROUND(C18+D18+E18+J18,2) -> 7111.35 | O18: =ROUND(C18+D18+E18+K18,2) -> 8093.16 | P18: =ROUND(C18+D18+F18+H18,2) -> 5940.55 | Q18: =ROUND(C18+D18+F18+I18,2) -> 6292.77 | R18: =ROUND(C18+D18+F18+J18,2) -> 6436.61 | S18: =ROUND(C18+D18+F18+K18,2) -> 7418.42 | T18: =ROUND(C18+D18+G18+H18,2) -> 5940.55 | U18: =ROUND(C18+D18+G18+I18,2) -> 6292.77 | V18: =ROUND(C18+D18+G18+J18,2) -> 6436.61 | W18: =ROUND(C18+D18+G18+K18,2) -> 7418.42
A19: 01.06.2008 | B19: 9 | C19: =ROUND([2]Лист1!F66,2) -> 2414.78 | D19: =D18 -> 4.81 | E19: =E18 -> 1018.54 | F19: =F18 -> 343.8 | G19: =G18 -> 343.8 | H19: =H18 -> 3205.78 | I19: =I18 -> 3558 | J19: =J18 -> 3701.84 | K19: =K18 -> 4683.65 | L19: =ROUND(C19+D19+E19+H19,2) -> 6643.91 | M19: =ROUND(C19+D19+E19+I19,2) -> 6996.13 | N19: =ROUND(C19+D19+E19+J19,2) -> 7139.97 | O19: =ROUND(C19+D19+E19+K19,2) -> 8121.78 | P19: =ROUND(C19+D19+F19+H19,2) -> 5969.17 | Q19: =ROUND(C19+D19+F19+I19,2) -> 6321.39 | R19: =ROUND(C19+D19+F19+J19,2) -> 6465.23 | S19: =ROUND(C19+D19+F19+K19,2) -> 7447.04 | T19: =ROUND(C19+D19+G19+H19,2) -> 5969.17 | U19: =ROUND(C19+D19+G19+I19,2) -> 6321.39 | V19: =ROUND(C19+D19+G19+J19,2) -> 6465.23 | W19: =ROUND(C19+D19+G19+K19,2) -> 7447.04
A20: 01.06.2008 | B20: 10 | C20: =ROUND([2]Лист1!F67,2) -> 2388.04 | D20: =D19 -> 4.81 | E20: =E19 -> 1018.54 | F20: =F19 -> 343.8 | G20: =G19 -> 343.8 | H20: =H19 -> 3205.78 | I20: =I19 -> 3558 | J20: =J19 -> 3701.84 | K20: =K19 -> 4683.65 | L20: =ROUND(C20+D20+E20+H20,2) -> 6617.17 | M20: =ROUND(C20+D20+E20+I20,2) -> 6969.39 | N20: =ROUND(C20+D20+E20+J20,2) -> 7113.23 | O20: =ROUND(C20+D20+E20+K20,2) -> 8095.04 | P20: =ROUND(C20+D20+F20+H20,2) -> 5942.43 | Q20: =ROUND(C20+D20+F20+I20,2) -> 6294.65 | R20: =ROUND(C20+D20+F20+J20,2) -> 6438.49 | S20: =ROUND(C20+D20+F20+K20,2) -> 7420.3 | T20: =ROUND(C20+D20+G20+H20,2) -> 5942.43 | U20: =ROUND(C20+D20+G20+I20,2) -> 6294.65 | V20: =ROUND(C20+D20+G20+J20,2) -> 6438.49 | W20: =ROUND(C20+D20+G20+K20,2) -> 7420.3
A21: 01.06.2008 | B21: 11 | C21: =ROUND([2]Лист1!F68,2) -> 2332.67 | D21: =D20 -> 4.81 | E21: =E20 -> 1018.54 | F21: =F20 -> 343.8 | G21: =G20 -> 343.8 | H21: =H20 -> 3205.78 | I21: =I20 -> 3558 | J21: =J20 -> 3701.84 | K21: =K20 -> 4683.65 | L21: =ROUND(C21+D21+E21+H21,2) -> 6561.8 | M21: =ROUND(C21+D21+E21+I21,2) -> 6914.02 | N21: =ROUND(C21+D21+E21+J21,2) -> 7057.86 | O21: =ROUND(C21+D21+E21+K21,2) -> 8039.67 | P21: =ROUND(C21+D21+F21+H21,2) -> 5887.06 | Q21: =ROUND(C21+D21+F21+I21,2) -> 6239.28 | R21: =ROUND(C21+D21+F21+J21,2) -> 6383.12 | S21: =ROUND(C21+D21+F21+K21,2) -> 7364.93 | T21: =ROUND(C21+D21+G21+H21,2) -> 5887.06 | U21: =ROUND(C21+D21+G21+I21,2) -> 6239.28 | V21: =ROUND(C21+D21+G21+J21,2) -> 6383.12 | W21: =ROUND(C21+D21+G21+K21,2) -> 7364.93
A22: 01.06.2008 | B22: 12 | C22: =ROUND([2]Лист1!F69,2) -> 2313.23 | D22: =D21 -> 4.81 | E22: =E21 -> 1018.54 | F22: =F21 -> 343.8 | G22: =G21 -> 343.8 | H22: =H21 -> 3205.78 | I22: =I21 -> 3558 | J22: =J21 -> 3701.84 | K22: =K21 -> 4683.65 | L22: =ROUND(C22+D22+E22+H22,2) -> 6542.36 | M22: =ROUND(C22+D22+E22+I22,2) -> 6894.58 | N22: =ROUND(C22+D22+E22+J22,2) -> 7038.42 | O22: =ROUND(C22+D22+E22+K22,2) -> 8020.23 | P22: =ROUND(C22+D22+F22+H22,2) -> 5867.62 | Q22: =ROUND(C22+D22+F22+I22,2) -> 6219.84 | R22: =ROUND(C22+D22+F22+J22,2) -> 6363.68 | S22: =ROUND(C22+D22+F22+K22,2) -> 7345.49 | T22: =ROUND(C22+D22+G22+H22,2) -> 5867.62 | U22: =ROUND(C22+D22+G22+I22,2) -> 6219.84 | V22: =ROUND(C22+D22+G22+J22,2) -> 6363.68 | W22: =ROUND(C22+D22+G22+K22,2) -> 7345.49
... A33: 01.06.2008 | B33: 23 | C33: =ROUND([2]Лист1!F80,2) -> 1557.9 | D33: =D32 -> 4.81 | E33: =E32 -> 1018.54 | F33: =F32 -> 343.8 | G33: =G32 -> 343.8 | H33: =H32 -> 3205.78 | I33: =I32 -> 3558 | J33: =J32 -> 3701.84 | K33: =K32 -> 4683.65 | L33: =ROUND(C33+D33+E33+H33,2) -> 5787.03 | M33: =ROUND(C33+D33+E33+I33,2) -> 6139.25 | N33: =ROUND(C33+D33+E33+J33,2) -> 6283.09 | O33: =ROUND(C33+D33+E33+K33,2) -> 7264.9 | P33: =ROUND(C33+D33+F33+H33,2) -> 5112.29 | Q33: =ROUND(C33+D33+F33+I33,2) -> 5464.51 | R33: =ROUND(C33+D33+F33+J33,2) -> 5608.35 | S33: =ROUND(C33+D33+F33+K33,2) -> 6590.16 | T33: =ROUND(C33+D33+G33+H33,2) -> 5112.29 | U33: =ROUND(C33+D33+G33+I33,2) -> 5464.51 | V33: =ROUND(C33+D33+G33+J33,2) -> 5608.35 | W33: =ROUND(C33+D33+G33+K33,2) -> 6590.16
A34: 45598 | B34: 0 | C34: =ROUND([2]Лист1!F81,2) -> 1267.68 | D34: =D33 -> 4.81 | E34: =E33 -> 1018.54 | F34: =F33 -> 343.8 | G34: =G33 -> 343.8 | H34: =H33 -> 3205.78 | I34: =I33 -> 3558 | J34: =J33 -> 3701.84 | K34: =K33 -> 4683.65 | L34: =ROUND(C34+D34+E34+H34,2) -> 5496.81 | M34: =ROUND(C34+D34+E34+I34,2) -> 5849.03 | N34: =ROUND(C34+D34+E34+J34,2) -> 5992.87 | O34: =ROUND(C34+D34+E34+K34,2) -> 6974.68 | P34: =ROUND(C34+D34+F34+H34,2) -> 4822.07 | Q34: =ROUND(C34+D34+F34+I34,2) -> 5174.29 | R34: =ROUND(C34+D34+F34+J34,2) -> 5318.13 | S34: =ROUND(C34+D34+F34+K34,2) -> 6299.94 | T34: =ROUND(C34+D34+G34+H34,2) -> 4822.07 | U34: =ROUND(C34+D34+G34+I34,2) -> 5174.29 | V34: =ROUND(C34+D34+G34+J34,2) -> 5318.13 | W34: =ROUND(C34+D34+G34+K34,2) -> 6299.94
A35: 01.06.2008 | B35: 1 | C35: =ROUND([2]Лист1!F82,2) -> 1185.71 | D35: =D34 -> 4.81 | E35: =E34 -> 1018.54 | F35: =F34 -> 343.8 | G35: =G34 -> 343.8 | H35: =H34 -> 3205.78 | I35: =I34 -> 3558 | J35: =J34 -> 3701.84 | K35: =K34 -> 4683.65 | L35: =ROUND(C35+D35+E35+H35,2) -> 5414.84 | M35: =ROUND(C35+D35+E35+I35,2) -> 5767.06 | N35: =ROUND(C35+D35+E35+J35,2) -> 5910.9 | O35: =ROUND(C35+D35+E35+K35,2) -> 6892.71 | P35: =ROUND(C35+D35+F35+H35,2) -> 4740.1 | Q35: =ROUND(C35+D35+F35+I35,2) -> 5092.32 | R35: =ROUND(C35+D35+F35+J35,2) -> 5236.16 | S35: =ROUND(C35+D35+F35+K35,2) -> 6217.97 | T35: =ROUND(C35+D35+G35+H35,2) -> 4740.1 | U35: =ROUND(C35+D35+G35+I35,2) -> 5092.32 | V35: =ROUND(C35+D35+G35+J35,2) -> 5236.16 | W35: =ROUND(C35+D35+G35+K35,2) -> 6217.97
A36: 01.06.2008 | B36: 2 | C36: =ROUND([2]Лист1!F83,2) -> 1137.43 | D36: =D35 -> 4.81 | E36: =E35 -> 1018.54 | F36: =F35 -> 343.8 | G36: =G35 -> 343.8 | H36: =H35 -> 3205.78 | I36: =I35 -> 3558 | J36: =J35 -> 3701.84 | K36: =K35 -> 4683.65 | L36: =ROUND(C36+D36+E36+H36,2) -> 5366.56 | M36: =ROUND(C36+D36+E36+I36,2) -> 5718.78 | N36: =ROUND(C36+D36+E36+J36,2) -> 5862.62 | O36: =ROUND(C36+D36+E36+K36,2) -> 6844.43 | P36: =ROUND(C36+D36+F36+H36,2) -> 4691.82 | Q36: =ROUND(C36+D36+F36+I36,2) -> 5044.04 | R36: =ROUND(C36+D36+F36+J36,2) -> 5187.88 | S36: =ROUND(C36+D36+F36+K36,2) -> 6169.69 | T36: =ROUND(C36+D36+G36+H36,2) -> 4691.82 | U36: =ROUND(C36+D36+G36+I36,2) -> 5044.04 | V36: =ROUND(C36+D36+G36+J36,2) -> 5187.88 | W36: =ROUND(C36+D36+G36+K36,2) -> 6169.69
A37: 01.06.2008 | B37: 3 | C37: =ROUND([2]Лист1!F84,2) -> 1096.54 | D37: =D36 -> 4.81 | E37: =E36 -> 1018.54 | F37: =F36 -> 343.8 | G37: =G36 -> 343.8 | H37: =H36 -> 3205.78 | I37: =I36 -> 3558 | J37: =J36 -> 3701.84 | K37: =K36 -> 4683.65 | L37: =ROUND(C37+D37+E37+H37,2) -> 5325.67 | M37: =ROUND(C37+D37+E37+I37,2) -> 5677.89 | N37: =ROUND(C37+D37+E37+J37,2) -> 5821.73 | O37: =ROUND(C37+D37+E37+K37,2) -> 6803.54 | P37: =ROUND(C37+D37+F37+H37,2) -> 4650.93 | Q37: =ROUND(C37+D37+F37+I37,2) -> 5003.15 | R37: =ROUND(C37+D37+F37+J37,2) -> 5146.99 | S37: =ROUND(C37+D37+F37+K37,2) -> 6128.8 | T37: =ROUND(C37+D37+G37+H37,2) -> 4650.93 | U37: =ROUND(C37+D37+G37+I37,2) -> 5003.15 | V37: =ROUND(C37+D37+G37+J37,2) -> 5146.99 | W37: =ROUND(C37+D37+G37+K37,2) -> 6128.8
A38: 01.06.2008 | B38: 4 | C38: =ROUND([2]Лист1!F85,2) -> 1122.85 | D38: =D37 -> 4.81 | E38: =E37 -> 1018.54 | F38: =F37 -> 343.8 | G38: =G37 -> 343.8 | H38: =H37 -> 3205.78 | I38: =I37 -> 3558 | J38: =J37 -> 3701.84 | K38: =K37 -> 4683.65 | L38: =ROUND(C38+D38+E38+H38,2) -> 5351.98 | M38: =ROUND(C38+D38+E38+I38,2) -> 5704.2 | N38: =ROUND(C38+D38+E38+J38,2) -> 5848.04 | O38: =ROUND(C38+D38+E38+K38,2) -> 6829.85 | P38: =ROUND(C38+D38+F38+H38,2) -> 4677.24 | Q38: =ROUND(C38+D38+F38+I38,2) -> 5029.46 | R38: =ROUND(C38+D38+F38+J38,2) -> 5173.3 | S38: =ROUND(C38+D38+F38+K38,2) -> 6155.11 | T38: =ROUND(C38+D38+G38+H38,2) -> 4677.24 | U38: =ROUND(C38+D38+G38+I38,2) -> 5029.46 | V38: =ROUND(C38+D38+G38+J38,2) -> 5173.3 | W38: =ROUND(C38+D38+G38+K38,2) -> 6155.11
A39: 01.06.2008 | B39: 5 | C39: =ROUND([2]Лист1!F86,2) -> 1304.09 | D39: =D38 -> 4.81 | E39: =E38 -> 1018.54 | F39: =F38 -> 343.8 | G39: =G38 -> 343.8 | H39: =H38 -> 3205.78 | I39: =I38 -> 3558 | J39: =J38 -> 3701.84 | K39: =K38 -> 4683.65 | L39: =ROUND(C39+D39+E39+H39,2) -> 5533.22 | M39: =ROUND(C39+D39+E39+I39,2) -> 5885.44 | N39: =ROUND(C39+D39+E39+J39,2) -> 6029.28 | O39: =ROUND(C39+D39+E39+K39,2) -> 7011.09 | P39: =ROUND(C39+D39+F39+H39,2) -> 4858.48 | Q39: =ROUND(C39+D39+F39+I39,2) -> 5210.7 | R39: =ROUND(C39+D39+F39+J39,2) -> 5354.54 | S39: =ROUND(C39+D39+F39+K39,2) -> 6336.35 | T39: =ROUND(C39+D39+G39+H39,2) -> 4858.48 | U39: =ROUND(C39+D39+G39+I39,2) -> 5210.7 | V39: =ROUND(C39+D39+G39+J39,2) -> 5354.54 | W39: =ROUND(C39+D39+G39+K39,2) -> 6336.35
A40: 01.06.2008 | B40: 6 | C40: =ROUND([2]Лист1!F87,2) -> 1466.25 | D40: =D39 -> 4.81 | E40: =E39 -> 1018.54 | F40: =F39 -> 343.8 | G40: =G39 -> 343.8 | H40: =H39 -> 3205.78 | I40: =I39 -> 3558 | J40: =J39 -> 3701.84 | K40: =K39 -> 4683.65 | L40: =ROUND(C40+D40+E40+H40,2) -> 5695.38 | M40: =ROUND(C40+D40+E40+I40,2) -> 6047.6 | N40: =ROUND(C40+D40+E40+J40,2) -> 6191.44 | O40: =ROUND(C40+D40+E40+K40,2) -> 7173.25 | P40: =ROUND(C40+D40+F40+H40,2) -> 5020.64 | Q40: =ROUND(C40+D40+F40+I40,2) -> 5372.86 | R40: =ROUND(C40+D40+F40+J40,2) -> 5516.7 | S40: =ROUND(C40+D40+F40+K40,2) -> 6498.51 | T40: =ROUND(C40+D40+G40+H40,2) -> 5020.64 | U40: =ROUND(C40+D40+G40+I40,2) -> 5372.86 | V40: =ROUND(C40+D40+G40+J40,2) -> 5516.7 | W40: =ROUND(C40+D40+G40+K40,2) -> 6498.51
A41: 01.06.2008 | B41: 7 | C41: =ROUND([2]Лист1!F88,2) -> 1738.65 | D41: =D40 -> 4.81 | E41: =E40 -> 1018.54 | F41: =F40 -> 343.8 | G41: =G40 -> 343.8 | H41: =H40 -> 3205.78 | I41: =I40 -> 3558 | J41: =J40 -> 3701.84 | K41: =K40 -> 4683.65 | L41: =ROUND(C41+D41+E41+H41,2) -> 5967.78 | M41: =ROUND(C41+D41+E41+I41,2) -> 6320 | N41: =ROUND(C41+D41+E41+J41,2) -> 6463.84 | O41: =ROUND(C41+D41+E41+K41,2) -> 7445.65 | P41: =ROUND(C41+D41+F41+H41,2) -> 5293.04 | Q41: =ROUND(C41+D41+F41+I41,2) -> 5645.26 | R41: =ROUND(C41+D41+F41+J41,2) -> 5789.1 | S41: =ROUND(C41+D41+F41+K41,2) -> 6770.91 | T41: =ROUND(C41+D41+G41+H41,2) -> 5293.04 | U41: =ROUND(C41+D41+G41+I41,2) -> 5645.26 | V41: =ROUND(C41+D41+G41+J41,2) -> 5789.1 | W41: =ROUND(C41+D41+G41+K41,2) -> 6770.91
A42: 01.06.2008 | B42: 8 | C42: =ROUND([2]Лист1!F89,2) -> 2012.35 | D42: =D41 -> 4.81 | E42: =E41 -> 1018.54 | F42: =F41 -> 343.8 | G42: =G41 -> 343.8 | H42: =H41 -> 3205.78 | I42: =I41 -> 3558 | J42: =J41 -> 3701.84 | K42: =K41 -> 4683.65 | L42: =ROUND(C42+D42+E42+H42,2) -> 6241.48 | M42: =ROUND(C42+D42+E42+I42,2) -> 6593.7 | N42: =ROUND(C42+D42+E42+J42,2) -> 6737.54 | O42: =ROUND(C42+D42+E42+K42,2) -> 7719.35 | P42: =ROUND(C42+D42+F42+H42,2) -> 5566.74 | Q42: =ROUND(C42+D42+F42+I42,2) -> 5918.96 | R42: =ROUND(C42+D42+F42+J42,2) -> 6062.8 | S42: =ROUND(C42+D42+F42+K42,2) -> 7044.61 | T42: =ROUND(C42+D42+G42+H42,2) -> 5566.74 | U42: =ROUND(C42+D42+G42+I42,2) -> 5918.96 | V42: =ROUND(C42+D42+G42+J42,2) -> 6062.8 | W42: =ROUND(C42+D42+G42+K42,2) -> 7044.61
A43: 01.06.2008 | B43: 9 | C43: =ROUND([2]Лист1!F90,2) -> 2072.69 | D43: =D42 -> 4.81 | E43: =E42 -> 1018.54 | F43: =F42 -> 343.8 | G43: =G42 -> 343.8 | H43: =H42 -> 3205.78 | I43: =I42 -> 3558 | J43: =J42 -> 3701.84 | K43: =K42 -> 4683.65 | L43: =ROUND(C43+D43+E43+H43,2) -> 6301.82 | M43: =ROUND(C43+D43+E43+I43,2) -> 6654.04 | N43: =ROUND(C43+D43+E43+J43,2) -> 6797.88 | O43: =ROUND(C43+D43+E43+K43,2) -> 7779.69 | P43: =ROUND(C43+D43+F43+H43,2) -> 5627.08 | Q43: =ROUND(C43+D43+F43+I43,2) -> 5979.3 | R43: =ROUND(C43+D43+F43+J43,2) -> 6123.14 | S43: =ROUND(C43+D43+F43+K43,2) -> 7104.95 | T43: =ROUND(C43+D43+G43+H43,2) -> 5627.08 | U43: =ROUND(C43+D43+G43+I43,2) -> 5979.3 | V43: =ROUND(C43+D43+G43+J43,2) -> 6123.14 | W43: =ROUND(C43+D43+G43+K43,2) -> 7104.95
A44: 01.06.2008 | B44: 10 | C44: =ROUND([2]Лист1!F91,2) -> 2076.85 | D44: =D43 -> 4.81 | E44: =E43 -> 1018.54 | F44: =F43 -> 343.8 | G44: =G43 -> 343.8 | H44: =H43 -> 3205.78 | I44: =I43 -> 3558 | J44: =J43 -> 3701.84 | K44: =K43 -> 4683.65 | L44: =ROUND(C44+D44+E44+H44,2) -> 6305.98 | M44: =ROUND(C44+D44+E44+I44,2) -> 6658.2 | N44: =ROUND(C44+D44+E44+J44,2) -> 6802.04 | O44: =ROUND(C44+D44+E44+K44,2) -> 7783.85 | P44: =ROUND(C44+D44+F44+H44,2) -> 5631.24 | Q44: =ROUND(C44+D44+F44+I44,2) -> 5983.46 | R44: =ROUND(C44+D44+F44+J44,2) -> 6127.3 | S44: =ROUND(C44+D44+F44+K44,2) -> 7109.11 | T44: =ROUND(C44+D44+G44+H44,2) -> 5631.24 | U44: =ROUND(C44+D44+G44+I44,2) -> 5983.46 | V44: =ROUND(C44+D44+G44+J44,2) -> 6127.3 | W44: =ROUND(C44+D44+G44+K44,2) -> 7109.11
A45: 01.06.2008 | B45: 11 | C45: =ROUND([2]Лист1!F92,2) -> 2070.02 | D45: =D44 -> 4.81 | E45: =E44 -> 1018.54 | F45: =F44 -> 343.8 | G45: =G44 -> 343.8 | H45: =H44 -> 3205.78 | I45: =I44 -> 3558 | J45: =J44 -> 3701.84 | K45: =K44 -> 4683.65 | L45: =ROUND(C45+D45+E45+H45,2) -> 6299.15 | M45: =ROUND(C45+D45+E45+I45,2) -> 6651.37 | N45: =ROUND(C45+D45+E45+J45,2) -> 6795.21 | O45: =ROUND(C45+D45+E45+K45,2) -> 7777.02 | P45: =ROUND(C45+D45+F45+H45,2) -> 5624.41 | Q45: =ROUND(C45+D45+F45+I45,2) -> 5976.63 | R45: =ROUND(C45+D45+F45+J45,2) -> 6120.47 | S45: =ROUND(C45+D45+F45+K45,2) -> 7102.28 | T45: =ROUND(C45+D45+G45+H45,2) -> 5624.41 | U45: =ROUND(C45+D45+G45+I45,2) -> 5976.63 | V45: =ROUND(C45+D45+G45+J45,2) -> 6120.47 | W45: =ROUND(C45+D45+G45+K45,2) -> 7102.28
A46: 01.06.2008 | B46: 12 | C46: =ROUND([2]Лист1!F93,2) -> 2063.01 | D46: =D45 -> 4.81 | E46: =E45 -> 1018.54 | F46: =F45 -> 343.8 | G46: =G45 -> 343.8 | H46: =H45 -> 3205.78 | I46: =I45 -> 3558 | J46: =J45 -> 3701.84 | K46: =K45 -> 4683.65 | L46: =ROUND(C46+D46+E46+H46,2) -> 6292.14 | M46: =ROUND(C46+D46+E46+I46,2) -> 6644.36 | N46: =ROUND(C46+D46+E46+J46,2) -> 6788.2 | O46: =ROUND(C46+D46+E46+K46,2) -> 7770.01 | P46: =ROUND(C46+D46+F46+H46,2) -> 5617.4 | Q46: =ROUND(C46+D46+F46+I46,2) -> 5969.62 | R46: =ROUND(C46+D46+F46+J46,2) -> 6113.46 | S46: =ROUND(C46+D46+F46+K46,2) -> 7095.27 | T46: =ROUND(C46+D46+G46+H46,2) -> 5617.4 | U46: =ROUND(C46+D46+G46+I46,2) -> 5969.62 | V46: =ROUND(C46+D46+G46+J46,2) -> 6113.46 | W46: =ROUND(C46+D46+G46+K46,2) -> 7095.27
... A57: 01.06.2008 | B57: 23 | C57: =ROUND([2]Лист1!F104,2) -> 1576.39 | D57: =D56 -> 4.81 | E57: =E56 -> 1018.54 | F57: =F56 -> 343.8 | G57: =G56 -> 343.8 | H57: =H56 -> 3205.78 | I57: =I56 -> 3558 | J57: =J56 -> 3701.84 | K57: =K56 -> 4683.65 | L57: =ROUND(C57+D57+E57+H57,2) -> 5805.52 | M57: =ROUND(C57+D57+E57+I57,2) -> 6157.74 | N57: =ROUND(C57+D57+E57+J57,2) -> 6301.58 | O57: =ROUND(C57+D57+E57+K57,2) -> 7283.39 | P57: =ROUND(C57+D57+F57+H57,2) -> 5130.78 | Q57: =ROUND(C57+D57+F57+I57,2) -> 5483 | R57: =ROUND(C57+D57+F57+J57,2) -> 5626.84 | S57: =ROUND(C57+D57+F57+K57,2) -> 6608.65 | T57: =ROUND(C57+D57+G57+H57,2) -> 5130.78 | U57: =ROUND(C57+D57+G57+I57,2) -> 5483 | V57: =ROUND(C57+D57+G57+J57,2) -> 5626.84 | W57: =ROUND(C57+D57+G57+K57,2) -> 6608.65
A58: 45599 | B58: 0 | C58: =ROUND([2]Лист1!F105,2) -> 1496.57 | D58: =D57 -> 4.81 | E58: =E57 -> 1018.54 | F58: =F57 -> 343.8 | G58: =G57 -> 343.8 | H58: =H57 -> 3205.78 | I58: =I57 -> 3558 | J58: =J57 -> 3701.84 | K58: =K57 -> 4683.65 | L58: =ROUND(C58+D58+E58+H58,2) -> 5725.7 | M58: =ROUND(C58+D58+E58+I58,2) -> 6077.92 | N58: =ROUND(C58+D58+E58+J58,2) -> 6221.76 | O58: =ROUND(C58+D58+E58+K58,2) -> 7203.57 | P58: =ROUND(C58+D58+F58+H58,2) -> 5050.96 | Q58: =ROUND(C58+D58+F58+I58,2) -> 5403.18 | R58: =ROUND(C58+D58+F58+J58,2) -> 5547.02 | S58: =ROUND(C58+D58+F58+K58,2) -> 6528.83 | T58: =ROUND(C58+D58+G58+H58,2) -> 5050.96 | U58: =ROUND(C58+D58+G58+I58,2) -> 5403.18 | V58: =ROUND(C58+D58+G58+J58,2) -> 5547.02 | W58: =ROUND(C58+D58+G58+K58,2) -> 6528.83
A59: 01.06.2008 | B59: 1 | C59: =ROUND([2]Лист1!F106,2) -> 1399.37 | D59: =D58 -> 4.81 | E59: =E58 -> 1018.54 | F59: =F58 -> 343.8 | G59: =G58 -> 343.8 | H59: =H58 -> 3205.78 | I59: =I58 -> 3558 | J59: =J58 -> 3701.84 | K59: =K58 -> 4683.65 | L59: =ROUND(C59+D59+E59+H59,2) -> 5628.5 | M59: =ROUND(C59+D59+E59+I59,2) -> 5980.72 | N59: =ROUND(C59+D59+E59+J59,2) -> 6124.56 | O59: =ROUND(C59+D59+E59+K59,2) -> 7106.37 | P59: =ROUND(C59+D59+F59+H59,2) -> 4953.76 | Q59: =ROUND(C59+D59+F59+I59,2) -> 5305.98 | R59: =ROUND(C59+D59+F59+J59,2) -> 5449.82 | S59: =ROUND(C59+D59+F59+K59,2) -> 6431.63 | T59: =ROUND(C59+D59+G59+H59,2) -> 4953.76 | U59: =ROUND(C59+D59+G59+I59,2) -> 5305.98 | V59: =ROUND(C59+D59+G59+J59,2) -> 5449.82 | W59: =ROUND(C59+D59+G59+K59,2) -> 6431.63
A60: 01.06.2008 | B60: 2 | C60: =ROUND([2]Лист1!F107,2) -> 1403.84 | D60: =D59 -> 4.81 | E60: =E59 -> 1018.54 | F60: =F59 -> 343.8 | G60: =G59 -> 343.8 | H60: =H59 -> 3205.78 | I60: =I59 -> 3558 | J60: =J59 -> 3701.84 | K60: =K59 -> 4683.65 | L60: =ROUND(C60+D60+E60+H60,2) -> 5632.97 | M60: =ROUND(C60+D60+E60+I60,2) -> 5985.19 | N60: =ROUND(C60+D60+E60+J60,2) -> 6129.03 | O60: =ROUND(C60+D60+E60+K60,2) -> 7110.84 | P60: =ROUND(C60+D60+F60+H60,2) -> 4958.23 | Q60: =ROUND(C60+D60+F60+I60,2) -> 5310.45 | R60: =ROUND(C60+D60+F60+J60,2) -> 5454.29 | S60: =ROUND(C60+D60+F60+K60,2) -> 6436.1 | T60: =ROUND(C60+D60+G60+H60,2) -> 4958.23 | U60: =ROUND(C60+D60+G60+I60,2) -> 5310.45 | V60: =ROUND(C60+D60+G60+J60,2) -> 5454.29 | W60: =ROUND(C60+D60+G60+K60,2) -> 6436.1
A61: 01.06.2008 | B61: 3 | C61: =ROUND([2]Лист1!F108,2) -> 1328.13 | D61: =D60 -> 4.81 | E61: =E60 -> 1018.54 | F61: =F60 -> 343.8 | G61: =G60 -> 343.8 | H61: =H60 -> 3205.78 | I61: =I60 -> 3558 | J61: =J60 -> 3701.84 | K61: =K60 -> 4683.65 | L61: =ROUND(C61+D61+E61+H61,2) -> 5557.26 | M61: =ROUND(C61+D61+E61+I61,2) -> 5909.48 | N61: =ROUND(C61+D61+E61+J61,2) -> 6053.32 | O61: =ROUND(C61+D61+E61+K61,2) -> 7035.13 | P61: =ROUND(C61+D61+F61+H61,2) -> 4882.52 | Q61: =ROUND(C61+D61+F61+I61,2) -> 5234.74 | R61: =ROUND(C61+D61+F61+J61,2) -> 5378.58 | S61: =ROUND(C61+D61+F61+K61,2) -> 6360.39 | T61: =ROUND(C61+D61+G61+H61,2) -> 4882.52 | U61: =ROUND(C61+D61+G61+I61,2) -> 5234.74 | V61: =ROUND(C61+D61+G61+J61,2) -> 5378.58 | W61: =ROUND(C61+D61+G61+K61,2) -> 6360.39
A62: 01.06.2008 | B62: 4 | C62: =ROUND([2]Лист1!F109,2) -> 1397.44 | D62: =D61 -> 4.81 | E62: =E61 -> 1018.54 | F62: =F61 -> 343.8 | G62: =G61 -> 343.8 | H62: =H61 -> 3205.78 | I62: =I61 -> 3558 | J62: =J61 -> 3701.84 | K62: =K61 -> 4683.65 | L62: =ROUND(C62+D62+E62+H62,2) -> 5626.57 | M62: =ROUND(C62+D62+E62+I62,2) -> 5978.79 | N62: =ROUND(C62+D62+E62+J62,2) -> 6122.63 | O62: =ROUND(C62+D62+E62+K62,2) -> 7104.44 | P62: =ROUND(C62+D62+F62+H62,2) -> 4951.83 | Q62: =ROUND(C62+D62+F62+I62,2) -> 5304.05 | R62: =ROUND(C62+D62+F62+J62,2) -> 5447.89 | S62: =ROUND(C62+D62+F62+K62,2) -> 6429.7 | T62: =ROUND(C62+D62+G62+H62,2) -> 4951.83 | U62: =ROUND(C62+D62+G62+I62,2) -> 5304.05 | V62: =ROUND(C62+D62+G62+J62,2) -> 5447.89 | W62: =ROUND(C62+D62+G62+K62,2) -> 6429.7
...

Sheet четвертая ц.к.
A1: IV. Четвертая ценовая категория (для объемов покупки электрической энергии (мощности), в отношении которых в расчетном периоде осуществляется почасовой учет, и стоимость услуг по передаче электрической энергии определяется по цене услуг в двухставочном исчислении)
A4: 1. Ставка за электрическую энергию предельного уровня нерегулируемой цены без НДС
A5: факт | Z5: без НДС
A6: Дата | B6: Час | C6: Нерегулируемая цена на ОРЭ, определяемая КО на РСВ И БР, руб/МВт*ч | D6: Размер платы за регулируемые услуги в одноставочном выражении, руб/МВт*ч | H6: Ставка на оплату технологического расхода (потерь) в сетях двухставочного тарифа на услуги по передаче, утвержденная Постановлением РСТ РО №790 от 06.12.2023г., руб/МВт*ч | M6: Ставка, применяемая к фактическому почасовому объему покупки электрической энергии, руб/МВт*ч
D7: Плата за иные услуги, руб/МВт*ч | E7: ='третья ц.к.'!E7 -> Сбытовая надбавка ПАО "ТНС энерго Ростов-на-Дону", утв. Пост.РСТ РО №755 от 30.11.2023г., Пост.РСТ РО №834 от 19.12.2023г., руб/МВт*ч
M8: до 670 кВт | R8: 670 кВт-10 МВт | W8: свыше 10 МВт
E9: до 670 | F9: 670-10000 | G9: свыше 10МВт | H9: ВН1* | I9: ВН | J9: СН1 | K9: СН11 | L9: НН | M9: ВН1 | N9: ВН | O9: СН1 | P9: СН11 | Q9: НН | R9: ВН1 | S9: ВН | T9: СН1 | U9: СН11 | V9: НН | W9: ВН1 | X9: ВН | Y9: СН1 | Z9: СН11 | AA9: НН
A10: ='третья ц.к.'!A10:A33 -> 45597 | B10: 0 | C10: ='третья ц.к.'!C10 -> 1463.79 | D10: ='третья ц.к.'!D10 -> 4.81 | E10: ='третья ц.к.'!E10 -> 1018.54 | F10: ='третья ц.к.'!F10 -> 343.8 | G10: ='третья ц.к.'!G10 -> 343.8 | I10: 898.22 | J10: 1024.85 | K10: 665.24 | L10: 1093.33 | N10: =ROUND($C10+$D10+$E10+I10,2) -> 3385.36 | O10: =ROUND(C10+D10+E10+J10,2) -> 3511.99 | P10: =ROUND(C10+D10+E10+K10,2) -> 3152.38 | Q10: =ROUND(C10+D10+E10+L10,2) -> 3580.47 | S10: =ROUND($C10+$D10+$F10+I10,2) -> 2710.62 | T10: =ROUND(C10+D10+F10+J10,2) -> 2837.25 | U10: =ROUND(C10+D10+F10+K10,2) -> 2477.64 | V10: =ROUND(C10+D10+F10+L10,2) -> 2905.73 | X10: =ROUND($C10+$D10+$G10+I10,2) -> 2710.62 | Y10: =ROUND(C10+D10+G10+J10,2) -> 2837.25 | Z10: =ROUND(C10+D10+G10+K10,2) -> 2477.64 | AA10: =ROUND(C10+D10+G10+L10,2) -> 2905.73
