Workbook
Name ИНФРСНКП: '1_ЦК -потери'!$E$11
Name Месяц: '1_ЦК'!$I$2
Name ФСК: '4_ЦК'!$F$310
Name Цбр: '5_ЦК'!$K$302
Name Црсв: '5_ЦК'!$K$298
Name Шапка: '1_ЦК'!$A$2
Name Шапка2: '1_ЦК -потери'!$A$2

Sheet 1_ЦК
A1: Предельные уровни нерегулируемых цен на электрическую энергию (мощность), поставляемую
A2: покупателям (потребителям) АО «НЭСК» в ноябре 2022г.
A4: I. Первая ценовая категория
A5: (для объемов покупки э/э (мощности), учет которых осуществляется в целом за расчетный период)
A6: 1.1. Предельный уровень нерегулируемых цен (по договорам энергоснабжения)
A7: Наименование подгрупп потребителей, дифференцированных в зависимости от величины максимальной мощности энергопринимающих устройств | D7: Предельный уровень свободных (нерегулируемых) цен на э/э (мощность), (руб./МВт*ч без НДС) | I7: Структура нерегулируемой цены в соответствии с требованиями п.89 Основных положений функционирования розничных рынков электрической энергии, утвержденных Постановлением Правительства РФ от 04.05.2012 №442
I8: Средневзвешенная нерегулируемая цена на электрическую энергию (мощность) | J8: Тарифы на услуги по передаче электрической энергии | O8: Плата за иные услуги, оказание которых является неотъемлемой частью процесса поставки электрической энергии потребителям | P8: Cбытовая надбавка
D9: ВН | E9: ГН | F9: СН1 | G9: СН2 | H9: НН | J9: ВН | K9: ГН | L9: СН1 | M9: СН2 | N9: НН
A10: 1 | D10: 2=3+4+5+6 | I10: 3 | J10: 4 | O10: 5 | P10: 6
A11: менее 150 кВт | D11: =$I11+$J11+$O11+#REF! -> #REF! | E11: =$I11+$K11+$O11+#REF! -> #REF! | F11: =$I11+$L11+$O11+#REF! -> #REF! | G11: =$I11+$M11+$O11+#REF! -> #REF! | H11: =$I11+$N11+$O11+#REF! -> #REF! | I11: =H29 -> 1544.42 | J11: 2016.72 | K11: 0 | L11: 2644.05 | M11: 4085.56 | N11: 5446.53 | O11: 6.61 | P11: 0
A12: менее 670 кВт | D12: =$I12+$J12+$O12+P12 -> 5958.61 | E12: =$I12+$K12+$O12+#REF! -> #REF! | F12: =$I12+$L12+$O12+P12 -> 6585.94 | G12: =$I12+$M12+$O12+P12 -> 8027.45 | H12: =$I12+$N12+$O12+P12 -> 9388.42 | I12: 3151.06 | J12: 2016.72 | K12: 0 | L12: 2644.05 | M12: 4085.56 | N12: 5446.53 | O12: 6.61 | P12: 784.22
A13: от 670 кВт до 10 МВт | D13: =$I13+$J13+$O13+P13 -> 5537.69 | E13: =$I13+$K13+$O13+#REF! -> #REF! | F13: =$I13+$L13+$O13+P13 -> 6165.02 | G13: =$I13+$M13+$O13+P13 -> 7606.53 | H13: =$I13+$N13+$O13+P13 -> 8967.5 | I13: 3151.06 | J13: 2016.72 | K13: 0 | L13: 2644.05 | M13: 4085.56 | N13: 5446.53 | O13: 6.61 | P13: 363.3
A14: не менее 10 МВт | D14: =$I14+$J14+$O14+P14 -> 5435.8 | E14: =$I14+$K14+$O14+#REF! -> #REF! | F14: =$I14+$L14+$O14+P14 -> 6063.13 | G14: =$I14+$M14+$O14+P14 -> 7504.64 | H14: =$I14+$N14+$O14+P14 -> 8865.61 | I14: 3151.06 | J14: 2016.72 | K14: 0 | L14: 2644.05 | M14: 4085.56 | N14: 5446.53 | O14: 6.61 | P14: 261.41
A17: 1.2. Предельный уровень нерегулируемых цен (по договорам купли - продажи).
A18: Наименование подгрупп потребителей, дифференцированных в зависимости от величины максимальной мощности энергопринимающих устройств | D18: Предельный уровень свободных (нерегулируемых) цен на э/э (мощность), (руб./МВт*ч без НДС) | I18: Структура нерегулируемой цены в соответствии с требованиями п.89 Основных положений функционирования розничных рынков электрической энергии, утвержденных Постановлением Правительства РФ от 04.05.2012 №442
I19: Средневзвешенная нерегулируемая цена на электрическую энергию (мощность) | J19: =J8 -> Тарифы на услуги по передаче электрической энергии | O19: Плата за иные услуги, оказание которых является неотъемлемой частью процесса поставки электрической энергии потребителям | P19: =P8 -> Cбытовая надбавка
D20: ВН | E20: ГН | F20: СН1 | G20: СН2 | H20: НН | J20: ВН | K20: ГН | L20: СН1 | M20: СН2 | N20: НН
A21: 1 | D21: 2=3+4+5+6 | I21: 3 | J21: 4 | O21: 5 | P21: 6
A22: менее 150 кВт | D22: =$I22+$J22+$O22+#REF! -> #REF! | E22: =$I22+$K22+$O22+#REF! -> #REF! | F22: =$I22+$L22+$O22+#REF! -> #REF! | G22: =$I22+$M22+$O22+#REF! -> #REF! | H22: =$I22+$N22+$O22+#REF! -> #REF! | I22: =I11 -> 1544.42 | O22: =O11 -> 6.61 | P22: =P11 -> 0
A23: менее 670 кВт | D23: =$I23+$J23+$O23+P23 -> 3941.89 | E23: =$I23+$K23+$O23+#REF! -> #REF! | F23: =$I23+$L23+$O23+P23 -> 3941.89 | G23: =$I23+$M23+$O23+P23 -> 3941.89 | H23: =$I23+$N23+$O23+P23 -> 3941.89 | I23: =I12 -> 3151.06 | O23: =O12 -> 6.61 | P23: =P12 -> 784.22
A24: от 670 кВт до 10 МВт | D24: =$I24+$J24+$O24+P24 -> 3520.97 | E24: =$I24+$K24+$O24+#REF! -> #REF! | F24: =$I24+$L24+$O24+P24 -> 3520.97 | G24: =$I24+$M24+$O24+P24 -> 3520.97 | H24: =$I24+$N24+$O24+P24 -> 3520.97 | I24: =I13 -> 3151.06 | O24: =O13 -> 6.61 | P24: =P13 -> 363.3
A25: не менее 10 МВт | D25: =$I25+$J25+$O25+P25 -> 3419.08 | E25: =$I25+$K25+$O25+#REF! -> #REF! | F25: =$I25+$L25+$O25+P25 -> 3419.08 | G25: =$I25+$M25+$O25+P25 -> 3419.08 | H25: =$I25+$N25+$O25+P25 -> 3419.08 | I25: =I14 -> 3151.06 | O25: =O14 -> 6.61 | P25: =P14 -> 261.41
B29: Средневзвешенная нерегулируемая цена на электрическую энергию (мощность), используемая для расчета предельного уровня нерегулируемых цен для первой ценовой категории (без НДС) | G29: рублей/МВт·ч | H29: =ROUND(H32+H33*H34,2)+H61 -> 1544.42
B31: Составляющие расчета средневзвешенной нерегулируемой цены на электрическую энергию (мощность), используемой для расчета предельного уровня нерегулируемых цен для первой ценовой категории: | G31: Ед.изм. | H31: Величина
A32: а) | B32: средневзвешенная нергегулируемая цена на электрическую энергию на оптовом рынке | G32: рублей/МВт·ч | H32: 1544.42
A33: б) | B33: средневзвешенная нергегулируемая цена на мощность на оптовом рынке | G33: рублей/МВт | H33: 894843.36
A34: в) | B34: коэффициент оплаты мощности потребителями (покупателями), осуществляющими расчеты по первой ценовой категории | G34: 1/час | H34: 0
A35: г) | B35: объем фактического пикового потребления гарантирующего поставщика на оптовом рынке | G35: МВт | H35: 0
A36: д) | B36: величина мощности, соответствующей покупке электрической энергии гарантирующим поставщиком у производителей электрической энергии (мощности) на розничных рынках | G36: МВт | H36: 0
A37: е) | B37: сумма величин мощности, оплачиваемой на розничном рынке потребителями (покупателями), осуществляющими расчеты по второй - шестой ценовым категориям, в том числе: | G37: МВт | H37: =ROUND(H38+H39+H40+H41+H42,3) -> 0.251
B38: по второй ценовой категории | G38: МВт | H38: 0
B39: по третьей ценовой категории | G39: МВт | H39: 0.251
B40: по четвертой ценовой категории | G40: МВт | H40: 0
B41: по пятой ценовой категории | G41: МВт | H41: 0
B42: по шестой ценовой категории | G42: МВт | H42: 0
A43: ж) | B43: объем потребления мощности населением и приравненными к нему категориями потребителей | G43: МВт | H43: 0
A44: з) | B44: объем потребления электрической энергии потребителями (покупателями), осуществляющими расчеты по второй ценовой категории,в том числе: | G44: МВт∙ч | H44: =ROUND(H46+H47+H48+H50+H51,3) -> 0.754
B45: для трех зон суток | G45: МВт∙ч | H45: =ROUND(H46+H47+H48,3) -> 0
B46: по ночной зоне суток | G46: МВт∙ч | H46: 0
B47: по полупиковой зоне суток | G47: МВт∙ч | H47: 0
...

Sheet 1_ЦК -потери
A1: Предельные уровни нерегулируемых цен на электрическую энергию (мощность), приобретаемую сетевыми организациями в целях компенсации потерь
A2: у АО «НЭСК» в ноябре 2022г.
A4: I. Первая ценовая категория
A5: (для объемов покупки э/э (мощности), учет которых осуществляется в целом за расчетный период)
A7: 1. 3. Предельный уровень нерегулируемых цен (по договорам купли - продажи) для сетевых организаций, приобретающих электрическую энергию в целях компенсации потерь.
A8: Наименование показателя | B8: Предельный уровень свободных (нерегулируемых) цен на э/э (мощность), (руб./МВт*ч без НДС) | C8: Средневзвешенная нерегулируемая цена на электрическую энергию (мощность) | D8: Плата за иные услуги, оказание которых является неотъемлемой частью процесса поставки электрической энергии потребителям | E8: Cбытовая надбавка
A10: 1 | B10: 2=3+4+5 | C10: 3 | D10: 4 | E10: 5
A11: В отношении величин непревышения фактических объемов потерь электрической энергии над объемами потерь, учтенными в сводном прогнозном балансе за соответствующий расчетный период в отношении сетевой организации | B11: =C11+D11+E11 -> 3800.69 | C11: ='1_ЦК'!I13 -> 3151.06 | D11: ='1_ЦК'!O13 -> 6.61 | E11: 643.02
A12: В отношении величин превышения фактических объемов потерь электрической энергии над объемами потерь, учтенными в сводном прогнозном балансе соответствующий расчетный период в отношении сетевой организации | B12: =C12+D12+E12 -> 3520.97 | C12: =C11 -> 3151.06 | D12: =D11 -> 6.61 | E12: ='1_ЦК'!P13 -> 363.3
A14: Примечание:
A15: в соответствии с требованиями п. 96 Основных положений функционирования розничных рынков электрической энергии, утвержденных Постановлением Правительства РФ от 04.05.2012 №442 (в редакции Постановления Правительства РФ от от 30.12.2012 N 1482), при расчете предельных уровней свободных (нерегулируемых) цен на электрическую энергию (мощность) в отношении:
A16: величин непревышения фактических объемов потерь электрической энергии над объемами потерь, учтенными в сводном прогнозном балансе за соответствующий расчетный период в отношении сетевой организации, используется сбытовая надбавка гарантирующего поставщика, установленная в отношении сетевых организаций;
A17: величин превышения фактических объемов потерь электрической энергии над объемами потерь, учтенными в сводном прогнозном балансе за соответствующий расчетный период в отношении сетевой организации, используется сбытовая надбавка гарантирующего поставщика, установленная в отношении потребителей, относящихся к подгруппе группы "прочие потребители" с максимальной мощностью энергопринимающих устройств от 670 кВт до 10 МВт.

Sheet 2_ЦК
A1: Предельные уровни нерегулируемых цен на электрическую энергию (мощность), поставляемую
A2: =Шапка -> покупателям (потребителям) АО «НЭСК» в ноябре 2022г.
A4: II. Вторая ценовая категория
A5: (для объемов покупки э/э (мощности), учет которых осуществляется по зонам суток расчетного периода)
A6: 1. Предельный уровень нерегулируемых цен для трех зон суток, руб./МВт*ч без НДС
A7: 1.1. Предельный уровень нерегулируемых цен для 3 зон суток (по договорам энергоснабжения)
A8: Зоны суток | B8: Наименование подгрупп потребителей, дифференцированных в зависимости от величины максимальной мощности энергопринимающих устройств | D8: Предельный уровень свободных (нерегулируемых) цен на э/э (мощность), (руб./МВт*ч без НДС) | I8: Структура нерегулируемой цены в соответствии с требованиями п.89 Основных положений функционирования розничных рынков электрической энергии, утвержденных Постановлением Правительства РФ от 04.05.2012 №442
I9: Дифференцированная по зонам суток расчетного периода средневзвешенная нерегулируемая цена на электрическую энергию (мощность) на оптовом рынке | J9: ='1_ЦК'!J8:N8 -> Тарифы на услуги по передаче электрической энергии | O9: Плата за иные услуги, оказание которых является неотъемлемой частью процесса поставки электрической энергии потребителям | P9: ='1_ЦК'!P8:P8 -> Cбытовая надбавка
D10: ВН | E10: ГН | F10: СН1 | G10: СН2 | H10: НН | J10: ВН | K10: ГН | L10: СН1 | M10: СН2 | N10: НН
A11: 1 | D11: 2=3+4+5+6 | I11: 3 | J11: 4 | O11: 5 | P11: 6
A12: Ночь | B12: менее 150 кВт | D12: =$I12+$J12+$O12+#REF! -> #REF! | E12: =$I12+$K12+$O12+#REF! -> #REF! | F12: =$I12+$L12+$O12+#REF! -> #REF! | G12: =$I12+$M12+$O12+#REF! -> #REF! | H12: =$I12+$N12+$O12+#REF! -> #REF! | I12: 946.6 | J12: ='1_ЦК'!J11 -> 2016.72 | K12: ='1_ЦК'!K11 -> 0 | L12: ='1_ЦК'!L11 -> 2644.05 | M12: ='1_ЦК'!M11 -> 4085.56 | N12: ='1_ЦК'!N11 -> 5446.53 | O12: ='1_ЦК'!O11 -> 6.61 | P12: ='1_ЦК'!P11 -> 0
B13: менее 670 кВт | D13: =$I13+$J13+$O13+P13 -> 3754.15 | E13: =$I13+$K13+$O13+#REF! -> #REF! | F13: =$I13+$L13+$O13+P13 -> 4381.48 | G13: =$I13+$M13+$O13+P13 -> 5822.99 | H13: =$I13+$N13+$O13+P13 -> 7183.96 | I13: 946.6 | J13: =J12 -> 2016.72 | K13: =K12 -> 0 | L13: =L12 -> 2644.05 | M13: =M12 -> 4085.56 | N13: =N12 -> 5446.53 | O13: =O12 -> 6.61 | P13: ='1_ЦК'!P12 -> 784.22
B14: от 670 кВт до 10 МВт | D14: =$I14+$J14+$O14+P14 -> 3333.23 | E14: =$I14+$K14+$O14+#REF! -> #REF! | F14: =$I14+$L14+$O14+P14 -> 3960.56 | G14: =$I14+$M14+$O14+P14 -> 5402.07 | H14: =$I14+$N14+$O14+P14 -> 6763.04 | I14: 946.6 | J14: =J13 -> 2016.72 | K14: =K13 -> 0 | L14: =L13 -> 2644.05 | M14: =M13 -> 4085.56 | N14: =N13 -> 5446.53 | O14: =O13 -> 6.61 | P14: ='1_ЦК'!P13 -> 363.3
B15: не менее 10 МВт | D15: =$I15+$J15+$O15+P15 -> 3231.34 | E15: =$I15+$K15+$O15+#REF! -> #REF! | F15: =$I15+$L15+$O15+P15 -> 3858.67 | G15: =$I15+$M15+$O15+P15 -> 5300.18 | H15: =$I15+$N15+$O15+P15 -> 6661.15 | I15: 946.6 | J15: =J14 -> 2016.72 | K15: =K14 -> 0 | L15: =L14 -> 2644.05 | M15: =M14 -> 4085.56 | N15: =N14 -> 5446.53 | O15: =O14 -> 6.61 | P15: ='1_ЦК'!P14 -> 261.41
A16: Полупик | B16: менее 150 кВт | D16: =$I16+$J16+$O16+P16 -> 5388.19 | E16: =$I16+$K16+$O16+#REF! -> #REF! | F16: =$I16+$L16+$O16+P16 -> 6015.52 | G16: =$I16+$M16+$O16+P16 -> 7457.03 | H16: =$I16+$N16+$O16+P16 -> 8818 | I16: 3364.86 | J16: =J15 -> 2016.72 | K16: =K15 -> 0 | L16: =L15 -> 2644.05 | M16: =M15 -> 4085.56 | N16: =N15 -> 5446.53 | O16: =O15 -> 6.61 | P16: =P12 -> 0
B17: менее 670 кВт | D17: =$I17+$J17+$O17+P17 -> 6172.41 | E17: =$I17+$K17+$O17+#REF! -> #REF! | F17: =$I17+$L17+$O17+P17 -> 6799.74 | G17: =$I17+$M17+$O17+P17 -> 8241.25 | H17: =$I17+$N17+$O17+P17 -> 9602.22 | I17: 3364.86 | J17: =J16 -> 2016.72 | K17: =K16 -> 0 | L17: =L16 -> 2644.05 | M17: =M16 -> 4085.56 | N17: =N16 -> 5446.53 | O17: =O16 -> 6.61 | P17: =P13 -> 784.22
B18: от 670 кВт до 10 МВт | D18: =$I18+$J18+$O18+P18 -> 5751.49 | E18: =$I18+$K18+$O18+#REF! -> #REF! | F18: =$I18+$L18+$O18+P18 -> 6378.82 | G18: =$I18+$M18+$O18+P18 -> 7820.33 | H18: =$I18+$N18+$O18+P18 -> 9181.3 | I18: 3364.86 | J18: =J17 -> 2016.72 | K18: =K17 -> 0 | L18: =L17 -> 2644.05 | M18: =M17 -> 4085.56 | N18: =N17 -> 5446.53 | O18: =O17 -> 6.61 | P18: =P14 -> 363.3
B19: не менее 10 МВт | D19: =$I19+$J19+$O19+P19 -> 5649.6 | E19: =$I19+$K19+$O19+#REF! -> #REF! | F19: =$I19+$L19+$O19+P19 -> 6276.93 | G19: =$I19+$M19+$O19+P19 -> 7718.44 | H19: =$I19+$N19+$O19+P19 -> 9079.41 | I19: 3364.86 | J19: =J18 -> 2016.72 | K19: =K18 -> 0 | L19: =L18 -> 2644.05 | M19: =M18 -> 4085.56 | N19: =N18 -> 5446.53 | O19: =O18 -> 6.61 | P19: =P15 -> 261.41
A20: Пик | B20: менее 150 кВт | D20: =$I20+$J20+$O20+P20 -> 13018.3 | E20: =$I20+$K20+$O20+#REF! -> #REF! | F20: =$I20+$L20+$O20+P20 -> 13645.63 | G20: =$I20+$M20+$O20+P20 -> 15087.14 | H20: =$I20+$N20+$O20+P20 -> 16448.11 | I20: 10994.97 | J20: =J19 -> 2016.72 | K20: =K19 -> 0 | L20: =L19 -> 2644.05 | M20: =M19 -> 4085.56 | N20: =N19 -> 5446.53 | O20: =O19 -> 6.61 | P20: =P16 -> 0
B21: менее 670 кВт | D21: =$I21+$J21+$O21+P21 -> 13802.52 | E21: =$I21+$K21+$O21+#REF! -> #REF! | F21: =$I21+$L21+$O21+P21 -> 14429.85 | G21: =$I21+$M21+$O21+P21 -> 15871.36 | H21: =$I21+$N21+$O21+P21 -> 17232.33 | I21: 10994.97 | J21: =J20 -> 2016.72 | K21: =K20 -> 0 | L21: =L20 -> 2644.05 | M21: =M20 -> 4085.56 | N21: =N20 -> 5446.53 | O21: =O20 -> 6.61 | P21: =P17 -> 784.22
B22: от 670 кВт до 10 МВт | D22: =$I22+$J22+$O22+P22 -> 13381.6 | E22: =$I22+$K22+$O22+#REF! -> #REF! | F22: =$I22+$L22+$O22+P22 -> 14008.93 | G22: =$I22+$M22+$O22+P22 -> 15450.44 | H22: =$I22+$N22+$O22+P22 -> 16811.41 | I22: 10994.97 | J22: =J21 -> 2016.72 | K22: =K21 -> 0 | L22: =L21 -> 2644.05 | M22: =M21 -> 4085.56 | N22: =N21 -> 5446.53 | O22: =O21 -> 6.61 | P22: =P18 -> 363.3
B23: не менее 10 МВт | D23: =$I23+$J23+$O23+P23 -> 13279.71 | E23: =$I23+$K23+$O23+#REF! -> #REF! | F23: =$I23+$L23+$O23+P23 -> 13907.04 | G23: =$I23+$M23+$O23+P23 -> 15348.55 | H23: =$I23+$N23+$O23+P23 -> 16709.52 | I23: 10994.97 | J23: =J22 -> 2016.72 | K23: =K22 -> 0 | L23: =L22 -> 2644.05 | M23: =M22 -> 4085.56 | N23: =N22 -> 5446.53 | O23: =O22 -> 6.61 | P23: =P19 -> 261.41
A28: 1.2. Предельный уровень нерегулируемых цен для 3 зон суток (по договорам купли - продажи)
A29: Зоны суток | B29: Наименование подгрупп потребителей, дифференцированных в зависимости от величины максимальной мощности энергопринимающих устройств | D29: Предельный уровень свободных (нерегулируемых) цен на э/э (мощность), (руб./МВт*ч без НДС) | I29: Структура нерегулируемой цены в соответствии с требованиями п.89 Основных положений функционирования розничных рынков электрической энергии, утвержденных Постановлением Правительства РФ от 04.05.2012 №442
I30: Дифференцированная по зонам суток расчетного периода средневзвешенная нерегулируемая цена на электрическую энергию (мощность) на оптовом рынке | J30: =J9 -> Тарифы на услуги по передаче электрической энергии | O30: Плата за иные услуги, оказание которых является неотъемлемой частью процесса поставки электрической энергии потребителям | P30: =P9 -> Cбытовая надбавка
D31: ВН | E31: ГН | F31: СН1 | G31: СН2 | H31: НН | J31: ВН | K31: ГН | L31: СН1 | M31: СН2 | N31: НН
A32: 1 | D32: 2=3+4+5+6 | I32: 3 | J32: 4 | O32: 5 | P32: 6
A33: Ночь | B33: менее 150 кВт | D33: =$I33+$J33+$O33+#REF! -> #REF! | E33: =$I33+$K33+$O33+#REF! -> #REF! | F33: =$I33+$L33+$O33+#REF! -> #REF! | G33: =$I33+$M33+$O33+#REF! -> #REF! | H33: =$I33+$N33+$O33+#REF! -> #REF! | I33: =I12 -> 946.6 | O33: =O12 -> 6.61 | P33: =P12 -> 0
B34: менее 670 кВт | D34: =$I34+$J34+$O34+P34 -> 1737.43 | E34: =$I34+$K34+$O34+#REF! -> #REF! | F34: =$I34+$L34+$O34+P34 -> 1737.43 | G34: =$I34+$M34+$O34+P34 -> 1737.43 | H34: =$I34+$N34+$O34+P34 -> 1737.43 | I34: =I13 -> 946.6 | O34: =O13 -> 6.61 | P34: =P13 -> 784.22
B35: от 670 кВт до 10 МВт | D35: =$I35+$J35+$O35+P35 -> 1316.51 | E35: =$I35+$K35+$O35+#REF! -> #REF! | F35: =$I35+$L35+$O35+P35 -> 1316.51 | G35: =$I35+$M35+$O35+P35 -> 1316.51 | H35: =$I35+$N35+$O35+P35 -> 1316.51 | I35: =I14 -> 946.6 | O35: =O14 -> 6.61 | P35: =P14 -> 363.3
B36: не менее 10 МВт | D36: =$I36+$J36+$O36+P36 -> 1214.62 | E36: =$I36+$K36+$O36+#REF! -> #REF! | F36: =$I36+$L36+$O36+P36 -> 1214.62 | G36: =$I36+$M36+$O36+P36 -> 1214.62 | H36: =$I36+$N36+$O36+P36 -> 1214.62 | I36: =I15 -> 946.6 | O36: =O15 -> 6.61 | P36: =P15 -> 261.41
A37: Полупик | B37: менее 150 кВт | D37: =$I37+$J37+$O37+P37 -> 3371.47 | E37: =$I37+$K37+$O37+#REF! -> #REF! | F37: =$I37+$L37+$O37+#REF! -> #REF! | G37: =$I37+$M37+$O37+P37 -> 3371.47 | H37: =$I37+$N37+$O37+P37 -> 3371.47 | I37: =I16 -> 3364.86 | O37: =O16 -> 6.61 | P37: =P33 -> 0
B38: менее 670 кВт | D38: =$I38+$J38+$O38+P38 -> 4155.69 | E38: =$I38+$K38+$O38+#REF! -> #REF! | F38: =$I38+$L38+$O38+P38 -> 4155.69 | G38: =$I38+$M38+$O38+P38 -> 4155.69 | H38: =$I38+$N38+$O38+P38 -> 4155.69 | I38: =I17 -> 3364.86 | O38: =O17 -> 6.61 | P38: =P34 -> 784.22
B39: от 670 кВт до 10 МВт | D39: =$I39+$J39+$O39+P39 -> 3734.77 | E39: =$I39+$K39+$O39+#REF! -> #REF! | F39: =$I39+$L39+$O39+P39 -> 3734.77 | G39: =$I39+$M39+$O39+P39 -> 3734.77 | H39: =$I39+$N39+$O39+P39 -> 3734.77 | I39: =I18 -> 3364.86 | O39: =O18 -> 6.61 | P39: =P35 -> 363.3
B40: не менее 10 МВт | D40: =$I40+$J40+$O40+P40 -> 3632.88 | E40: =$I40+$K40+$O40+#REF! -> #REF! | F40: =$I40+$L40+$O40+P40 -> 3632.88 | G40: =$I40+$M40+$O40+P40 -> 3632.88 | H40: =$I40+$N40+$O40+P40 -> 3632.88 | I40: =I19 -> 3364.86 | O40: =O19 -> 6.61 | P40: =P36 -> 261.41
A41: Пик | B41: менее 150 кВт | D41: =$I41+$J41+$O41+P41 -> 11001.58 | E41: =$I41+$K41+$O41+#REF! -> #REF! | F41: =$I41+$L41+$O41+P41 -> 11001.58 | G41: =$I41+$M41+$O41+P41 -> 11001.58 | H41: =$I41+$N41+$O41+P41 -> 11001.58 | I41: =I20 -> 10994.97 | O41: =O20 -> 6.61 | P41: =P37 -> 0
B42: менее 670 кВт | D42: =$I42+$J42+$O42+P42 -> 11785.8 | E42: =$I42+$K42+$O42+#REF! -> #REF! | F42: =$I42+$L42+$O42+P42 -> 11785.8 | G42: =$I42+$M42+$O42+P42 -> 11785.8 | H42: =$I42+$N42+$O42+P42 -> 11785.8 | I42: =I21 -> 10994.97 | O42: =O21 -> 6.61 | P42: =P38 -> 784.22
B43: от 670 кВт до 10 МВт | D43: =$I43+$J43+$O43+P43 -> 11364.88 | E43: =$I43+$K43+$O43+#REF! -> #REF! | F43: =$I43+$L43+$O43+P43 -> 11364.88 | G43: =$I43+$M43+$O43+P43 -> 11364.88 | H43: =$I43+$N43+$O43+P43 -> 11364.88 | I43: =I22 -> 10994.97 | O43: =O22 -> 6.61 | P43: =P39 -> 363.3
B44: не менее 10 МВт | D44: =$I44+$J44+$O44+P44 -> 11262.99 | E44: =$I44+$K44+$O44+#REF! -> #REF! | F44: =$I44+$L44+$O44+P44 -> 11262.99 | G44: =$I44+$M44+$O44+P44 -> 11262.99 | H44: =$I44+$N44+$O44+P44 -> 11262.99 | I44: =I23 -> 10994.97 | O44: =O23 -> 6.61 | P44: =P40 -> 261.41
A49: 2. Предельный уровень нерегулируемых цен для двух зон суток, руб./МВт∙ч без НДС
...

Sheet 3_ЦК
A1: Предельные уровни нерегулируемых цен на электрическую энергию (мощность), поставляемую
A2: =Шапка -> покупателям (потребителям) АО «НЭСК» в ноябре 2022г.
A3: III. Третья ценовая категория
A4: (для объемов покупки э/э(мощности), в отношении которых за расчетный период осуществляются почасовой учет, но не осуществляется почасовое планирование, а стоимость услуг по передаче э/э определяется по тарифу на услуги по передаче электрической энергии в одноставочном выражении)
A5: 1. Потребители с максимальной мощностью энергопринимающих устройств менее 670 кВт | AA5: Потребители с максимальной мощностью энергопринимающих устройств от 150 кВт до 670 кВт
A6: 1.1. Ставка за электрическую энергию предельного уровня нерегулируемой цены
A8: Дата | B8: Ставка для фактических почасовых объемов покупки электрической энергии (по договору купли-продажи) | AA8: Структура нерегулируемой цены в соответствии с требованиями п.91 Основных положений функционирования розничных рынков электрической энергии, утвержденных Постановлением Правительства РФ от 04.05.2012 №442
B9: (рублей/МВт·ч без НДС) | AA9: Дифференцированная по часам расчетного периода нерегулируемая цена на э/э на ОРЭМ, определяемая по результатам конкурентного отбора ценовых заявок на сутки вперед и конкурентного отбора заявок для балансирования системы, руб./МВт·ч без НДС | AY9: Сбытовая надбавка ГП | AZ9: Плата за иные услуги, оказание которых является неотъемлемой частью процесса поставки электрической энергии потребителям
B10: 0:00 - 1:00 | C10: 1:00 - 2:00 | D10: 2:00 - 3:00 | E10: 3:00 - 4:00 | F10: 4:00 - 5:00 | G10: 5:00- 6:00 | H10: 6:00 - 7:00 | I10: 7:00- 8:00 | J10: 8:00 - 9:00 | K10: 9:00 - 10:00 | L10: 10:00 - 11:00 | M10: 11:00 - 12:00 | N10: 12:00 - 13:00 | O10: 13:00 - 14:00 | P10: 14:00 - 15:00 | Q10: 15:00 - 16:00 | R10: 16:00 - 17:00 | S10: 17:00 -18:00 | T10: 18:00 - 19:00 | U10: 19:00 - 20:00 | V10: 20:00 - 21:00 | W10: 21:00 - 22:00 | X10: 22:00 - 23:00 | Y10: 23:00 - 24:00 | AA10: 0:00 - 1:00 | AB10: 1:00 - 2:00 | AC10: 2:00 - 3:00 | AD10: 3:00 - 4:00 | AE10: 4:00 - 5:00 | AF10: 5:00- 6:00 | AG10: 6:00 - 7:00 | AH10: 7:00- 8:00 | AI10: 8:00 - 9:00 | AJ10: 9:00 - 10:00 | AK10: 10:00 - 11:00 | AL10: 11:00 - 12:00 | AM10: 12:00 - 13:00 | AN10: 13:00 - 14:00 | AO10: 14:00 - 15:00 | AP10: 15:00 - 16:00 | AQ10: 16:00 - 17:00 | AR10: 17:00 -18:00 | AS10: 18:00 - 19:00 | AT10: 19:00 - 20:00 | AU10: 20:00 - 21:00 | AV10: 21:00 - 22:00 | AW10: 22:00 - 23:00 | AX10: 23:00 - 24:00
A11: 1=2+3+4 | AA11: 2 | AY11: 3 | AZ11: 4
A12: 1 | B12: =AA12+$AZ12+$AY12 -> 1158.83 | C12: =AB12+$AZ12+$AY12 -> 1149.75 | D12: =AC12+$AZ12+$AY12 -> 1117.5 | E12: =AD12+$AZ12+$AY12 -> 944.55 | F12: =AE12+$AZ12+$AY12 -> 1141.79 | G12: =AF12+$AZ12+$AY12 -> 1144.96 | H12: =AG12+$AZ12+$AY12 -> 1917.35 | I12: =AH12+$AZ12+$AY12 -> 2208.14 | ... Y12: =AX12+$AZ12+$AY12 -> 1427.14 | AA12: 368 | AB12: 358.92 | AC12: 326.67 | AD12: 153.72 | AE12: 350.96 | AF12: 354.13 | AG12: 1126.52 | AH12: 1417.31 | AI12: 1537.64 | AJ12: 1601.19 | AK12: 1601.14 | AL12: 1590.89 | AM12: 1573.52 | AN12: 1571.08 | AO12: 1564.86 | AP12: 1523.25 | AQ12: 1526.74 | AR12: 1553.33 | AS12: 1868.82 | AT12: 1868.59 | AU12: 1875.17 | AV12: 1497.57 | AW12: 1216.83 | AX12: 636.31 | AY12: 784.22 | AZ12: 6.61
A13: 2 | B13: =AA13+$AZ13+$AY13 -> 1147.53 | C13: =AB13+$AZ13+$AY13 -> 1094.78 | D13: =AC13+$AZ13+$AY13 -> 809.49 | E13: =AD13+$AZ13+$AY13 -> 809.49 | F13: =AE13+$AZ13+$AY13 -> 809.52 | G13: =AF13+$AZ13+$AY13 -> 1130.67 | H13: =AG13+$AZ13+$AY13 -> 1905.49 | I13: =AH13+$AZ13+$AY13 -> 2232.46 | ... Y13: =AX13+$AZ13+$AY13 -> 1900.76 | AA13: 356.7 | AB13: 303.95 | AC13: 18.66 | AD13: 18.66 | AE13: 18.69 | AF13: 339.84 | AG13: 1114.66 | AH13: 1441.63 | AI13: 1724.19 | AJ13: 1875.08 | AK13: 1878.94 | AL13: 1874.3 | AM13: 1861.95 | AN13: 1863.3 | AO13: 1866.86 | AP13: 1867.15 | AQ13: 1874.42 | AR13: 1932.77 | AS13: 1979.66 | AT13: 1975.66 | AU13: 1923.23 | AV13: 1901.03 | AW13: 1368.78 | AX13: 1109.93 | AY13: 784.22 | AZ13: 6.61
A14: 3 | B14: =AA14+$AZ14+$AY14 -> 1734.86 | C14: =AB14+$AZ14+$AY14 -> 1379.67 | D14: =AC14+$AZ14+$AY14 -> 1119.47 | E14: =AD14+$AZ14+$AY14 -> 1086.64 | F14: =AE14+$AZ14+$AY14 -> 1678.25 | G14: =AF14+$AZ14+$AY14 -> 1781.34 | H14: =AG14+$AZ14+$AY14 -> 2011.56 | I14: =AH14+$AZ14+$AY14 -> 2333.27 | ... Y14: =AX14+$AZ14+$AY14 -> 2140.1 | AA14: 944.03 | AB14: 588.84 | AC14: 328.64 | AD14: 295.81 | AE14: 887.42 | AF14: 990.51 | AG14: 1220.73 | AH14: 1542.44 | AI14: 1914.02 | AJ14: 1970.43 | AK14: 1978.47 | AL14: 1947.43 | AM14: 1925.99 | AN14: 1926.38 | AO14: 1927.38 | AP14: 1925.9 | AQ14: 1944.64 | AR14: 2013.39 | AS14: 2059.78 | AT14: 2087.25 | AU14: 2030.65 | AV14: 2003.62 | AW14: 1895.68 | AX14: 1349.27 | AY14: 784.22 | AZ14: 6.61
A15: 4 | B15: =AA15+$AZ15+$AY15 -> 2079.47 | C15: =AB15+$AZ15+$AY15 -> 1924.17 | D15: =AC15+$AZ15+$AY15 -> 1850.17 | E15: =AD15+$AZ15+$AY15 -> 1799.84 | F15: =AE15+$AZ15+$AY15 -> 1824.27 | G15: =AF15+$AZ15+$AY15 -> 1917.55 | H15: =AG15+$AZ15+$AY15 -> 2039.45 | I15: =AH15+$AZ15+$AY15 -> 2153.35 | ... Y15: =AX15+$AZ15+$AY15 -> 2126.88 | AA15: 1288.64 | AB15: 1133.34 | AC15: 1059.34 | AD15: 1009.01 | AE15: 1033.44 | AF15: 1126.72 | AG15: 1248.62 | AH15: 1362.52 | AI15: 1857.33 | AJ15: 1912.26 | AK15: 1928.43 | AL15: 1916.26 | AM15: 1914.85 | AN15: 1902.23 | AO15: 1919.54 | AP15: 1931.44 | AQ15: 1954.51 | AR15: 2050.97 | AS15: 2065.6 | AT15: 2073.72 | AU15: 2058.24 | AV15: 1948.69 | AW15: 1865.83 | AX15: 1336.05 | AY15: 784.22 | AZ15: 6.61
A16: 5 | B16: =AA16+$AZ16+$AY16 -> 1995.6 | C16: =AB16+$AZ16+$AY16 -> 1888.36 | D16: =AC16+$AZ16+$AY16 -> 1838.68 | E16: =AD16+$AZ16+$AY16 -> 1900.96 | F16: =AE16+$AZ16+$AY16 -> 1924.21 | G16: =AF16+$AZ16+$AY16 -> 2156.42 | H16: =AG16+$AZ16+$AY16 -> 2124.65 | I16: =AH16+$AZ16+$AY16 -> 2221.46 | ... Y16: =AX16+$AZ16+$AY16 -> 2130.72 | AA16: 1204.77 | AB16: 1097.53 | AC16: 1047.85 | AD16: 1110.13 | AE16: 1133.38 | AF16: 1365.59 | AG16: 1333.82 | AH16: 1430.63 | AI16: 1817.89 | AJ16: 1863.59 | AK16: 1867.9 | AL16: 1870.72 | AM16: 1867.57 | AN16: 1863.76 | AO16: 1868.68 | AP16: 1868.44 | AQ16: 1882.2 | AR16: 1931.31 | AS16: 1944.73 | AT16: 1947.47 | AU16: 1921.81 | AV16: 1886.6 | AW16: 1764.88 | AX16: 1339.89 | AY16: 784.22 | AZ16: 6.61
A17: 6 | B17: =AA17+$AZ17+$AY17 -> 1913.67 | C17: =AB17+$AZ17+$AY17 -> 1842.43 | D17: =AC17+$AZ17+$AY17 -> 1787.73 | E17: =AD17+$AZ17+$AY17 -> 1748.35 | F17: =AE17+$AZ17+$AY17 -> 1756.65 | G17: =AF17+$AZ17+$AY17 -> 1797.44 | H17: =AG17+$AZ17+$AY17 -> 1833.88 | I17: =AH17+$AZ17+$AY17 -> 1943.46 | ... Y17: =AX17+$AZ17+$AY17 -> 2045.54 | AA17: 1122.84 | AB17: 1051.6 | AC17: 996.9 | AD17: 957.52 | AE17: 965.82 | AF17: 1006.61 | AG17: 1043.05 | AH17: 1152.63 | AI17: 1347.87 | AJ17: 1809.73 | AK17: 1830.64 | AL17: 1827.75 | AM17: 1804.08 | AN17: 1797.03 | AO17: 1801.84 | AP17: 1808.09 | AQ17: 1832.21 | AR17: 1863.16 | AS17: 1880.02 | AT17: 1868.19 | AU17: 1865.11 | AV17: 1855.01 | AW17: 1365.13 | AX17: 1254.71 | AY17: 784.22 | AZ17: 6.61
A18: 7 | B18: =AA18+$AZ18+$AY18 -> 1806.18 | C18: =AB18+$AZ18+$AY18 -> 1663.3 | D18: =AC18+$AZ18+$AY18 -> 1660.8 | E18: =AD18+$AZ18+$AY18 -> 1526.72 | F18: =AE18+$AZ18+$AY18 -> 1719.99 | G18: =AF18+$AZ18+$AY18 -> 1802.73 | H18: =AG18+$AZ18+$AY18 -> 1935.45 | I18: =AH18+$AZ18+$AY18 -> 2232.85 | ... Y18: =AX18+$AZ18+$AY18 -> 1933.1 | AA18: 1015.35 | AB18: 872.47 | AC18: 869.97 | AD18: 735.89 | AE18: 929.16 | AF18: 1011.9 | AG18: 1144.62 | AH18: 1442.02 | AI18: 1857.87 | AJ18: 1927.25 | AK18: 1938.27 | AL18: 1919.18 | AM18: 1888.73 | AN18: 1899.53 | AO18: 1892.31 | AP18: 1901.21 | AQ18: 1918.26 | AR18: 1941.93 | AS18: 1973.75 | AT18: 1984.49 | AU18: 1923.71 | AV18: 1869.73 | AW18: 1375.22 | AX18: 1142.27 | AY18: 784.22 | AZ18: 6.61
A19: 8 | B19: =AA19+$AZ19+$AY19 -> 1762.64 | C19: =AB19+$AZ19+$AY19 -> 1448.1 | D19: =AC19+$AZ19+$AY19 -> 1391.17 | E19: =AD19+$AZ19+$AY19 -> 1364.49 | F19: =AE19+$AZ19+$AY19 -> 1664.86 | G19: =AF19+$AZ19+$AY19 -> 1758.36 | H19: =AG19+$AZ19+$AY19 -> 1940.35 | I19: =AH19+$AZ19+$AY19 -> 2230.58 | ... Y19: =AX19+$AZ19+$AY19 -> 1915.64 | AA19: 971.81 | AB19: 657.27 | AC19: 600.34 | AD19: 573.66 | AE19: 874.03 | AF19: 967.53 | AG19: 1149.52 | AH19: 1439.75 | AI19: 1856.86 | AJ19: 1921.66 | AK19: 1915.9 | AL19: 1899.12 | AM19: 1880.73 | AN19: 1893.26 | AO19: 1902.12 | AP19: 1910.55 | AQ19: 1917.8 | AR19: 1924.18 | AS19: 1953.73 | AT19: 1955.8 | AU19: 1897.34 | AV19: 1823.96 | AW19: 1336.19 | AX19: 1124.81 | AY19: 784.22 | AZ19: 6.61
A20: 9 | B20: =AA20+$AZ20+$AY20 -> 1802.77 | C20: =AB20+$AZ20+$AY20 -> 1720.84 | D20: =AC20+$AZ20+$AY20 -> 1635.59 | E20: =AD20+$AZ20+$AY20 -> 1485.56 | F20: =AE20+$AZ20+$AY20 -> 1733.69 | G20: =AF20+$AZ20+$AY20 -> 1839.99 | H20: =AG20+$AZ20+$AY20 -> 2041.14 | I20: =AH20+$AZ20+$AY20 -> 2360.26 | ... Y20: =AX20+$AZ20+$AY20 -> 2015.79 | AA20: 1011.94 | AB20: 930.01 | AC20: 844.76 | AD20: 694.73 | AE20: 942.86 | AF20: 1049.16 | AG20: 1250.31 | AH20: 1569.43 | AI20: 1948.63 | AJ20: 2045.66 | AK20: 2045.01 | AL20: 2036.19 | AM20: 2026.77 | AN20: 2021.65 | AO20: 2033.71 | AP20: 2035.26 | AQ20: 2041.82 | AR20: 2077.7 | AS20: 2094.79 | AT20: 2066.55 | AU20: 2050.99 | AV20: 1947.99 | AW20: 1654.37 | AX20: 1224.96 | AY20: 784.22 | AZ20: 6.61
A21: 10 | B21: =AA21+$AZ21+$AY21 -> 1836.03 | C21: =AB21+$AZ21+$AY21 -> 1736.53 | D21: =AC21+$AZ21+$AY21 -> 1684.98 | E21: =AD21+$AZ21+$AY21 -> 1418.08 | F21: =AE21+$AZ21+$AY21 -> 1733.81 | G21: =AF21+$AZ21+$AY21 -> 1866.07 | H21: =AG21+$AZ21+$AY21 -> 2095.03 | I21: =AH21+$AZ21+$AY21 -> 2496.77 | ... Y21: =AX21+$AZ21+$AY21 -> 1962.24 | AA21: 1045.2 | AB21: 945.7 | AC21: 894.15 | AD21: 627.25 | AE21: 942.98 | AF21: 1075.24 | AG21: 1304.2 | AH21: 1705.94 | AI21: 1962.11 | AJ21: 2012.77 | AK21: 2031.56 | AL21: 2016.54 | AM21: 1972.36 | AN21: 1985.78 | AO21: 2004.64 | AP21: 2020.34 | AQ21: 2033.95 | AR21: 2080.24 | AS21: 2099.48 | AT21: 2093.27 | AU21: 2060.99 | AV21: 1979.05 | AW21: 1432.28 | AX21: 1171.41 | AY21: 784.22 | AZ21: 6.61
A22: 11 | B22: =AA22+$AZ22+$AY22 -> 1827.72 | C22: =AB22+$AZ22+$AY22 -> 1740.03 | D22: =AC22+$AZ22+$AY22 -> 1610.37 | E22: =AD22+$AZ22+$AY22 -> 1379.42 | F22: =AE22+$AZ22+$AY22 -> 1736.64 | G22: =AF22+$AZ22+$AY22 -> 1911.23 | H22: =AG22+$AZ22+$AY22 -> 2200.38 | I22: =AH22+$AZ22+$AY22 -> 2648.56 | ... Y22: =AX22+$AZ22+$AY22 -> 2056.57 | AA22: 1036.89 | AB22: 949.2 | AC22: 819.54 | AD22: 588.59 | AE22: 945.81 | AF22: 1120.4 | AG22: 1409.55 | AH22: 1857.73 | AI22: 2047.91 | AJ22: 2079.61 | AK22: 2076.3 | AL22: 2064.58 | AM22: 2033.25 | AN22: 2042.55 | AO22: 2047.86 | AP22: 2051.64 | AQ22: 2061.18 | AR22: 2099.12 | AS22: 2115.48 | AT22: 2091.77 | AU22: 2081.04 | AV22: 2044.46 | AW22: 1831.88 | AX22: 1265.74 | AY22: 784.22 | AZ22: 6.61
A23: 12 | B23: =AA23+$AZ23+$AY23 -> 1912.44 | C23: =AB23+$AZ23+$AY23 -> 1786.69 | D23: =AC23+$AZ23+$AY23 -> 1737.47 | E23: =AD23+$AZ23+$AY23 -> 1709.57 | F23: =AE23+$AZ23+$AY23 -> 1732.26 | G23: =AF23+$AZ23+$AY23 -> 1796.64 | H23: =AG23+$AZ23+$AY23 -> 1913.88 | I23: =AH23+$AZ23+$AY23 -> 2032.91 | ... Y23: =AX23+$AZ23+$AY23 -> 2095.85 | AA23: 1121.61 | AB23: 995.86 | AC23: 946.64 | AD23: 918.74 | AE23: 941.43 | AF23: 1005.81 | AG23: 1123.05 | AH23: 1242.08 | AI23: 1838.54 | AJ23: 1943.92 | AK23: 1959.58 | AL23: 1955.52 | AM23: 1940.78 | AN23: 1924.34 | AO23: 1934.85 | AP23: 1952.95 | AQ23: 1991.66 | AR23: 2058.83 | AS23: 2082.11 | AT23: 2064.67 | AU23: 2014.69 | AV23: 1971.5 | AW23: 1928.13 | AX23: 1305.02 | AY23: 784.22 | AZ23: 6.61
... A41: 30 | B41: =AA41+$AZ41+$AY41 -> 1744.07 | C41: =AB41+$AZ41+$AY41 -> 1639.01 | D41: =AC41+$AZ41+$AY41 -> 1567.79 | E41: =AD41+$AZ41+$AY41 -> 1538.94 | F41: =AE41+$AZ41+$AY41 -> 1627.52 | G41: =AF41+$AZ41+$AY41 -> 1818.95 | H41: =AG41+$AZ41+$AY41 -> 1975.97 | I41: =AH41+$AZ41+$AY41 -> 2297.81 | ... Y41: =AX41+$AZ41+$AY41 -> 1822.77 | AA41: 953.24 | AB41: 848.18 | AC41: 776.96 | AD41: 748.11 | AE41: 836.69 | AF41: 1028.12 | AG41: 1185.14 | AH41: 1506.98 | AI41: 1880.61 | AJ41: 1927.44 | AK41: 1935.59 | AL41: 1915.16 | AM41: 1896.57 | AN41: 1896.53 | AO41: 1894.32 | AP41: 1927.55 | AQ41: 1925 | AR41: 1965.72 | AS41: 1939 | AT41: 2011.88 | AU41: 1919.98 | AV41: 1886.75 | AW41: 1746.38 | AX41: 1031.94 | AY41: 784.22 | AZ41: 6.61
A42: 31 | B42: =AA42+$AZ42+$AY42 -> 0 | C42: =AB42+$AZ42+$AY42 -> 0 | D42: =AC42+$AZ42+$AY42 -> 0 | E42: =AD42+$AZ42+$AY42 -> 0 | F42: =AE42+$AZ42+$AY42 -> 0 | G42: =AF42+$AZ42+$AY42 -> 0 | H42: =AG42+$AZ42+$AY42 -> 0 | I42: =AH42+$AZ42+$AY42 -> 0 | ... Y42: =AX42+$AZ42+$AY42 -> 0 | AA42: 0 | AB42: 0 | AC42: 0 | AD42: 0 | AE42: 0 | AF42: 0 | AG42: 0 | AH42: 0 | AI42: 0 | AJ42: 0 | AK42: 0 | AL42: 0 | AM42: 0 | AN42: 0 | AO42: 0 | AP42: 0 | AQ42: 0 | AR42: 0 | AS42: 0 | AT42: 0 | AU42: 0 | AV42: 0 | AW42: 0 | AX42: 0 | AY42: 0 | AZ42: 0 | BA42: =IF(AW42>0,BA41,IF(AW42<0,0)) -> FALSE
B43: ПО УРОВНЯМ НАПРЯЖЕНИЯ | AA43: =SUM(AA12:AX42) -> 1120067.7
A44: Дата | B44: Ставка для фактических почасовых объемов покупки электрической энергии, отпущенных на уровне напряжения ВН по договору энергоснабжения | AA44: Структура нерегулируемой цены в соответствии с требованиями п.91 Основных положений функционирования розничных рынков электрической энергии, утвержденных Постановлением Правительства РФ от 04.05.2012 №442
B45: (рублей/МВт·ч без НДС) | AA45: Дифференцированная по часам расчетного периода нерегулируемая цена на э/э на ОРЭМ, определяемая по результатам конкурентного отбора ценовых заявок на сутки вперед и конкурентного отбора заявок для балансирования системы, руб./МВт·ч без НДС | AY45: Сбытовая надбавка ГП | AZ45: Плата за иные услуги, оказание которых является неотъемлемой частью процесса поставки электрической энергии потребителям | BA45: Тарифы на услуги по передаче электрической энергии
B46: 0:00 - 1:00 | C46: 1:00 - 2:00 | D46: 2:00 - 3:00 | E46: 3:00 - 4:00 | F46: 4:00 - 5:00 | G46: 5:00- 6:00 | H46: 6:00 - 7:00 | I46: 7:00- 8:00 | J46: 8:00 - 9:00 | K46: 9:00 - 10:00 | L46: 10:00 - 11:00 | M46: 11:00 - 12:00 | N46: 12:00 - 13:00 | O46: 13:00 - 14:00 | P46: 14:00 - 15:00 | Q46: 15:00 - 16:00 | R46: 16:00 - 17:00 | S46: 17:00 -18:00 | T46: 18:00 - 19:00 | U46: 19:00 - 20:00 | V46: 20:00 - 21:00 | W46: 21:00 - 22:00 | X46: 22:00 - 23:00 | Y46: 23:00 - 24:00 | AA46: 0:00 - 1:00 | AB46: 1:00 - 2:00 | AC46: 2:00 - 3:00 | AD46: 3:00 - 4:00 | AE46: 4:00 - 5:00 | AF46: 5:00- 6:00 | AG46: 6:00 - 7:00 | AH46: 7:00- 8:00 | AI46: 8:00 - 9:00 | AJ46: 9:00 - 10:00 | AK46: 10:00 - 11:00 | AL46: 11:00 - 12:00 | AM46: 12:00 - 13:00 | AN46: 13:00 - 14:00 | AO46: 14:00 - 15:00 | AP46: 15:00 - 16:00 | AQ46: 16:00 - 17:00 | AR46: 17:00 -18:00 | AS46: 18:00 - 19:00 | AT46: 19:00 - 20:00 | AU46: 20:00 - 21:00 | AV46: 21:00 - 22:00 | AW46: 22:00 - 23:00 | AX46: 23:00 - 24:00 | BA46: ВН
A47: 1=2+3+4+5 | AA47: 2 | AY47: 3 | AZ47: 4 | BA47: 5
A48: 1 | B48: =AA48+$BA48+$AZ48+$AY48 -> 3175.55 | C48: =AB48+$BA48+$AZ48+$AY48 -> 3166.47 | D48: =AC48+$BA48+$AZ48+$AY48 -> 3134.22 | E48: =AD48+$BA48+$AZ48+$AY48 -> 2961.27 | F48: =AE48+$BA48+$AZ48+$AY48 -> 3158.51 | G48: =AF48+$BA48+$AZ48+$AY48 -> 3161.68 | H48: =AG48+$BA48+$AZ48+$AY48 -> 3934.07 | I48: =AH48+$BA48+$AZ48+$AY48 -> 4224.86 | ... Y48: =AX48+$BA48+$AZ48+$AY48 -> 3443.86 | AA48: 368 | AB48: 358.92 | AC48: 326.67 | AD48: 153.72 | AE48: 350.96 | AF48: 354.13 | AG48: 1126.52 | AH48: 1417.31 | AI48: 1537.64 | AJ48: 1601.19 | AK48: 1601.14 | AL48: 1590.89 | AM48: 1573.52 | AN48: 1571.08 | AO48: 1564.86 | AP48: 1523.25 | AQ48: 1526.74 | AR48: 1553.33 | AS48: 1868.82 | AT48: 1868.59 | AU48: 1875.17 | AV48: 1497.57 | AW48: 1216.83 | AX48: 636.31 | AY48: 784.22 | AZ48: 6.61 | BA48: 2016.72
A49: 2 | B49: =AA49+$BA49+$AZ49+$AY49 -> 3164.25 | C49: =AB49+$BA49+$AZ49+$AY49 -> 3111.5 | D49: =AC49+$BA49+$AZ49+$AY49 -> 2826.21 | E49: =AD49+$BA49+$AZ49+$AY49 -> 2826.21 | F49: =AE49+$BA49+$AZ49+$AY49 -> 2826.24 | G49: =AF49+$BA49+$AZ49+$AY49 -> 3147.39 | H49: =AG49+$BA49+$AZ49+$AY49 -> 3922.21 | I49: =AH49+$BA49+$AZ49+$AY49 -> 4249.18 | ... Y49: =AX49+$BA49+$AZ49+$AY49 -> 3917.48 | AA49: 356.7 | AB49: 303.95 | AC49: 18.66 | AD49: 18.66 | AE49: 18.69 | AF49: 339.84 | AG49: 1114.66 | AH49: 1441.63 | AI49: 1724.19 | AJ49: 1875.08 | AK49: 1878.94 | AL49: 1874.3 | AM49: 1861.95 | AN49: 1863.3 | AO49: 1866.86 | AP49: 1867.15 | AQ49: 1874.42 | AR49: 1932.77 | AS49: 1979.66 | AT49: 1975.66 | AU49: 1923.23 | AV49: 1901.03 | AW49: 1368.78 | AX49: 1109.93 | AY49: 784.22 | AZ49: 6.61 | BA49: 2016.72
A50: 3 | B50: =AA50+$BA50+$AZ50+$AY50 -> 3751.58 | C50: =AB50+$BA50+$AZ50+$AY50 -> 3396.39 | D50: =AC50+$BA50+$AZ50+$AY50 -> 3136.19 | E50: =AD50+$BA50+$AZ50+$AY50 -> 3103.36 | F50: =AE50+$BA50+$AZ50+$AY50 -> 3694.97 | G50: =AF50+$BA50+$AZ50+$AY50 -> 3798.06 | H50: =AG50+$BA50+$AZ50+$AY50 -> 4028.28 | I50: =AH50+$BA50+$AZ50+$AY50 -> 4349.99 | ... Y50: =AX50+$BA50+$AZ50+$AY50 -> 4156.82 | AA50: 944.03 | AB50: 588.84 | AC50: 328.64 | AD50: 295.81 | AE50: 887.42 | AF50: 990.51 | AG50: 1220.73 | AH50: 1542.44 | AI50: 1914.02 | AJ50: 1970.43 | AK50: 1978.47 | AL50: 1947.43 | AM50: 1925.99 | AN50: 1926.38 | AO50: 1927.38 | AP50: 1925.9 | AQ50: 1944.64 | AR50: 2013.39 | AS50: 2059.78 | AT50: 2087.25 | AU50: 2030.65 | AV50: 2003.62 | AW50: 1895.68 | AX50: 1349.27 | AY50: 784.22 | AZ50: 6.61 | BA50: 2016.72
A51: 4 | B51: =AA51+$BA51+$AZ51+$AY51 -> 4096.19 | C51: =AB51+$BA51+$AZ51+$AY51 -> 3940.89 | D51: =AC51+$BA51+$AZ51+$AY51 -> 3866.89 | E51: =AD51+$BA51+$AZ51+$AY51 -> 3816.56 | F51: =AE51+$BA51+$AZ51+$AY51 -> 3840.99 | G51: =AF51+$BA51+$AZ51+$AY51 -> 3934.27 | H51: =AG51+$BA51+$AZ51+$AY51 -> 4056.17 | I51: =AH51+$BA51+$AZ51+$AY51 -> 4170.07 | ... Y51: =AX51+$BA51+$AZ51+$AY51 -> 4143.6 | AA51: 1288.64 | AB51: 1133.34 | AC51: 1059.34 | AD51: 1009.01 | AE51: 1033.44 | AF51: 1126.72 | AG51: 1248.62 | AH51: 1362.52 | AI51: 1857.33 | AJ51: 1912.26 | AK51: 1928.43 | AL51: 1916.26 | AM51: 1914.85 | AN51: 1902.23 | AO51: 1919.54 | AP51: 1931.44 | AQ51: 1954.51 | AR51: 2050.97 | AS51: 2065.6 | AT51: 2073.72 | AU51: 2058.24 | AV51: 1948.69 | AW51: 1865.83 | AX51: 1336.05 | AY51: 784.22 | AZ51: 6.61 | BA51: 2016.72
A52: 5 | B52: =AA52+$BA52+$AZ52+$AY52 -> 4012.32 | C52: =AB52+$BA52+$AZ52+$AY52 -> 3905.08 | D52: =AC52+$BA52+$AZ52+$AY52 -> 3855.4 | E52: =AD52+$BA52+$AZ52+$AY52 -> 3917.68 | F52: =AE52+$BA52+$AZ52+$AY52 -> 3940.93 | G52: =AF52+$BA52+$AZ52+$AY52 -> 4173.14 | H52: =AG52+$BA52+$AZ52+$AY52 -> 4141.37 | I52: =AH52+$BA52+$AZ52+$AY52 -> 4238.18 | ... Y52: =AX52+$BA52+$AZ52+$AY52 -> 4147.44 | AA52: 1204.77 | AB52: 1097.53 | AC52: 1047.85 | AD52: 1110.13 | AE52: 1133.38 | AF52: 1365.59 | AG52: 1333.82 | AH52: 1430.63 | AI52: 1817.89 | AJ52: 1863.59 | AK52: 1867.9 | AL52: 1870.72 | AM52: 1867.57 | AN52: 1863.76 | AO52: 1868.68 | AP52: 1868.44 | AQ52: 1882.2 | AR52: 1931.31 | AS52: 1944.73 | AT52: 1947.47 | AU52: 1921.81 | AV52: 1886.6 | AW52: 1764.88 | AX52: 1339.89 | AY52: 784.22 | AZ52: 6.61 | BA52: 2016.72
A53: 6 | B53: =AA53+$BA53+$AZ53+$AY53 -> 3930.39 | C53: =AB53+$BA53+$AZ53+$AY53 -> 3859.15 | D53: =AC53+$BA53+$AZ53+$AY53 -> 3804.45 | E53: =AD53+$BA53+$AZ53+$AY53 -> 3765.07 | F53: =AE53+$BA53+$AZ53+$AY53 -> 3773.37 | G53: =AF53+$BA53+$AZ53+$AY53 -> 3814.16 | H53: =AG53+$BA53+$AZ53+$AY53 -> 3850.6 | I53: =AH53+$BA53+$AZ53+$AY53 -> 3960.18 | ... Y53: =AX53+$BA53+$AZ53+$AY53 -> 4062.26 | AA53: 1122.84 | AB53: 1051.6 | AC53: 996.9 | AD53: 957.52 | AE53: 965.82 | AF53: 1006.61 | AG53: 1043.05 | AH53: 1152.63 | AI53: 1347.87 | AJ53: 1809.73 | AK53: 1830.64 | AL53: 1827.75 | AM53: 1804.08 | AN53: 1797.03 | AO53: 1801.84 | AP53: 1808.09 | AQ53: 1832.21 | AR53: 1863.16 | AS53: 1880.02 | AT53: 1868.19 | AU53: 1865.11 | AV53: 1855.01 | AW53: 1365.13 | AX53: 1254.71 | AY53: 784.22 | AZ53: 6.61 | BA53: 2016.72
A54: 7 | B54: =AA54+$BA54+$AZ54+$AY54 -> 3822.9 | C54: =AB54+$BA54+$AZ54+$AY54 -> 3680.02 | D54: =AC54+$BA54+$AZ54+$AY54 -> 3677.52 | E54: =AD54+$BA54+$AZ54+$AY54 -> 3543.44 | F54: =AE54+$BA54+$AZ54+$AY54 -> 3736.71 | G54: =AF54+$BA54+$AZ54+$AY54 -> 3819.45 | H54: =AG54+$BA54+$AZ54+$AY54 -> 3952.17 | I54: =AH54+$BA54+$AZ54+$AY54 -> 4249.57 | ... Y54: =AX54+$BA54+$AZ54+$AY54 -> 3949.82 | AA54: 1015.35 | AB54: 872.47 | AC54: 869.97 | AD54: 735.89 | AE54: 929.16 | AF54: 1011.9 | AG54: 1144.62 | AH54: 1442.02 | AI54: 1857.87 | AJ54: 1927.25 | AK54: 1938.27 | AL54: 1919.18 | AM54: 1888.73 | AN54: 1899.53 | AO54: 1892.31 | AP54: 1901.21 | AQ54: 1918.26 | AR54: 1941.93 | AS54: 1973.75 | AT54: 1984.49 | AU54: 1923.71 | AV54: 1869.73 | AW54: 1375.22 | AX54: 1142.27 | AY54: 784.22 | AZ54: 6.61 | BA54: 2016.72
A55: 8 | B55: =AA55+$BA55+$AZ55+$AY55 -> 3779.36 | C55: =AB55+$BA55+$AZ55+$AY55 -> 3464.82 | D55: =AC55+$BA55+$AZ55+$AY55 -> 3407.89 | E55: =AD55+$BA55+$AZ55+$AY55 -> 3381.21 | F55: =AE55+$BA55+$AZ55+$AY55 -> 3681.58 | G55: =AF55+$BA55+$AZ55+$AY55 -> 3775.08 | H55: =AG55+$BA55+$AZ55+$AY55 -> 3957.07 | I55: =AH55+$BA55+$AZ55+$AY55 -> 4247.3 | ... Y55: =AX55+$BA55+$AZ55+$AY55 -> 3932.36 | AA55: 971.81 | AB55: 657.27 | AC55: 600.34 | AD55: 573.66 | AE55: 874.03 | AF55: 967.53 | AG55: 1149.52 | AH55: 1439.75 | AI55: 1856.86 | AJ55: 1921.66 | AK55: 1915.9 | AL55: 1899.12 | AM55: 1880.73 | AN55: 1893.26 | AO55: 1902.12 | AP55: 1910.55 | AQ55: 1917.8 | AR55: 1924.18 | AS55: 1953.73 | AT55: 1955.8 | AU55: 1897.34 | AV55: 1823.96 | AW55: 1336.19 | AX55: 1124.81 | AY55: 784.22 | AZ55: 6.61 | BA55: 2016.72
A56: 9 | B56: =AA56+$BA56+$AZ56+$AY56 -> 3819.49 | C56: =AB56+$BA56+$AZ56+$AY56 -> 3737.56 | D56: =AC56+$BA56+$AZ56+$AY56 -> 3652.31 | E56: =AD56+$BA56+$AZ56+$AY56 -> 3502.28 | F56: =AE56+$BA56+$AZ56+$AY56 -> 3750.41 | G56: =AF56+$BA56+$AZ56+$AY56 -> 3856.71 | H56: =AG56+$BA56+$AZ56+$AY56 -> 4057.86 | I56: =AH56+$BA56+$AZ56+$AY56 -> 4376.98 | ... Y56: =AX56+$BA56+$AZ56+$AY56 -> 4032.51 | AA56: 1011.94 | AB56: 930.01 | AC56: 844.76 | AD56: 694.73 | AE56: 942.86 | AF56: 1049.16 | AG56: 1250.31 | AH56: 1569.43 | AI56: 1948.63 | AJ56: 2045.66 | AK56: 2045.01 | AL56: 2036.19 | AM56: 2026.77 | AN56: 2021.65 | AO56: 2033.71 | AP56: 2035.26 | AQ56: 2041.82 | AR56: 2077.7 | AS56: 2094.79 | AT56: 2066.55 | AU56: 2050.99 | AV56: 1947.99 | AW56: 1654.37 | AX56: 1224.96 | AY56: 784.22 | AZ56: 6.61 | BA56: 2016.72
A57: 10 | B57: =AA57+$BA57+$AZ57+$AY57 -> 3852.75 | C57: =AB57+$BA57+$AZ57+$AY57 -> 3753.25 | D57: =AC57+$BA57+$AZ57+$AY57 -> 3701.7 | E57: =AD57+$BA57+$AZ57+$AY57 -> 3434.8 | F57: =AE57+$BA57+$AZ57+$AY57 -> 3750.53 | G57: =AF57+$BA57+$AZ57+$AY57 -> 3882.79 | H57: =AG57+$BA57+$AZ57+$AY57 -> 4111.75 | I57: =AH57+$BA57+$AZ57+$AY57 -> 4513.49 | ... Y57: =AX57+$BA57+$AZ57+$AY57 -> 3978.96 | AA57: 1045.2 | AB57: 945.7 | AC57: 894.15 | AD57: 627.25 | AE57: 942.98 | AF57: 1075.24 | AG57: 1304.2 | AH57: 1705.94 | AI57: 1962.11 | AJ57: 2012.77 | AK57: 2031.56 | AL57: 2016.54 | AM57: 1972.36 | AN57: 1985.78 | AO57: 2004.64 | AP57: 2020.34 | AQ57: 2033.95 | AR57: 2080.24 | AS57: 2099.48 | AT57: 2093.27 | AU57: 2060.99 | AV57: 1979.05 | AW57: 1432.28 | AX57: 1171.41 | AY57: 784.22 | AZ57: 6.61 | BA57: 2016.72
A58: 11 | B58: =AA58+$BA58+$AZ58+$AY58 -> 3844.44 | C58: =AB58+$BA58+$AZ58+$AY58 -> 3756.75 | D58: =AC58+$BA58+$AZ58+$AY58 -> 3627.09 | E58: =AD58+$BA58+$AZ58+$AY58 -> 3396.14 | F58: =AE58+$BA58+$AZ58+$AY58 -> 3753.36 | G58: =AF58+$BA58+$AZ58+$AY58 -> 3927.95 | H58: =AG58+$BA58+$AZ58+$AY58 -> 4217.1 | I58: =AH58+$BA58+$AZ58+$AY58 -> 4665.28 | ... Y58: =AX58+$BA58+$AZ58+$AY58 -> 4073.29 | AA58: 1036.89 | AB58: 949.2 | AC58: 819.54 | AD58: 588.59 | AE58: 945.81 | AF58: 1120.4 | AG58: 1409.55 | AH58: 1857.73 | AI58: 2047.91 | AJ58: 2079.61 | AK58: 2076.3 | AL58: 2064.58 | AM58: 2033.25 | AN58: 2042.55 | AO58: 2047.86 | AP58: 2051.64 | AQ58: 2061.18 | AR58: 2099.12 | AS58: 2115.48 | AT58: 2091.77 | AU58: 2081.04 | AV58: 2044.46 | AW58: 1831.88 | AX58: 1265.74 | AY58: 784.22 | AZ58: 6.61 | BA58: 2016.72
...

Sheet 4_ЦК
A1: Предельные уровни нерегулируемых цен на электрическую энергию (мощность), поставляемую
A2: =Шапка -> покупателям (потребителям) АО «НЭСК» в ноябре 2022г.
A3: IV. Четвертая ценовая категория
A4: (для объемов покупки э/э(мощности), в отношении которых за расчетный период осуществляется почасовой учет, но не осуществляется почасовое планирование, а стоимость услуг по передаче э/э определяется по тарифу на услуги по передаче электрической энергии в двухставочном выражении)
A5: 1. Потребители с максимальной мощностью энергопринимающих устройств менее 670 кВт | AA5: Потребители с максимальной мощностью энергопринимающих устройств менее 670 кВт
A6: 1.1. Ставка за электрическую энергию предельного уровня нерегулируемых цен
A8: Дата | B8: Ставка для фактических почасовых объемов покупки электрической энергии (по договору купли-продажи) | AA8: Структура нерегулируемой цены в соответствии с требованиями п.92 Основных положений функционирования розничных рынков электрической энергии, утвержденных Постановлением Правительства РФ от 04.05.2012 №442
B9: (рублей/МВт·ч без НДС) | AA9: Дифференцированная по часам расчетного периода нерегулируемая цена на э/э на ОРЭМ, определяемая по результатам конкурентного отбора ценовых заявок на сутки вперед и конкурентного отбора заявок для балансирования системы, руб./МВт·ч без НДС | AY9: Сбытовая надбавка | AZ9: Плата за иные услуги, оказание которых является неотъемлемой частью процесса поставки электрической энергии потребителям
B10: 0:00 - 1:00 | C10: 1:00 - 2:00 | D10: 2:00 - 3:00 | E10: 3:00 - 4:00 | F10: 4:00 - 5:00 | G10: 5:00- 6:00 | H10: 6:00 - 7:00 | I10: 7:00- 8:00 | J10: 8:00 - 9:00 | K10: 9:00 - 10:00 | L10: 10:00 - 11:00 | M10: 11:00 - 12:00 | N10: 12:00 - 13:00 | O10: 13:00 - 14:00 | P10: 14:00 - 15:00 | Q10: 15:00 - 16:00 | R10: 16:00 - 17:00 | S10: 17:00 -18:00 | T10: 18:00 - 19:00 | U10: 19:00 - 20:00 | V10: 20:00 - 21:00 | W10: 21:00 - 22:00 | X10: 22:00 - 23:00 | Y10: 23:00 - 24:00 | AA10: 0:00 - 1:00 | AB10: 1:00 - 2:00 | AC10: 2:00 - 3:00 | AD10: 3:00 - 4:00 | AE10: 4:00 - 5:00 | AF10: 5:00- 6:00 | AG10: 6:00 - 7:00 | AH10: 7:00- 8:00 | AI10: 8:00 - 9:00 | AJ10: 9:00 - 10:00 | AK10: 10:00 - 11:00 | AL10: 11:00 - 12:00 | AM10: 12:00 - 13:00 | AN10: 13:00 - 14:00 | AO10: 14:00 - 15:00 | AP10: 15:00 - 16:00 | AQ10: 16:00 - 17:00 | AR10: 17:00 -18:00 | AS10: 18:00 - 19:00 | AT10: 19:00 - 20:00 | AU10: 20:00 - 21:00 | AV10: 21:00 - 22:00 | AW10: 22:00 - 23:00 | AX10: 23:00 - 24:00
A11: 1=2+3+4 | AA11: 2 | AY11: 3 | AZ11: 4
A12: 1 | B12: =AA12+$AZ12+$AY12 -> 1158.83 | C12: =AB12+$AZ12+$AY12 -> 1149.75 | D12: =AC12+$AZ12+$AY12 -> 1117.5 | E12: =AD12+$AZ12+$AY12 -> 944.55 | F12: =AE12+$AZ12+$AY12 -> 1141.79 | G12: =AF12+$AZ12+$AY12 -> 1144.96 | H12: =AG12+$AZ12+$AY12 -> 1917.35 | I12: =AH12+$AZ12+$AY12 -> 2208.14 | ... Y12: =AX12+$AZ12+$AY12 -> 1427.14 | AA12: 368 | AB12: 358.92 | AC12: 326.67 | AD12: 153.72 | AE12: 350.96 | AF12: 354.13 | AG12: 1126.52 | AH12: 1417.31 | AI12: 1537.64 | AJ12: 1601.19 | AK12: 1601.14 | AL12: 1590.89 | AM12: 1573.52 | AN12: 1571.08 | AO12: 1564.86 | AP12: 1523.25 | AQ12: 1526.74 | AR12: 1553.33 | AS12: 1868.82 | AT12: 1868.59 | AU12: 1875.17 | AV12: 1497.57 | AW12: 1216.83 | AX12: 636.31 | AY12: 784.22 | AZ12: 6.61
A13: 2 | B13: =AA13+$AZ13+$AY13 -> 1147.53 | C13: =AB13+$AZ13+$AY13 -> 1094.78 | D13: =AC13+$AZ13+$AY13 -> 809.49 | E13: =AD13+$AZ13+$AY13 -> 809.49 | F13: =AE13+$AZ13+$AY13 -> 809.52 | G13: =AF13+$AZ13+$AY13 -> 1130.67 | H13: =AG13+$AZ13+$AY13 -> 1905.49 | I13: =AH13+$AZ13+$AY13 -> 2232.46 | ... Y13: =AX13+$AZ13+$AY13 -> 1900.76 | AA13: 356.7 | AB13: 303.95 | AC13: 18.66 | AD13: 18.66 | AE13: 18.69 | AF13: 339.84 | AG13: 1114.66 | AH13: 1441.63 | AI13: 1724.19 | AJ13: 1875.08 | AK13: 1878.94 | AL13: 1874.3 | AM13: 1861.95 | AN13: 1863.3 | AO13: 1866.86 | AP13: 1867.15 | AQ13: 1874.42 | AR13: 1932.77 | AS13: 1979.66 | AT13: 1975.66 | AU13: 1923.23 | AV13: 1901.03 | AW13: 1368.78 | AX13: 1109.93 | AY13: 784.22 | AZ13: 6.61
A14: 3 | B14: =AA14+$AZ14+$AY14 -> 1734.86 | C14: =AB14+$AZ14+$AY14 -> 1379.67 | D14: =AC14+$AZ14+$AY14 -> 1119.47 | E14: =AD14+$AZ14+$AY14 -> 1086.64 | F14: =AE14+$AZ14+$AY14 -> 1678.25 | G14: =AF14+$AZ14+$AY14 -> 1781.34 | H14: =AG14+$AZ14+$AY14 -> 2011.56 | I14: =AH14+$AZ14+$AY14 -> 2333.27 | ... Y14: =AX14+$AZ14+$AY14 -> 2140.1 | AA14: 944.03 | AB14: 588.84 | AC14: 328.64 | AD14: 295.81 | AE14: 887.42 | AF14: 990.51 | AG14: 1220.73 | AH14: 1542.44 | AI14: 1914.02 | AJ14: 1970.43 | AK14: 1978.47 | AL14: 1947.43 | AM14: 1925.99 | AN14: 1926.38 | AO14: 1927.38 | AP14: 1925.9 | AQ14: 1944.64 | AR14: 2013.39 | AS14: 2059.78 | AT14: 2087.25 | AU14: 2030.65 | AV14: 2003.62 | AW14: 1895.68 | AX14: 1349.27 | AY14: 784.22 | AZ14: 6.61
A15: 4 | B15: =AA15+$AZ15+$AY15 -> 2079.47 | C15: =AB15+$AZ15+$AY15 -> 1924.17 | D15: =AC15+$AZ15+$AY15 -> 1850.17 | E15: =AD15+$AZ15+$AY15 -> 1799.84 | F15: =AE15+$AZ15+$AY15 -> 1824.27 | G15: =AF15+$AZ15+$AY15 -> 1917.55 | H15: =AG15+$AZ15+$AY15 -> 2039.45 | I15: =AH15+$AZ15+$AY15 -> 2153.35 | ... Y15: =AX15+$AZ15+$AY15 -> 2126.88 | AA15: 1288.64 | AB15: 1133.34 | AC15: 1059.34 | AD15: 1009.01 | AE15: 1033.44 | AF15: 1126.72 | AG15: 1248.62 | AH15: 1362.52 | AI15: 1857.33 | AJ15: 1912.26 | AK15: 1928.43 | AL15: 1916.26 | AM15: 1914.85 | AN15: 1902.23 | AO15: 1919.54 | AP15: 1931.44 | AQ15: 1954.51 | AR15: 2050.97 | AS15: 2065.6 | AT15: 2073.72 | AU15: 2058.24 | AV15: 1948.69 | AW15: 1865.83 | AX15: 1336.05 | AY15: 784.22 | AZ15: 6.61
A16: 5 | B16: =AA16+$AZ16+$AY16 -> 1995.6 | C16: =AB16+$AZ16+$AY16 -> 1888.36 | D16: =AC16+$AZ16+$AY16 -> 1838.68 | E16: =AD16+$AZ16+$AY16 -> 1900.96 | F16: =AE16+$AZ16+$AY16 -> 1924.21 | G16: =AF16+$AZ16+$AY16 -> 2156.42 | H16: =AG16+$AZ16+$AY16 -> 2124.65 | I16: =AH16+$AZ16+$AY16 -> 2221.46 | ... Y16: =AX16+$AZ16+$AY16 -> 2130.72 | AA16: 1204.77 | AB16: 1097.53 | AC16: 1047.85 | AD16: 1110.13 | AE16: 1133.38 | AF16: 1365.59 | AG16: 1333.82 | AH16: 1430.63 | AI16: 1817.89 | AJ16: 1863.59 | AK16: 1867.9 | AL16: 1870.72 | AM16: 1867.57 | AN16: 1863.76 | AO16: 1868.68 | AP16: 1868.44 | AQ16: 1882.2 | AR16: 1931.31 | AS16: 1944.73 | AT16: 1947.47 | AU16: 1921.81 | AV16: 1886.6 | AW16: 1764.88 | AX16: 1339.89 | AY16: 784.22 | AZ16: 6.61
A17: 6 | B17: =AA17+$AZ17+$AY17 -> 1913.67 | C17: =AB17+$AZ17+$AY17 -> 1842.43 | D17: =AC17+$AZ17+$AY17 -> 1787.73 | E17: =AD17+$AZ17+$AY17 -> 1748.35 | F17: =AE17+$AZ17+$AY17 -> 1756.65 | G17: =AF17+$AZ17+$AY17 -> 1797.44 | H17: =AG17+$AZ17+$AY17 -> 1833.88 | I17: =AH17+$AZ17+$AY17 -> 1943.46 | ... Y17: =AX17+$AZ17+$AY17 -> 2045.54 | AA17: 1122.84 | AB17: 1051.6 | AC17: 996.9 | AD17: 957.52 | AE17: 965.82 | AF17: 1006.61 | AG17: 1043.05 | AH17: 1152.63 | AI17: 1347.87 | AJ17: 1809.73 | AK17: 1830.64 | AL17: 1827.75 | AM17: 1804.08 | AN17: 1797.03 | AO17: 1801.84 | AP17: 1808.09 | AQ17: 1832.21 | AR17: 1863.16 | AS17: 1880.02 | AT17: 1868.19 | AU17: 1865.11 | AV17: 1855.01 | AW17: 1365.13 | AX17: 1254.71 | AY17: 784.22 | AZ17: 6.61
A18: 7 | B18: =AA18+$AZ18+$AY18 -> 1806.18 | C18: =AB18+$AZ18+$AY18 -> 1663.3 | D18: =AC18+$AZ18+$AY18 -> 1660.8 | E18: =AD18+$AZ18+$AY18 -> 1526.72 | F18: =AE18+$AZ18+$AY18 -> 1719.99 | G18: =AF18+$AZ18+$AY18 -> 1802.73 | H18: =AG18+$AZ18+$AY18 -> 1935.45 | I18: =AH18+$AZ18+$AY18 -> 2232.85 | ... Y18: =AX18+$AZ18+$AY18 -> 1933.1 | AA18: 1015.35 | AB18: 872.47 | AC18: 869.97 | AD18: 735.89 | AE18: 929.16 | AF18: 1011.9 | AG18: 1144.62 | AH18: 1442.02 | AI18: 1857.87 | AJ18: 1927.25 | AK18: 1938.27 | AL18: 1919.18 | AM18: 1888.73 | AN18: 1899.53 | AO18: 1892.31 | AP18: 1901.21 | AQ18: 1918.26 | AR18: 1941.93 | AS18: 1973.75 | AT18: 1984.49 | AU18: 1923.71 | AV18: 1869.73 | AW18: 1375.22 | AX18: 1142.27 | AY18: 784.22 | AZ18: 6.61
A19: 8 | B19: =AA19+$AZ19+$AY19 -> 1762.64 | C19: =AB19+$AZ19+$AY19 -> 1448.1 | D19: =AC19+$AZ19+$AY19 -> 1391.17 | E19: =AD19+$AZ19+$AY19 -> 1364.49 | F19: =AE19+$AZ19+$AY19 -> 1664.86 | G19: =AF19+$AZ19+$AY19 -> 1758.36 | H19: =AG19+$AZ19+$AY19 -> 1940.35 | I19: =AH19+$AZ19+$AY19 -> 2230.58 | ... Y19: =AX19+$AZ19+$AY19 -> 1915.64 | AA19: 971.81 | AB19: 657.27 | AC19: 600.34 | AD19: 573.66 | AE19: 874.03 | AF19: 967.53 | AG19: 1149.52 | AH19: 1439.75 | AI19: 1856.86 | AJ19: 1921.66 | AK19: 1915.9 | AL19: 1899.12 | AM19: 1880.73 | AN19: 1893.26 | AO19: 1902.12 | AP19: 1910.55 | AQ19: 1917.8 | AR19: 1924.18 | AS19: 1953.73 | AT19: 1955.8 | AU19: 1897.34 | AV19: 1823.96 | AW19: 1336.19 | AX19: 1124.81 | AY19: 784.22 | AZ19: 6.61
A20: 9 | B20: =AA20+$AZ20+$AY20 -> 1802.77 | C20: =AB20+$AZ20+$AY20 -> 1720.84 | D20: =AC20+$AZ20+$AY20 -> 1635.59 | E20: =AD20+$AZ20+$AY20 -> 1485.56 | F20: =AE20+$AZ20+$AY20 -> 1733.69 | G20: =AF20+$AZ20+$AY20 -> 1839.99 | H20: =AG20+$AZ20+$AY20 -> 2041.14 | I20: =AH20+$AZ20+$AY20 -> 2360.26 | ... Y20: =AX20+$AZ20+$AY20 -> 2015.79 | AA20: 1011.94 | AB20: 930.01 | AC20: 844.76 | AD20: 694.73 | AE20: 942.86 | AF20: 1049.16 | AG20: 1250.31 | AH20: 1569.43 | AI20: 1948.63 | AJ20: 2045.66 | AK20: 2045.01 | AL20: 2036.19 | AM20: 2026.77 | AN20: 2021.65 | AO20: 2033.71 | AP20: 2035.26 | AQ20: 2041.82 | AR20: 2077.7 | AS20: 2094.79 | AT20: 2066.55 | AU20: 2050.99 | AV20: 1947.99 | AW20: 1654.37 | AX20: 1224.96 | AY20: 784.22 | AZ20: 6.61
A21: 10 | B21: =AA21+$AZ21+$AY21 -> 1836.03 | C21: =AB21+$AZ21+$AY21 -> 1736.53 | D21: =AC21+$AZ21+$AY21 -> 1684.98 | E21: =AD21+$AZ21+$AY21 -> 1418.08 | F21: =AE21+$AZ21+$AY21 -> 1733.81 | G21: =AF21+$AZ21+$AY21 -> 1866.07 | H21: =AG21+$AZ21+$AY21 -> 2095.03 | I21: =AH21+$AZ21+$AY21 -> 2496.77 | ... Y21: =AX21+$AZ21+$AY21 -> 1962.24 | AA21: 1045.2 | AB21: 945.7 | AC21: 894.15 | AD21: 627.25 | AE21: 942.98 | AF21: 1075.24 | AG21: 1304.2 | AH21: 1705.94 | AI21: 1962.11 | AJ21: 2012.77 | AK21: 2031.56 | AL21: 2016.54 | AM21: 1972.36 | AN21: 1985.78 | AO21: 2004.64 | AP21: 2020.34 | AQ21: 2033.95 | AR21: 2080.24 | AS21: 2099.48 | AT21: 2093.27 | AU21: 2060.99 | AV21: 1979.05 | AW21: 1432.28 | AX21: 1171.41 | AY21: 784.22 | AZ21: 6.61
A22: 11 | B22: =AA22+$AZ22+$AY22 -> 1827.72 | C22: =AB22+$AZ22+$AY22 -> 1740.03 | D22: =AC22+$AZ22+$AY22 -> 1610.37 | E22: =AD22+$AZ22+$AY22 -> 1379.42 | F22: =AE22+$AZ22+$AY22 -> 1736.64 | G22: =AF22+$AZ22+$AY22 -> 1911.23 | H22: =AG22+$AZ22+$AY22 -> 2200.38 | I22: =AH22+$AZ22+$AY22 -> 2648.56 | ... Y22: =AX22+$AZ22+$AY22 -> 2056.57 | AA22: 1036.89 | AB22: 949.2 | AC22: 819.54 | AD22: 588.59 | AE22: 945.81 | AF22: 1120.4 | AG22: 1409.55 | AH22: 1857.73 | AI22: 2047.91 | AJ22: 2079.61 | AK22: 2076.3 | AL22: 2064.58 | AM22: 2033.25 | AN22: 2042.55 | AO22: 2047.86 | AP22: 2051.64 | AQ22: 2061.18 | AR22: 2099.12 | AS22: 2115.48 | AT22: 2091.77 | AU22: 2081.04 | AV22: 2044.46 | AW22: 1831.88 | AX22: 1265.74 | AY22: 784.22 | AZ22: 6.61
A23: 12 | B23: =AA23+$AZ23+$AY23 -> 1912.44 | C23: =AB23+$AZ23+$AY23 -> 1786.69 | D23: =AC23+$AZ23+$AY23 -> 1737.47 | E23: =AD23+$AZ23+$AY23 -> 1709.57 | F23: =AE23+$AZ23+$AY23 -> 1732.26 | G23: =AF23+$AZ23+$AY23 -> 1796.64 | H23: =AG23+$AZ23+$AY23 -> 1913.88 | I23: =AH23+$AZ23+$AY23 -> 2032.91 | ... Y23: =AX23+$AZ23+$AY23 -> 2095.85 | AA23: 1121.61 | AB23: 995.86 | AC23: 946.64 | AD23: 918.74 | AE23: 941.43 | AF23: 1005.81 | AG23: 1123.05 | AH23: 1242.08 | AI23: 1838.54 | AJ23: 1943.92 | AK23: 1959.58 | AL23: 1955.52 | AM23: 1940.78 | AN23: 1924.34 | AO23: 1934.85 | AP23: 1952.95 | AQ23: 1991.66 | AR23: 2058.83 | AS23: 2082.11 | AT23: 2064.67 | AU23: 2014.69 | AV23: 1971.5 | AW23: 1928.13 | AX23: 1305.02 | AY23: 784.22 | AZ23: 6.61
... A42: 31 | B42: =AA42+$AZ42+$AY42 -> 0 | C42: =AB42+$AZ42+$AY42 -> 0 | D42: =AC42+$AZ42+$AY42 -> 0 | E42: =AD42+$AZ42+$AY42 -> 0 | F42: =AE42+$AZ42+$AY42 -> 0 | G42: =AF42+$AZ42+$AY42 -> 0 | H42: =AG42+$AZ42+$AY42 -> 0 | I42: =AH42+$AZ42+$AY42 -> 0 | ... Y42: =AX42+$AZ42+$AY42 -> 0 | AA42: 0 | AB42: 0 | AC42: 0 | AD42: 0 | AE42: 0 | AF42: 0 | AG42: 0 | AH42: 0 | AI42: 0 | AJ42: 0 | AK42: 0 | AL42: 0 | AM42: 0 | AN42: 0 | AO42: 0 | AP42: 0 | AQ42: 0 | AR42: 0 | AS42: 0 | AT42: 0 | AU42: 0 | AV42: 0 | AW42: 0 | AX42: 0 | AY42: 0 | AZ42: 0
B43: ПО УРОВНЯМ НАПРЯЖЕНИЯ | AA43: =SUM(AA12:AX42) -> 1120067.7
A44: Дата | B44: Ставка для фактических почасовых объемов покупки электрической энергии, отпущенных на уровне напряжения ВН по договору энергоснабжения | AA44: Структура нерегулируемой цены в соответствии с требованиями п.92 Основных положений функционирования розничных рынков электрической энергии, утвержденных Постановлением Правительства РФ от 04.05.2012 №442
B45: (рублей/МВт·ч без НДС) | AA45: Дифференцированная по часам расчетного периода нерегулируемая цена на э/э на ОРЭМ, определяемая по результатам конкурентного отбора ценовых заявок на сутки вперед и конкурентного отбора заявок для балансирования системы, руб./МВт·ч без НДС | AY45: =AY9 -> Сбытовая надбавка | AZ45: Плата за иные услуги, оказание которых является неотъемлемой частью процесса поставки электрической энергии потребителям | BA45: Тарифы на услуги по передаче электроэнергии, ставка на оплату технологического расхода (потерь) в электрических сетях
B46: 0:00 - 1:00 | C46: 1:00 - 2:00 | D46: 2:00 - 3:00 | E46: 3:00 - 4:00 | F46: 4:00 - 5:00 | G46: 5:00- 6:00 | H46: 6:00 - 7:00 | I46: 7:00- 8:00 | J46: 8:00 - 9:00 | K46: 9:00 - 10:00 | L46: 10:00 - 11:00 | M46: 11:00 - 12:00 | N46: 12:00 - 13:00 | O46: 13:00 - 14:00 | P46: 14:00 - 15:00 | Q46: 15:00 - 16:00 | R46: 16:00 - 17:00 | S46: 17:00 -18:00 | T46: 18:00 - 19:00 | U46: 19:00 - 20:00 | V46: 20:00 - 21:00 | W46: 21:00 - 22:00 | X46: 22:00 - 23:00 | Y46: 23:00 - 24:00 | AA46: 0:00 - 1:00 | AB46: 1:00 - 2:00 | AC46: 2:00 - 3:00 | AD46: 3:00 - 4:00 | AE46: 4:00 - 5:00 | AF46: 5:00- 6:00 | AG46: 6:00 - 7:00 | AH46: 7:00- 8:00 | AI46: 8:00 - 9:00 | AJ46: 9:00 - 10:00 | AK46: 10:00 - 11:00 | AL46: 11:00 - 12:00 | AM46: 12:00 - 13:00 | AN46: 13:00 - 14:00 | AO46: 14:00 - 15:00 | AP46: 15:00 - 16:00 | AQ46: 16:00 - 17:00 | AR46: 17:00 -18:00 | AS46: 18:00 - 19:00 | AT46: 19:00 - 20:00 | AU46: 20:00 - 21:00 | AV46: 21:00 - 22:00 | AW46: 22:00 - 23:00 | AX46: 23:00 - 24:00 | BA46: ВН
A47: 1=2+3+4+5 | AA47: 2 | AY47: 3 | AZ47: 4 | BA47: 5
A48: 1 | B48: =AA48+$BA48+$AZ48+$AY48 -> 1261.4 | C48: =AB48+$BA48+$AZ48+$AY48 -> 1252.32 | D48: =AC48+$BA48+$AZ48+$AY48 -> 1220.07 | E48: =AD48+$BA48+$AZ48+$AY48 -> 1047.12 | F48: =AE48+$BA48+$AZ48+$AY48 -> 1244.36 | G48: =AF48+$BA48+$AZ48+$AY48 -> 1247.53 | H48: =AG48+$BA48+$AZ48+$AY48 -> 2019.92 | I48: =AH48+$BA48+$AZ48+$AY48 -> 2310.71 | ... Y48: =AX48+$BA48+$AZ48+$AY48 -> 1529.71 | AA48: 368 | AB48: 358.92 | AC48: 326.67 | AD48: 153.72 | AE48: 350.96 | AF48: 354.13 | AG48: 1126.52 | AH48: 1417.31 | AI48: 1537.64 | AJ48: 1601.19 | AK48: 1601.14 | AL48: 1590.89 | AM48: 1573.52 | AN48: 1571.08 | AO48: 1564.86 | AP48: 1523.25 | AQ48: 1526.74 | AR48: 1553.33 | AS48: 1868.82 | AT48: 1868.59 | AU48: 1875.17 | AV48: 1497.57 | AW48: 1216.83 | AX48: 636.31 | AY48: 784.22 | AZ48: 6.61 | BA48: 102.57
A49: 2 | B49: =AA49+$BA49+$AZ49+$AY49 -> 1250.1 | C49: =AB49+$BA49+$AZ49+$AY49 -> 1197.35 | D49: =AC49+$BA49+$AZ49+$AY49 -> 912.06 | E49: =AD49+$BA49+$AZ49+$AY49 -> 912.06 | F49: =AE49+$BA49+$AZ49+$AY49 -> 912.09 | G49: =AF49+$BA49+$AZ49+$AY49 -> 1233.24 | H49: =AG49+$BA49+$AZ49+$AY49 -> 2008.06 | I49: =AH49+$BA49+$AZ49+$AY49 -> 2335.03 | ... Y49: =AX49+$BA49+$AZ49+$AY49 -> 2003.33 | AA49: 356.7 | AB49: 303.95 | AC49: 18.66 | AD49: 18.66 | AE49: 18.69 | AF49: 339.84 | AG49: 1114.66 | AH49: 1441.63 | AI49: 1724.19 | AJ49: 1875.08 | AK49: 1878.94 | AL49: 1874.3 | AM49: 1861.95 | AN49: 1863.3 | AO49: 1866.86 | AP49: 1867.15 | AQ49: 1874.42 | AR49: 1932.77 | AS49: 1979.66 | AT49: 1975.66 | AU49: 1923.23 | AV49: 1901.03 | AW49: 1368.78 | AX49: 1109.93 | AY49: 784.22 | AZ49: 6.61 | BA49: 102.57
