Workbook

Sheet до 670кВт
A2: Расчет предельных уровней нерегулируемых цен для потребителей АО «НЭСК»
E3: с максимальной мощностью принадлежащих им энергопринимающих устройств менее 670 кВт
A4: на июль 2021 года
A5: руб/кВтч | G5: без НДС
A6: Уровень напряжения | C6: Сбытовая надбавка гарантирующего поставщика | D6: Инфраструктурные платежи (услуги "СО ЕЭС", АО "АТС", ЗАО "ЦФР") | E6: Плата за услуги по передаче | F6: Средневзвешенная нерегулируемая цена на электроэнергию (мощность) на оптовом рынке | G6: Предельные уровни нерегулируемых цен для потребителей группы "Прочие" (гр.2+гр.3+гр.4+гр.5)
A7: 1 | C7: 2 | D7: 3 | E7: 4 | F7: 5 | G7: 6
A8: Первая ценовая категория
A9: ВН | C9: 0.49844 | D9: 0.00253 | E9: 1.95798 | F9: 3.37462 | G9: =SUM(C9:F9) -> 5.83357
A10: СН1 | C10: =C9 -> 0.49844 | D10: =D9 -> 0.00253 | E10: 2.56704 | F10: =F9 -> 3.37462 | G10: =SUM(C10:F10) -> 6.44263
A11: СН2 | C11: =C9 -> 0.49844 | D11: =D9 -> 0.00253 | E11: 3.96657 | F11: =F9 -> 3.37462 | G11: =SUM(C11:F11) -> 7.84216
A12: НН | C12: =C9 -> 0.49844 | D12: =D11 -> 0.00253 | E12: 5.28789 | F12: =F9 -> 3.37462 | G12: =SUM(C12:F12) -> 9.16348
A13: Вторая ценовая категория
A14: Потребители, рассчитывающиеся по трем зонам суток:
A15: ночная зона
A16: ВН | C16: =C9 -> 0.49844 | D16: =D9 -> 0.00253 | E16: =E9 -> 1.95798 | F16: 1.10342 | G16: =SUM(C16:F16) -> 3.56237
A17: СН1 | C17: =C10 -> 0.49844 | D17: =D10 -> 0.00253 | E17: =E10 -> 2.56704 | F17: =F16 -> 1.10342 | G17: =SUM(C17:F17) -> 4.17143
A18: СН2 | C18: =C11 -> 0.49844 | D18: =D11 -> 0.00253 | E18: =E11 -> 3.96657 | F18: =F17 -> 1.10342 | G18: =SUM(C18:F18) -> 5.57096
A19: НН | C19: =C12 -> 0.49844 | D19: =D12 -> 0.00253 | E19: =E12 -> 5.28789 | F19: =F18 -> 1.10342 | G19: =SUM(C19:F19) -> 6.89228
A20: полупиковая зона
A21: ВН | C21: =C9 -> 0.49844 | D21: =D16 -> 0.00253 | E21: =E16 -> 1.95798 | F21: 3.56917 | G21: =SUM(C21:F21) -> 6.02812
A22: СН1 | C22: =C10 -> 0.49844 | D22: =D21 -> 0.00253 | E22: =E17 -> 2.56704 | F22: =F21 -> 3.56917 | G22: =SUM(C22:F22) -> 6.63718
A23: СН2 | C23: =C11 -> 0.49844 | D23: =D22 -> 0.00253 | E23: =E18 -> 3.96657 | F23: =F22 -> 3.56917 | G23: =SUM(C23:F23) -> 8.03671
A24: НН | C24: =C12 -> 0.49844 | D24: =D23 -> 0.00253 | E24: =E19 -> 5.28789 | F24: =F23 -> 3.56917 | G24: =SUM(C24:F24) -> 9.35803
A25: пиковая зона
A26: ВН | C26: =C21 -> 0.49844 | D26: =D21 -> 0.00253 | E26: =E21 -> 1.95798 | F26: 7.18142 | G26: =SUM(C26:F26) -> 9.64037
A27: СН1 | C27: =C22 -> 0.49844 | D27: =D22 -> 0.00253 | E27: =E22 -> 2.56704 | F27: =F26 -> 7.18142 | G27: =SUM(C27:F27) -> 10.24943
A28: СН2 | C28: =C23 -> 0.49844 | D28: =D23 -> 0.00253 | E28: =E23 -> 3.96657 | F28: =F27 -> 7.18142 | G28: =SUM(C28:F28) -> 11.64896
A29: НН | C29: =C24 -> 0.49844 | D29: =D24 -> 0.00253 | E29: =E24 -> 5.28789 | F29: =F28 -> 7.18142 | G29: =SUM(C29:F29) -> 12.97028
A30: Потребители, рассчитывающиеся по двум зонам суток:
A31: ночная зона
A32: ВН | C32: =C26 -> 0.49844 | D32: =D26 -> 0.00253 | E32: =E26 -> 1.95798 | F32: 1.10342 | G32: =SUM(C32:F32) -> 3.56237
A33: СН1 | C33: =C27 -> 0.49844 | D33: =D27 -> 0.00253 | E33: =E27 -> 2.56704 | F33: =F32 -> 1.10342 | G33: =SUM(C33:F33) -> 4.17143
A34: СН2 | C34: =C28 -> 0.49844 | D34: =D28 -> 0.00253 | E34: =E28 -> 3.96657 | F34: =F33 -> 1.10342 | G34: =SUM(C34:F34) -> 5.57096
A35: НН | C35: =C29 -> 0.49844 | D35: =D29 -> 0.00253 | E35: =E29 -> 5.28789 | F35: =F34 -> 1.10342 | G35: =SUM(C35:F35) -> 6.89228
A36: дневная зона
A37: ВН | C37: =C32 -> 0.49844 | D37: =D32 -> 0.00253 | E37: =E32 -> 1.95798 | F37: 5.04972 | G37: =SUM(C37:F37) -> 7.50867
A38: СН1 | C38: =C33 -> 0.49844 | D38: =D33 -> 0.00253 | E38: =E33 -> 2.56704 | F38: =F37 -> 5.04972 | G38: =SUM(C38:F38) -> 8.11773
A39: СН2 | C39: =C34 -> 0.49844 | D39: =D34 -> 0.00253 | E39: =E34 -> 3.96657 | F39: =F38 -> 5.04972 | G39: =SUM(C39:F39) -> 9.51726
A40: НН | C40: =C35 -> 0.49844 | D40: =D35 -> 0.00253 | E40: =E35 -> 5.28789 | F40: =F39 -> 5.04972 | G40: =SUM(C40:F40) -> 10.83858
A41: Третья ценовая категория
...

Sheet от 670кВт до 10000кВт
A2: Расчет предельных уровней нерегулируемых цен для потребителей АО «НЭСК»
E3: с максимальной мощностью принадлежащих им энергопринимающих устройств от 670 кВт до 10000 кВт
A4: ='до 670кВт'!A4:G4 -> на июль 2021 года
A5: руб/кВтч | G5: без НДС
A6: Уровень напряжения | C6: Сбытовая надбавка гарантирующего поставщика | D6: Инфраструктурные платежи (услуги "СО ЕЭС", ОАО "АТС", ЗАО "ЦФР") | E6: Плата за услуги по передаче | F6: ='до 670кВт'!F6 -> Средневзвешенная нерегулируемая цена на электроэнергию (мощность) на оптовом рынке | G6: ='до 670кВт'!G6 -> Предельные уровни нерегулируемых цен для потребителей группы "Прочие" (гр.2+гр.3+гр.4+гр.5)
A7: 1 | C7: 2 | D7: 3 | E7: 4 | F7: 5 | G7: 6
A8: Первая ценовая категория
A9: ВН | C9: 0.34726 | D9: ='до 670кВт'!D9 -> 0.00253 | E9: ='до 670кВт'!E9 -> 1.95798 | F9: ='до 670кВт'!F9 -> 3.37462 | G9: =SUM(C9:F9) -> 5.68239
A10: СН1 | C10: =C9 -> 0.34726 | D10: =D9 -> 0.00253 | E10: ='до 670кВт'!E10 -> 2.56704 | F10: =F9 -> 3.37462 | G10: =SUM(C10:F10) -> 6.29145
A11: СН2 | C11: =C9 -> 0.34726 | D11: =D10 -> 0.00253 | E11: ='до 670кВт'!E11 -> 3.96657 | F11: =F9 -> 3.37462 | G11: =SUM(C11:F11) -> 7.69098
A12: НН | C12: =C9 -> 0.34726 | D12: =D11 -> 0.00253 | E12: ='до 670кВт'!E12 -> 5.28789 | F12: =F9 -> 3.37462 | G12: =SUM(C12:F12) -> 9.0123
A13: Вторая ценовая категория
A14: Потребители, рассчитывающиеся по трем зонам суток:
A15: ночная зона
A16: ВН | C16: =C9 -> 0.34726 | D16: =D9 -> 0.00253 | E16: ='до 670кВт'!E16 -> 1.95798 | F16: ='до 670кВт'!F16 -> 1.10342 | G16: =SUM(C16:F16) -> 3.41119
A17: СН1 | C17: =C10 -> 0.34726 | D17: =D10 -> 0.00253 | E17: ='до 670кВт'!E17 -> 2.56704 | F17: =F16 -> 1.10342 | G17: =SUM(C17:F17) -> 4.02025
A18: СН2 | C18: =C11 -> 0.34726 | D18: =D11 -> 0.00253 | E18: ='до 670кВт'!E18 -> 3.96657 | F18: =F17 -> 1.10342 | G18: =SUM(C18:F18) -> 5.41978
A19: НН | C19: =C12 -> 0.34726 | D19: =D12 -> 0.00253 | E19: ='до 670кВт'!E19 -> 5.28789 | F19: =F18 -> 1.10342 | G19: =SUM(C19:F19) -> 6.7411
A20: полупиковая зона
A21: ВН | C21: =C16 -> 0.34726 | D21: =D16 -> 0.00253 | E21: ='до 670кВт'!E21 -> 1.95798 | F21: ='до 670кВт'!F21 -> 3.56917 | G21: =SUM(C21:F21) -> 5.87694
A22: СН1 | C22: =C17 -> 0.34726 | D22: =D21 -> 0.00253 | E22: ='до 670кВт'!E22 -> 2.56704 | F22: =F21 -> 3.56917 | G22: =SUM(C22:F22) -> 6.486
A23: СН2 | C23: =C18 -> 0.34726 | D23: =D22 -> 0.00253 | E23: ='до 670кВт'!E23 -> 3.96657 | F23: =F22 -> 3.56917 | G23: =SUM(C23:F23) -> 7.88553
A24: НН | C24: =C19 -> 0.34726 | D24: =D23 -> 0.00253 | E24: ='до 670кВт'!E24 -> 5.28789 | F24: =F23 -> 3.56917 | G24: =SUM(C24:F24) -> 9.20685
A25: пиковая зона
A26: ВН | C26: =C21 -> 0.34726 | D26: =D9 -> 0.00253 | E26: ='до 670кВт'!E26 -> 1.95798 | F26: ='до 670кВт'!F26 -> 7.18142 | G26: =SUM(C26:F26) -> 9.48919
A27: СН1 | C27: =C22 -> 0.34726 | D27: =D10 -> 0.00253 | E27: ='до 670кВт'!E27 -> 2.56704 | F27: =F26 -> 7.18142 | G27: =SUM(C27:F27) -> 10.09825
A28: СН2 | C28: =C23 -> 0.34726 | D28: =D11 -> 0.00253 | E28: ='до 670кВт'!E28 -> 3.96657 | F28: =F27 -> 7.18142 | G28: =SUM(C28:F28) -> 11.49778
A29: НН | C29: =C24 -> 0.34726 | D29: =D12 -> 0.00253 | E29: ='до 670кВт'!E29 -> 5.28789 | F29: =F28 -> 7.18142 | G29: =SUM(C29:F29) -> 12.8191
A30: Потребители, рассчитывающиеся по двум зонам суток:
A31: ночная зона
A32: ВН | C32: =C26 -> 0.34726 | D32: =D26 -> 0.00253 | E32: ='до 670кВт'!E32 -> 1.95798 | F32: =F16 -> 1.10342 | G32: =SUM(C32:F32) -> 3.41119
A33: СН1 | C33: =C27 -> 0.34726 | D33: =D27 -> 0.00253 | E33: ='до 670кВт'!E33 -> 2.56704 | F33: =F32 -> 1.10342 | G33: =SUM(C33:F33) -> 4.02025
A34: СН2 | C34: =C28 -> 0.34726 | D34: =D28 -> 0.00253 | E34: ='до 670кВт'!E34 -> 3.96657 | F34: =F33 -> 1.10342 | G34: =SUM(C34:F34) -> 5.41978
A35: НН | C35: =C29 -> 0.34726 | D35: =D29 -> 0.00253 | E35: ='до 670кВт'!E35 -> 5.28789 | F35: =F34 -> 1.10342 | G35: =SUM(C35:F35) -> 6.7411
A36: дневная зона
A37: ВН | C37: =C32 -> 0.34726 | D37: =D32 -> 0.00253 | E37: ='до 670кВт'!E37 -> 1.95798 | F37: ='до 670кВт'!F37 -> 5.04972 | G37: =SUM(C37:F37) -> 7.35749
A38: СН1 | C38: =C33 -> 0.34726 | D38: =D33 -> 0.00253 | E38: ='до 670кВт'!E38 -> 2.56704 | F38: =F37 -> 5.04972 | G38: =SUM(C38:F38) -> 7.96655
A39: СН2 | C39: =C34 -> 0.34726 | D39: =D34 -> 0.00253 | E39: ='до 670кВт'!E39 -> 3.96657 | F39: =F38 -> 5.04972 | G39: =SUM(C39:F39) -> 9.36608
A40: НН | C40: =C35 -> 0.34726 | D40: =D35 -> 0.00253 | E40: ='до 670кВт'!E40 -> 5.28789 | F40: =F39 -> 5.04972 | G40: =SUM(C40:F40) -> 10.6874
A41: Третья ценовая категория
...

Sheet от 10000 кВт
A2: Расчет предельных уровней нерегулируемых цен для потребителей АО «НЭСК»
E3: с максимальной мощностью принадлежащих им энергопринимающих устройств от 10000 кВт
A4: ='от 670кВт до 10000кВт'!A4:G4 -> на июль 2021 года
A5: руб/кВтч | G5: без НДС
A6: Уровень напряжения | C6: Сбытовая надбавка гарантирующего поставщика | D6: Инфраструктурные платежи (услуги "СО ЕЭС", ОАО "АТС", ЗАО "ЦФР") | E6: Плата за услуги по передаче | F6: ='от 670кВт до 10000кВт'!F6 -> Средневзвешенная нерегулируемая цена на электроэнергию (мощность) на оптовом рынке | G6: ='от 670кВт до 10000кВт'!G6 -> Предельные уровни нерегулируемых цен для потребителей группы "Прочие" (гр.2+гр.3+гр.4+гр.5)
A7: 1 | C7: 2 | D7: 3 | E7: 4 | F7: 5 | G7: 6
A8: Первая ценовая категория
A9: ВН | C9: 0.16615 | D9: ='до 670кВт'!D9 -> 0.00253 | E9: 1.78322 | F9: ='от 670кВт до 10000кВт'!F9 -> 3.37462 | G9: =SUM(C9:F9) -> 5.32652
A10: СН1 | C10: =C9 -> 0.16615 | D10: =D9 -> 0.00253 | E10: ='до 670кВт'!E10 -> 2.56704 | F10: =F9 -> 3.37462 | G10: =SUM(C10:F10) -> 6.11034
A11: СН2 | C11: =C9 -> 0.16615 | D11: =D9 -> 0.00253 | E11: ='до 670кВт'!E11 -> 3.96657 | F11: =F9 -> 3.37462 | G11: =SUM(C11:F11) -> 7.50987
A12: НН | C12: =C9 -> 0.16615 | D12: =D9 -> 0.00253 | E12: ='до 670кВт'!E12 -> 5.28789 | F12: =F9 -> 3.37462 | G12: =SUM(C12:F12) -> 8.83119
A13: Вторая ценовая категория
A14: Потребители, рассчитывающиеся по трем зонам суток:
A15: ночная зона
A16: ВН | C16: =C9 -> 0.16615 | D16: =D9 -> 0.00253 | E16: ='до 670кВт'!E16 -> 1.95798 | F16: ='от 670кВт до 10000кВт'!F16 -> 1.10342 | G16: =SUM(C16:F16) -> 3.23008
A17: СН1 | C17: =C10 -> 0.16615 | D17: =D10 -> 0.00253 | E17: ='до 670кВт'!E17 -> 2.56704 | F17: =F16 -> 1.10342 | G17: =SUM(C17:F17) -> 3.83914
A18: СН2 | C18: =C11 -> 0.16615 | D18: =D11 -> 0.00253 | E18: ='до 670кВт'!E18 -> 3.96657 | F18: =F17 -> 1.10342 | G18: =SUM(C18:F18) -> 5.23867
A19: НН | C19: =C12 -> 0.16615 | D19: =D12 -> 0.00253 | E19: ='до 670кВт'!E19 -> 5.28789 | F19: =F18 -> 1.10342 | G19: =SUM(C19:F19) -> 6.55999
A20: полупиковая зона
A21: ВН | C21: =C16 -> 0.16615 | D21: =D16 -> 0.00253 | E21: ='до 670кВт'!E21 -> 1.95798 | F21: ='от 670кВт до 10000кВт'!F21 -> 3.56917 | G21: =SUM(C21:F21) -> 5.69583
A22: СН1 | C22: =C17 -> 0.16615 | D22: =D21 -> 0.00253 | E22: ='до 670кВт'!E22 -> 2.56704 | F22: =F21 -> 3.56917 | G22: =SUM(C22:F22) -> 6.30489
A23: СН2 | C23: =C18 -> 0.16615 | D23: =D22 -> 0.00253 | E23: ='до 670кВт'!E23 -> 3.96657 | F23: =F22 -> 3.56917 | G23: =SUM(C23:F23) -> 7.70442
A24: НН | C24: =C19 -> 0.16615 | D24: =D23 -> 0.00253 | E24: ='до 670кВт'!E24 -> 5.28789 | F24: =F23 -> 3.56917 | G24: =SUM(C24:F24) -> 9.02574
A25: пиковая зона
A26: ВН | C26: =C21 -> 0.16615 | D26: =D9 -> 0.00253 | E26: ='до 670кВт'!E26 -> 1.95798 | F26: ='от 670кВт до 10000кВт'!F26 -> 7.18142 | G26: =SUM(C26:F26) -> 9.30808
A27: СН1 | C27: =C22 -> 0.16615 | D27: =D10 -> 0.00253 | E27: ='до 670кВт'!E27 -> 2.56704 | F27: =F26 -> 7.18142 | G27: =SUM(C27:F27) -> 9.91714
A28: СН2 | C28: =C23 -> 0.16615 | D28: =D11 -> 0.00253 | E28: ='до 670кВт'!E28 -> 3.96657 | F28: =F27 -> 7.18142 | G28: =SUM(C28:F28) -> 11.31667
A29: НН | C29: =C24 -> 0.16615 | D29: =D12 -> 0.00253 | E29: ='до 670кВт'!E29 -> 5.28789 | F29: =F28 -> 7.18142 | G29: =SUM(C29:F29) -> 12.63799
A30: Потребители, рассчитывающиеся по двум зонам суток:
A31: ночная зона
A32: ВН | C32: =C26 -> 0.16615 | D32: =D26 -> 0.00253 | E32: ='до 670кВт'!E32 -> 1.95798 | F32: ='от 670кВт до 10000кВт'!F32 -> 1.10342 | G32: =SUM(C32:F32) -> 3.23008
A33: СН1 | C33: =C27 -> 0.16615 | D33: =D27 -> 0.00253 | E33: ='до 670кВт'!E33 -> 2.56704 | F33: =F32 -> 1.10342 | G33: =SUM(C33:F33) -> 3.83914
A34: СН2 | C34: =C28 -> 0.16615 | D34: =D28 -> 0.00253 | E34: ='до 670кВт'!E34 -> 3.96657 | F34: =F33 -> 1.10342 | G34: =SUM(C34:F34) -> 5.23867
A35: НН | C35: =C29 -> 0.16615 | D35: =D29 -> 0.00253 | E35: ='до 670кВт'!E35 -> 5.28789 | F35: =F34 -> 1.10342 | G35: =SUM(C35:F35) -> 6.55999
A36: дневная зона
A37: ВН | C37: =C32 -> 0.16615 | D37: =D32 -> 0.00253 | E37: ='до 670кВт'!E37 -> 1.95798 | F37: ='от 670кВт до 10000кВт'!F37 -> 5.04972 | G37: =SUM(C37:F37) -> 7.17638
A38: СН1 | C38: =C33 -> 0.16615 | D38: =D33 -> 0.00253 | E38: ='до 670кВт'!E38 -> 2.56704 | F38: =F37 -> 5.04972 | G38: =SUM(C38:F38) -> 7.78544
A39: СН2 | C39: =C34 -> 0.16615 | D39: =D34 -> 0.00253 | E39: ='до 670кВт'!E39 -> 3.96657 | F39: =F38 -> 5.04972 | G39: =SUM(C39:F39) -> 9.18497
A40: НН | C40: =C35 -> 0.16615 | D40: =D35 -> 0.00253 | E40: ='до 670кВт'!E40 -> 5.28789 | F40: =F39 -> 5.04972 | G40: =SUM(C40:F40) -> 10.50629
A41: Третья ценовая категория
...
