Workbook

Sheet до 670кВт
A2: Расчет предельных уровней нерегулируемых цен для потребителей АО «НЭСК»
E3: с максимальной мощностью принадлежащих им энергопринимающих устройств менее 670 кВт
A4: на июль 2021 года
A5: руб/кВтч | G5: без НДС
A6: Уровень напряжения | C6: Сбытовая надбавка гарантирующего поставщика | D6: Инфраструктурные платежи (услуги "СО ЕЭС", АО "АТС", ЗАО "ЦФР") | E6: Плата за услуги по передаче | F6: Средневзвешенная нерегулируемая цена на электроэнергию (мощность) на оптовом рынке | G6: Предельные уровни нерегулируемых цен для потребителей группы "Прочие" (гр.2+гр.3+гр.4+гр.5)
A7: 1 | C7: 2 | D7: 3 | E7: 4 | F7: 5 | G7: 6
A8: Первая ценовая категория
A9: ВН | C9: 0.49844 | D9: 0.00253 | E9: 1.95798 | F9: 3.37462 | G9: =SUM(C9:F9) -> 5.83357
A10: СН1 | C10: =C9 -> 0.49844 | D10: =D9 -> 0.00253 | E10: 2.56704 | F10: =F9 -> 3.37462 | G10: =SUM(C10:F10) -> 6.44263
A11: СН2 | C11: =C9 -> 0.49844 | D11: =D9 -> 0.00253 | E11: 3.96657 | F11: =F9 -> 3.37462 | G11: =SUM(C11:F11) -> 7.84216
A12: НН | C12: =C9 -> 0.49844 | D12: =D11 -> 0.00253 | E12: 5.28789 | F12: =F9 -> 3.37462 | G12: =SUM(C12:F12) -> 9.16348
A13: Вторая ценовая категория
A14: Потребители, рассчитывающиеся по трем зонам суток:
A15: ночная зона
A16: ВН | C16: =C9 -> 0.49844 | D16: =D9 -> 0.00253 | E16: =E9 -> 1.95798 | F16: 1.10342 | G16: =SUM(C16:F16) -> 3.56237
A17: СН1 | C17: =C10 -> 0.49844 | D17: =D10 -> 0.00253 | E17: =E10 -> 2.56704 | F17: =F16 -> 1.10342 | G17: =SUM(C17:F17) -> 4.17143
A18: СН2 | C18: =C11 -> 0.49844 | D18: =D11 -> 0.00253 | E18: =E11 -> 3.96657 | F18: =F17 -> 1.10342 | G18: =SUM(C18:F18) -> 5.57096
A19: НН | C19: =C12 -> 0.49844 | D19: =D12 -> 0.00253 | E19: =E12 -> 5.28789 | F19: =F18 -> 1.10342 | G19: =SUM(C19:F19) -> 6.89228
A20: полупиковая зона
A21: ВН | C21: =C9 -> 0.49844 | D21: =D16 -> 0.00253 | E21: =E16 -> 1.95798 | F21: 3.56917 | G21: =SUM(C21:F21) -> 6.02812
A22: СН1 | C22: =C10 -> 0.49844 | D22: =D21 -> 0.00253 | E22: =E17 -> 2.56704 | F22: =F21 -> 3.56917 | G22: =SUM(C22:F22) -> 6.63718
A23: СН2 | C23: =C11 -> 0.49844 | D23: =D22 -> 0.00253 | E23: =E18 -> 3.96657 | F23: =F22 -> 3.56917 | G23: =SUM(C23:F23) -> 8.03671
A24: НН | C24: =C12 -> 0.49844 | D24: =D23 -> 0.00253 | E24: =E19 -> 5.28789 | F24: =F23 -> 3.56917 | G24: =SUM(C24:F24) -> 9.35803
A25: пиковая зона
A26: ВН | C26: =C21 -> 0.49844 | D26: =D21 -> 0.00253 | E26: =E21 -> 1.95798 | F26: 7.18142 | G26: =SUM(C26:F26) -> 9.64037
A27: СН1 | C27: =C22 -> 0.49844 | D27: =D22 -> 0.00253 | E27: =E22 -> 2.56704 | F27: =F26 -> 7.18142 | G27: =SUM(C27:F27) -> 10.24943
A28: СН2 | C28: =C23 -> 0.49844 | D28: =D23 -> 0.00253 | E28: =E23 -> 3.96657 | F28: =F27 -> 7.18142 | G28: =SUM(C28:F28) -> 11.64896
A29: НН | C29: =C24 -> 0.49844 | D29: =D24 -> 0.00253 | E29: =E24 -> 5.28789 | F29: =F28 -> 7.18142 | G29: =SUM(C29:F29) -> 12.97028
A30: Потребители, рассчитывающиеся по двум зонам суток:
A31: ночная зона
A32: ВН | C32: =C26 -> 0.49844 | D32: =D26 -> 0.00253 | E32: =E26 -> 1.95798 | F32: 1.10342 | G32: =SUM(C32:F32) -> 3.56237
A33: СН1 | C33: =C27 -> 0.49844 | D33: =D27 -> 0.00253 | E33: =E27 -> 2.56704 | F33: =F32 -> 1.10342 | G33: =SUM(C33:F33) -> 4.17143
A34: СН2 | C34: =C28 -> 0.49844 | D34: =D28 -> 0.00253 | E34: =E28 -> 3.96657 | F34: =F33 -> 1.10342 | G34: =SUM(C34:F34) -> 5.57096
A35: НН | C35: =C29 -> 0.49844 | D35: =D29 -> 0.00253 | E35: =E29 -> 5.28789 | F35: =F34 -> 1.10342 | G35: =SUM(C35:F35) -> 6.89228
A36: дневная зона
A37: ВН | C37: =C32 -> 0.49844 | D37: =D32 -> 0.00253 | E37: =E32 -> 1.95798 | F37: 5.04972 | G37: =SUM(C37:F37) -> 7.50867
A38: СН1 | C38: =C33 -> 0.49844 | D38: =D33 -> 0.00253 | E38: =E33 -> 2.56704 | F38: =F37 -> 5.04972 | G38: =SUM(C38:F38) -> 8.11773
A39: СН2 | C39: =C34 -> 0.49844 | D39: =D34 -> 0.00253 | E39: =E34 -> 3.96657 | F39: =F38 -> 5.04972 | G39: =SUM(C39:F39) -> 9.51726
A40: НН | C40: =C35 -> 0.49844 | D40: =D35 -> 0.00253 | E40: =E35 -> 5.28789 | F40: =F39 -> 5.04972 | G40: =SUM(C40:F40) -> 10.83858
A41: Третья ценовая категория
A42: ставка за электрическую энергию предельного уровня нерегулируемых цен, руб/кВтч
A43: День | B43: Час | C43: Сбытовая надбавка гарантирующего поставщика | D43: Инфраструктурные платежи (услуги "СО ЕЭС", ОАО "АТС", ЗАО "ЦФР") | E43: Плата за услуги по передаче | F43: =F6 -> Средневзвешенная нерегулируемая цена на электроэнергию (мощность) на оптовом рынке | G43: =G6 -> Предельные уровни нерегулируемых цен для потребителей группы "Прочие" (гр.2+гр.3+гр.4+гр.5)
A44: ВН
A45: 44378 | B45: 0 | C45: =$C$9 -> 0.49844 | D45: =$D$9 -> 0.00253 | E45: =E37 -> 1.95798 | F45: 1.1319 | G45: =SUM(C45:F45) -> 3.59085 | H45: =G45-'[3] до 670'!$B$86/1000 -> 0
A46: =A45 -> 44378 | B46: 1 | C46: =$C$9 -> 0.49844 | D46: =$D$9 -> 0.00253 | E46: =E45 -> 1.95798 | F46: 1.03743 | G46: =SUM(C46:F46) -> 3.49638
A47: =A46 -> 44378 | B47: 2 | C47: =$C$9 -> 0.49844 | D47: =$D$9 -> 0.00253 | E47: =E46 -> 1.95798 | F47: 0.96484 | G47: =SUM(C47:F47) -> 3.42379
A48: =A47 -> 44378 | B48: 3 | C48: =$C$9 -> 0.49844 | D48: =$D$9 -> 0.00253 | E48: =E47 -> 1.95798 | F48: 0.90564 | G48: =SUM(C48:F48) -> 3.36459
A49: =A48 -> 44378 | B49: 4 | C49: =$C$9 -> 0.49844 | D49: =$D$9 -> 0.00253 | E49: =E48 -> 1.95798 | F49: 0.83781 | G49: =SUM(C49:F49) -> 3.29676
A50: =A49 -> 44378 | B50: 5 | C50: =$C$9 -> 0.49844 | D50: =$D$9 -> 0.00253 | E50: =E49 -> 1.95798 | F50: 0.93751 | G50: =SUM(C50:F50) -> 3.39646
A51: =A50 -> 44378 | B51: 6 | C51: =$C$9 -> 0.49844 | D51: =$D$9 -> 0.00253 | E51: =E50 -> 1.95798 | F51: 1.17338 | G51: =SUM(C51:F51) -> 3.63233
A52: =A51 -> 44378 | B52: 7 | C52: =$C$9 -> 0.49844 | D52: =$D$9 -> 0.00253 | E52: =E51 -> 1.95798 | F52: 1.46805 | G52: =SUM(C52:F52) -> 3.927
A53: =A52 -> 44378 | B53: 8 | C53: =$C$9 -> 0.49844 | D53: =$D$9 -> 0.00253 | E53: =E52 -> 1.95798 | F53: 1.88325 | G53: =SUM(C53:F53) -> 4.3422
A54: =A53 -> 44378 | B54: 9 | C54: =$C$9 -> 0.49844 | D54: =$D$9 -> 0.00253 | E54: =E53 -> 1.95798 | F54: 1.9987 | G54: =SUM(C54:F54) -> 4.45765
A55: =A54 -> 44378 | B55: 10 | C55: =$C$9 -> 0.49844 | D55: =$D$9 -> 0.00253 | E55: =E54 -> 1.95798 | F55: 2.0375 | G55: =SUM(C55:F55) -> 4.49645
A56: =A55 -> 44378 | B56: 11 | C56: =$C$9 -> 0.49844 | D56: =$D$9 -> 0.00253 | E56: =E55 -> 1.95798 | F56: 2.04805 | G56: =SUM(C56:F56) -> 4.507
A57: =A56 -> 44378 | B57: 12 | C57: =$C$9 -> 0.49844 | D57: =$D$9 -> 0.00253 | E57: =E56 -> 1.95798 | F57: 2.06018 | G57: =SUM(C57:F57) -> 4.51913
... A68: =A67 -> 44378 | B68: 23 | C68: =$C$9 -> 0.49844 | D68: =$D$9 -> 0.00253 | E68: =E67 -> 1.95798 | F68: 1.53378 | G68: =SUM(C68:F68) -> 3.99273
A69: 44379 | B69: 0 | C69: =$C$9 -> 0.49844 | D69: =$D$9 -> 0.00253 | E69: =E68 -> 1.95798 | F69: 1.27635 | G69: =SUM(C69:F69) -> 3.7353
A70: =A69 -> 44379 | B70: 1 | C70: =$C$9 -> 0.49844 | D70: =$D$9 -> 0.00253 | E70: =E69 -> 1.95798 | F70: 1.0671 | G70: =SUM(C70:F70) -> 3.52605
A71: =A70 -> 44379 | B71: 2 | C71: =$C$9 -> 0.49844 | D71: =$D$9 -> 0.00253 | E71: =E70 -> 1.95798 | F71: 0.97147 | G71: =SUM(C71:F71) -> 3.43042
A72: =A71 -> 44379 | B72: 3 | C72: =$C$9 -> 0.49844 | D72: =$D$9 -> 0.00253 | E72: =E71 -> 1.95798 | F72: 0.93765 | G72: =SUM(C72:F72) -> 3.3966
A73: =A72 -> 44379 | B73: 4 | C73: =$C$9 -> 0.49844 | D73: =$D$9 -> 0.00253 | E73: =E72 -> 1.95798 | F73: 0.88933 | G73: =SUM(C73:F73) -> 3.34828
A74: =A73 -> 44379 | B74: 5 | C74: =$C$9 -> 0.49844 | D74: =$D$9 -> 0.00253 | E74: =E73 -> 1.95798 | F74: 0.96539 | G74: =SUM(C74:F74) -> 3.42434
A75: =A74 -> 44379 | B75: 6 | C75: =$C$9 -> 0.49844 | D75: =$D$9 -> 0.00253 | E75: =E74 -> 1.95798 | F75: 1.25784 | G75: =SUM(C75:F75) -> 3.71679
A76: =A75 -> 44379 | B76: 7 | C76: =$C$9 -> 0.49844 | D76: =$D$9 -> 0.00253 | E76: =E75 -> 1.95798 | F76: 1.50075 | G76: =SUM(C76:F76) -> 3.9597
A77: =A76 -> 44379 | B77: 8 | C77: =$C$9 -> 0.49844 | D77: =$D$9 -> 0.00253 | E77: =E76 -> 1.95798 | F77: 1.87539 | G77: =SUM(C77:F77) -> 4.33434
A78: =A77 -> 44379 | B78: 9 | C78: =$C$9 -> 0.49844 | D78: =$D$9 -> 0.00253 | E78: =E77 -> 1.95798 | F78: 1.96828 | G78: =SUM(C78:F78) -> 4.42723
A79: =A78 -> 44379 | B79: 10 | C79: =$C$9 -> 0.49844 | D79: =$D$9 -> 0.00253 | E79: =E78 -> 1.95798 | F79: 2.02683 | G79: =SUM(C79:F79) -> 4.48578
A80: =A79 -> 44379 | B80: 11 | C80: =$C$9 -> 0.49844 | D80: =$D$9 -> 0.00253 | E80: =E79 -> 1.95798 | F80: 2.04475 | G80: =SUM(C80:F80) -> 4.5037
A81: =A80 -> 44379 | B81: 12 | C81: =$C$9 -> 0.49844 | D81: =$D$9 -> 0.00253 | E81: =E80 -> 1.95798 | F81: 2.05527 | G81: =SUM(C81:F81) -> 4.51422
... A92: =A91 -> 44379 | B92: 23 | C92: =$C$9 -> 0.49844 | D92: =$D$9 -> 0.00253 | E92: =E91 -> 1.95798 | F92: 1.67514 | G92: =SUM(C92:F92) -> 4.13409
A93: 44380 | B93: 0 | C93: =$C$9 -> 0.49844 | D93: =$D$9 -> 0.00253 | E93: =E92 -> 1.95798 | F93: 1.40243 | G93: =SUM(C93:F93) -> 3.86138
A94: =A93 -> 44380 | B94: 1 | C94: =$C$9 -> 0.49844 | D94: =$D$9 -> 0.00253 | E94: =E93 -> 1.95798 | F94: 1.23737 | G94: =SUM(C94:F94) -> 3.69632
A95: =A94 -> 44380 | B95: 2 | C95: =$C$9 -> 0.49844 | D95: =$D$9 -> 0.00253 | E95: =E94 -> 1.95798 | F95: 1.12601 | G95: =SUM(C95:F95) -> 3.58496
A96: =A95 -> 44380 | B96: 3 | C96: =$C$9 -> 0.49844 | D96: =$D$9 -> 0.00253 | E96: =E95 -> 1.95798 | F96: 1.10292 | G96: =SUM(C96:F96) -> 3.56187
A97: =A96 -> 44380 | B97: 4 | C97: =$C$9 -> 0.49844 | D97: =$D$9 -> 0.00253 | E97: =E96 -> 1.95798 | F97: 1.01915 | G97: =SUM(C97:F97) -> 3.4781
A98: =A97 -> 44380 | B98: 5 | C98: =$C$9 -> 0.49844 | D98: =$D$9 -> 0.00253 | E98: =E97 -> 1.95798 | F98: 1.06339 | G98: =SUM(C98:F98) -> 3.52234
A99: =A98 -> 44380 | B99: 6 | C99: =$C$9 -> 0.49844 | D99: =$D$9 -> 0.00253 | E99: =E98 -> 1.95798 | F99: 1.13545 | G99: =SUM(C99:F99) -> 3.5944
A100: =A99 -> 44380 | B100: 7 | C100: =$C$9 -> 0.49844 | D100: =$D$9 -> 0.00253 | E100: =E99 -> 1.95798 | F100: 1.408 | G100: =SUM(C100:F100) -> 3.86695
A101: =A100 -> 44380 | B101: 8 | C101: =$C$9 -> 0.49844 | D101: =$D$9 -> 0.00253 | E101: =E100 -> 1.95798 | F101: 1.83291 | G101: =SUM(C101:F101) -> 4.29186
A102: =A101 -> 44380 | B102: 9 | C102: =$C$9 -> 0.49844 | D102: =$D$9 -> 0.00253 | E102: =E101 -> 1.95798 | F102: 1.98072 | G102: =SUM(C102:F102) -> 4.43967
A103: =A102 -> 44380 | B103: 10 | C103: =$C$9 -> 0.49844 | D103: =$D$9 -> 0.00253 | E103: =E102 -> 1.95798 | F103: 2.05629 | G103: =SUM(C103:F103) -> 4.51524
A104: =A103 -> 44380 | B104: 11 | C104: =$C$9 -> 0.49844 | D104: =$D$9 -> 0.00253 | E104: =E103 -> 1.95798 | F104: 2.08454 | G104: =SUM(C104:F104) -> 4.54349
A105: =A104 -> 44380 | B105: 12 | C105: =$C$9 -> 0.49844 | D105: =$D$9 -> 0.00253 | E105: =E104 -> 1.95798 | F105: 2.09722 | G105: =SUM(C105:F105) -> 4.55617
... A116: =A115 -> 44380 | B116: 23 | C116: =$C$9 -> 0.49844 | D116: =$D$9 -> 0.00253 | E116: =E115 -> 1.95798 | F116: 1.76434 | G116: =SUM(C116:F116) -> 4.22329
A117: 44381 | B117: 0 | C117: =$C$9 -> 0.49844 | D117: =$D$9 -> 0.00253 | E117: =E116 -> 1.95798 | F117: 1.41041 | G117: =SUM(C117:F117) -> 3.86936
A118: =A117 -> 44381 | B118: 1 | C118: =$C$9 -> 0.49844 | D118: =$D$9 -> 0.00253 | E118: =E117 -> 1.95798 | F118: 1.21351 | G118: =SUM(C118:F118) -> 3.67246
A119: =A118 -> 44381 | B119: 2 | C119: =$C$9 -> 0.49844 | D119: =$D$9 -> 0.00253 | E119: =E118 -> 1.95798 | F119: 1.0799 | G119: =SUM(C119:F119) -> 3.53885
A120: =A119 -> 44381 | B120: 3 | C120: =$C$9 -> 0.49844 | D120: =$D$9 -> 0.00253 | E120: =E119 -> 1.95798 | F120: 0.9636 | G120: =SUM(C120:F120) -> 3.42255
A121: =A120 -> 44381 | B121: 4 | C121: =$C$9 -> 0.49844 | D121: =$D$9 -> 0.00253 | E121: =E120 -> 1.95798 | F121: 0.93127 | G121: =SUM(C121:F121) -> 3.39022
A122: =A121 -> 44381 | B122: 5 | C122: =$C$9 -> 0.49844 | D122: =$D$9 -> 0.00253 | E122: =E121 -> 1.95798 | F122: 0.95328 | G122: =SUM(C122:F122) -> 3.41223
A123: =A122 -> 44381 | B123: 6 | C123: =$C$9 -> 0.49844 | D123: =$D$9 -> 0.00253 | E123: =E122 -> 1.95798 | F123: 1.03868 | G123: =SUM(C123:F123) -> 3.49763
A124: =A123 -> 44381 | B124: 7 | C124: =$C$9 -> 0.49844 | D124: =$D$9 -> 0.00253 | E124: =E123 -> 1.95798 | F124: 1.26076 | G124: =SUM(C124:F124) -> 3.71971
A125: =A124 -> 44381 | B125: 8 | C125: =$C$9 -> 0.49844 | D125: =$D$9 -> 0.00253 | E125: =E124 -> 1.95798 | F125: 1.6193 | G125: =SUM(C125:F125) -> 4.07825
A126: =A125 -> 44381 | B126: 9 | C126: =$C$9 -> 0.49844 | D126: =$D$9 -> 0.00253 | E126: =E125 -> 1.95798 | F126: 1.92553 | G126: =SUM(C126:F126) -> 4.38448
A127: =A126 -> 44381 | B127: 10 | C127: =$C$9 -> 0.49844 | D127: =$D$9 -> 0.00253 | E127: =E126 -> 1.95798 | F127: 1.98644 | G127: =SUM(C127:F127) -> 4.44539
A128: =A127 -> 44381 | B128: 11 | C128: =$C$9 -> 0.49844 | D128: =$D$9 -> 0.00253 | E128: =E127 -> 1.95798 | F128: 2.04574 | G128: =SUM(C128:F128) -> 4.50469
A129: =A128 -> 44381 | B129: 12 | C129: =$C$9 -> 0.49844 | D129: =$D$9 -> 0.00253 | E129: =E128 -> 1.95798 | F129: 2.05848 | G129: =SUM(C129:F129) -> 4.51743
... A140: =A139 -> 44381 | B140: 23 | C140: =$C$9 -> 0.49844 | D140: =$D$9 -> 0.00253 | E140: =E139 -> 1.95798 | F140: 1.60745 | G140: =SUM(C140:F140) -> 4.0664
A141: 44382 | B141: 0 | C141: =$C$9 -> 0.49844 | D141: =$D$9 -> 0.00253 | E141: =E140 -> 1.95798 | F141: 1.18232 | G141: =SUM(C141:F141) -> 3.64127
...

Sheet от 670кВт до 10000кВт
A2: Расчет предельных уровней нерегулируемых цен для потребителей АО «НЭСК»
E3: с максимальной мощностью принадлежащих им энергопринимающих устройств от 670 кВт до 10000 кВт
A4: ='до 670кВт'!A4:G4 -> на июль 2021 года
A5: руб/кВтч | G5: без НДС
A6: Уровень напряжения | C6: Сбытовая надбавка гарантирующего поставщика | D6: Инфраструктурные платежи (услуги "СО ЕЭС", ОАО "АТС", ЗАО "ЦФР") | E6: Плата за услуги по передаче | F6: ='до 670кВт'!F6 -> Средневзвешенная нерегулируемая цена на электроэнергию (мощность) на оптовом рынке | G6: ='до 670кВт'!G6 -> Предельные уровни нерегулируемых цен для потребителей группы "Прочие" (гр.2+гр.3+гр.4+гр.5)
A7: 1 | C7: 2 | D7: 3 | E7: 4 | F7: 5 | G7: 6
A8: Первая ценовая категория
A9: ВН | C9: 0.34726 | D9: ='до 670кВт'!D9 -> 0.00253 | E9: ='до 670кВт'!E9 -> 1.95798 | F9: ='до 670кВт'!F9 -> 3.37462 | G9: =SUM(C9:F9) -> 5.68239
A10: СН1 | C10: =C9 -> 0.34726 | D10: =D9 -> 0.00253 | E10: ='до 670кВт'!E10 -> 2.56704 | F10: =F9 -> 3.37462 | G10: =SUM(C10:F10) -> 6.29145
A11: СН2 | C11: =C9 -> 0.34726 | D11: =D10 -> 0.00253 | E11: ='до 670кВт'!E11 -> 3.96657 | F11: =F9 -> 3.37462 | G11: =SUM(C11:F11) -> 7.69098
A12: НН | C12: =C9 -> 0.34726 | D12: =D11 -> 0.00253 | E12: ='до 670кВт'!E12 -> 5.28789 | F12: =F9 -> 3.37462 | G12: =SUM(C12:F12) -> 9.0123
A13: Вторая ценовая категория
A14: Потребители, рассчитывающиеся по трем зонам суток:
A15: ночная зона
A16: ВН | C16: =C9 -> 0.34726 | D16: =D9 -> 0.00253 | E16: ='до 670кВт'!E16 -> 1.95798 | F16: ='до 670кВт'!F16 -> 1.10342 | G16: =SUM(C16:F16) -> 3.41119
A17: СН1 | C17: =C10 -> 0.34726 | D17: =D10 -> 0.00253 | E17: ='до 670кВт'!E17 -> 2.56704 | F17: =F16 -> 1.10342 | G17: =SUM(C17:F17) -> 4.02025
A18: СН2 | C18: =C11 -> 0.34726 | D18: =D11 -> 0.00253 | E18: ='до 670кВт'!E18 -> 3.96657 | F18: =F17 -> 1.10342 | G18: =SUM(C18:F18) -> 5.41978
A19: НН | C19: =C12 -> 0.34726 | D19: =D12 -> 0.00253 | E19: ='до 670кВт'!E19 -> 5.28789 | F19: =F18 -> 1.10342 | G19: =SUM(C19:F19) -> 6.7411
A20: полупиковая зона
A21: ВН | C21: =C16 -> 0.34726 | D21: =D16 -> 0.00253 | E21: ='до 670кВт'!E21 -> 1.95798 | F21: ='до 670кВт'!F21 -> 3.56917 | G21: =SUM(C21:F21) -> 5.87694
A22: СН1 | C22: =C17 -> 0.34726 | D22: =D21 -> 0.00253 | E22: ='до 670кВт'!E22 -> 2.56704 | F22: =F21 -> 3.56917 | G22: =SUM(C22:F22) -> 6.486
A23: СН2 | C23: =C18 -> 0.34726 | D23: =D22 -> 0.00253 | E23: ='до 670кВт'!E23 -> 3.96657 | F23: =F22 -> 3.56917 | G23: =SUM(C23:F23) -> 7.88553
A24: НН | C24: =C19 -> 0.34726 | D24: =D23 -> 0.00253 | E24: ='до 670кВт'!E24 -> 5.28789 | F24: =F23 -> 3.56917 | G24: =SUM(C24:F24) -> 9.20685
A25: пиковая зона
A26: ВН | C26: =C21 -> 0.34726 | D26: =D9 -> 0.00253 | E26: ='до 670кВт'!E26 -> 1.95798 | F26: ='до 670кВт'!F26 -> 7.18142 | G26: =SUM(C26:F26) -> 9.48919
A27: СН1 | C27: =C22 -> 0.34726 | D27: =D10 -> 0.00253 | E27: ='до 670кВт'!E27 -> 2.56704 | F27: =F26 -> 7.18142 | G27: =SUM(C27:F27) -> 10.09825
A28: СН2 | C28: =C23 -> 0.34726 | D28: =D11 -> 0.00253 | E28: ='до 670кВт'!E28 -> 3.96657 | F28: =F27 -> 7.18142 | G28: =SUM(C28:F28) -> 11.49778
A29: НН | C29: =C24 -> 0.34726 | D29: =D12 -> 0.00253 | E29: ='до 670кВт'!E29 -> 5.28789 | F29: =F28 -> 7.18142 | G29: =SUM(C29:F29) -> 12.8191
A30: Потребители, рассчитывающиеся по двум зонам суток:
A31: ночная зона
A32: ВН | C32: =C26 -> 0.34726 | D32: =D26 -> 0.00253 | E32: ='до 670кВт'!E32 -> 1.95798 | F32: =F16 -> 1.10342 | G32: =SUM(C32:F32) -> 3.41119
A33: СН1 | C33: =C27 -> 0.34726 | D33: =D27 -> 0.00253 | E33: ='до 670кВт'!E33 -> 2.56704 | F33: =F32 -> 1.10342 | G33: =SUM(C33:F33) -> 4.02025
A34: СН2 | C34: =C28 -> 0.34726 | D34: =D28 -> 0.00253 | E34: ='до 670кВт'!E34 -> 3.96657 | F34: =F33 -> 1.10342 | G34: =SUM(C34:F34) -> 5.41978
A35: НН | C35: =C29 -> 0.34726 | D35: =D29 -> 0.00253 | E35: ='до 670кВт'!E35 -> 5.28789 | F35: =F34 -> 1.10342 | G35: =SUM(C35:F35) -> 6.7411
A36: дневная зона
A37: ВН | C37: =C32 -> 0.34726 | D37: =D32 -> 0.00253 | E37: ='до 670кВт'!E37 -> 1.95798 | F37: ='до 670кВт'!F37 -> 5.04972 | G37: =SUM(C37:F37) -> 7.35749
A38: СН1 | C38: =C33 -> 0.34726 | D38: =D33 -> 0.00253 | E38: ='до 670кВт'!E38 -> 2.56704 | F38: =F37 -> 5.04972 | G38: =SUM(C38:F38) -> 7.96655
A39: СН2 | C39: =C34 -> 0.34726 | D39: =D34 -> 0.00253 | E39: ='до 670кВт'!E39 -> 3.96657 | F39: =F38 -> 5.04972 | G39: =SUM(C39:F39) -> 9.36608
A40: НН | C40: =C35 -> 0.34726 | D40: =D35 -> 0.00253 | E40: ='до 670кВт'!E40 -> 5.28789 | F40: =F39 -> 5.04972 | G40: =SUM(C40:F40) -> 10.6874
A41: Третья ценовая категория
A42: ставка за электрическую энергию предельного уровня нерегулируемых цен, руб/кВтч
A43: День | B43: Час | C43: Сбытовая надбавка гарантирующего поставщика | D43: Инфраструктурные платежи (услуги "СО ЕЭС", ОАО "АТС", ЗАО "ЦФР") | E43: Плата за услуги по передаче | F43: =F6 -> Средневзвешенная нерегулируемая цена на электроэнергию (мощность) на оптовом рынке | G43: =G6 -> Предельные уровни нерегулируемых цен для потребителей группы "Прочие" (гр.2+гр.3+гр.4+гр.5)
A44: ВН
A45: ='до 670кВт'!A45 -> 44378 | B45: 0 | C45: =C37 -> 0.34726 | D45: =$D$9 -> 0.00253 | E45: =E37 -> 1.95798 | F45: ='до 670кВт'!F45 -> 1.1319 | G45: =SUM(C45:F45) -> 3.43967 | H45: =G45-'[3]от 670 до 10000'!$B$20/1000 -> 0 | I45: Проверка с сайта
A46: ='до 670кВт'!A46 -> 44378 | B46: 1 | C46: =C45 -> 0.34726 | D46: =D45 -> 0.00253 | E46: =E45 -> 1.95798 | F46: ='до 670кВт'!F46 -> 1.03743 | G46: =SUM(C46:F46) -> 3.3452
A47: ='до 670кВт'!A47 -> 44378 | B47: 2 | C47: =C46 -> 0.34726 | D47: =D46 -> 0.00253 | E47: =E46 -> 1.95798 | F47: ='до 670кВт'!F47 -> 0.96484 | G47: =SUM(C47:F47) -> 3.27261
A48: ='до 670кВт'!A48 -> 44378 | B48: 3 | C48: =C47 -> 0.34726 | D48: =D47 -> 0.00253 | E48: =E47 -> 1.95798 | F48: ='до 670кВт'!F48 -> 0.90564 | G48: =SUM(C48:F48) -> 3.21341
A49: ='до 670кВт'!A49 -> 44378 | B49: 4 | C49: =C48 -> 0.34726 | D49: =D48 -> 0.00253 | E49: =E48 -> 1.95798 | F49: ='до 670кВт'!F49 -> 0.83781 | G49: =SUM(C49:F49) -> 3.14558
A50: ='до 670кВт'!A50 -> 44378 | B50: 5 | C50: =C49 -> 0.34726 | D50: =D49 -> 0.00253 | E50: =E49 -> 1.95798 | F50: ='до 670кВт'!F50 -> 0.93751 | G50: =SUM(C50:F50) -> 3.24528
A51: ='до 670кВт'!A51 -> 44378 | B51: 6 | C51: =C50 -> 0.34726 | D51: =D50 -> 0.00253 | E51: =E50 -> 1.95798 | F51: ='до 670кВт'!F51 -> 1.17338 | G51: =SUM(C51:F51) -> 3.48115
A52: ='до 670кВт'!A52 -> 44378 | B52: 7 | C52: =C51 -> 0.34726 | D52: =D51 -> 0.00253 | E52: =E51 -> 1.95798 | F52: ='до 670кВт'!F52 -> 1.46805 | G52: =SUM(C52:F52) -> 3.77582
A53: ='до 670кВт'!A53 -> 44378 | B53: 8 | C53: =C52 -> 0.34726 | D53: =D52 -> 0.00253 | E53: =E52 -> 1.95798 | F53: ='до 670кВт'!F53 -> 1.88325 | G53: =SUM(C53:F53) -> 4.19102
A54: ='до 670кВт'!A54 -> 44378 | B54: 9 | C54: =C53 -> 0.34726 | D54: =D53 -> 0.00253 | E54: =E53 -> 1.95798 | F54: ='до 670кВт'!F54 -> 1.9987 | G54: =SUM(C54:F54) -> 4.30647
A55: ='до 670кВт'!A55 -> 44378 | B55: 10 | C55: =C54 -> 0.34726 | D55: =D54 -> 0.00253 | E55: =E54 -> 1.95798 | F55: ='до 670кВт'!F55 -> 2.0375 | G55: =SUM(C55:F55) -> 4.34527
A56: ='до 670кВт'!A56 -> 44378 | B56: 11 | C56: =C55 -> 0.34726 | D56: =D55 -> 0.00253 | E56: =E55 -> 1.95798 | F56: ='до 670кВт'!F56 -> 2.04805 | G56: =SUM(C56:F56) -> 4.35582
A57: ='до 670кВт'!A57 -> 44378 | B57: 12 | C57: =C56 -> 0.34726 | D57: =D56 -> 0.00253 | E57: =E56 -> 1.95798 | F57: ='до 670кВт'!F57 -> 2.06018 | G57: =SUM(C57:F57) -> 4.36795
... A715: ='до 670кВт'!A715 -> 44405 | B715: 22 | C715: =C714 -> 0.34726 | D715: =D714 -> 0.00253 | E715: =E714 -> 1.95798 | F715: ='до 670кВт'!F715 -> 1.9368 | G715: =SUM(C715:F715) -> 4.24457
A716: ='до 670кВт'!A716 -> 44405 | B716: 23 | C716: =C715 -> 0.34726 | D716: =D715 -> 0.00253 | E716: =E715 -> 1.95798 | F716: ='до 670кВт'!F716 -> 1.7323 | G716: =SUM(C716:F716) -> 4.04007 | H716: =G716-'[1]от 670 до 10000'!$Y$113/1000 -> 0.26559479
A717: ='до 670кВт'!A717 -> 44406 | B717: 0 | C717: =C716 -> 0.34726 | D717: =D716 -> 0.00253 | E717: =E716 -> 1.95798 | F717: ='до 670кВт'!F717 -> 1.34885 | G717: =SUM(C717:F717) -> 3.65662
A718: ='до 670кВт'!A718 -> 44406 | B718: 1 | C718: =C717 -> 0.34726 | D718: =D717 -> 0.00253 | E718: =E717 -> 1.95798 | F718: ='до 670кВт'!F718 -> 1.18594 | G718: =SUM(C718:F718) -> 3.49371
A719: ='до 670кВт'!A719 -> 44406 | B719: 2 | C719: =C718 -> 0.34726 | D719: =D718 -> 0.00253 | E719: =E718 -> 1.95798 | F719: ='до 670кВт'!F719 -> 1.08967 | G719: =SUM(C719:F719) -> 3.39744
A720: ='до 670кВт'!A720 -> 44406 | B720: 3 | C720: =C719 -> 0.34726 | D720: =D719 -> 0.00253 | E720: =E719 -> 1.95798 | F720: ='до 670кВт'!F720 -> 0.97889 | G720: =SUM(C720:F720) -> 3.28666
A721: ='до 670кВт'!A721 -> 44406 | B721: 4 | C721: =C720 -> 0.34726 | D721: =D720 -> 0.00253 | E721: =E720 -> 1.95798 | F721: ='до 670кВт'!F721 -> 0.97527 | G721: =SUM(C721:F721) -> 3.28304
A722: ='до 670кВт'!A722 -> 44406 | B722: 5 | C722: =C721 -> 0.34726 | D722: =D721 -> 0.00253 | E722: =E721 -> 1.95798 | F722: ='до 670кВт'!F722 -> 0.97795 | G722: =SUM(C722:F722) -> 3.28572
A723: ='до 670кВт'!A723 -> 44406 | B723: 6 | C723: =C722 -> 0.34726 | D723: =D722 -> 0.00253 | E723: =E722 -> 1.95798 | F723: ='до 670кВт'!F723 -> 1.31931 | G723: =SUM(C723:F723) -> 3.62708
A724: ='до 670кВт'!A724 -> 44406 | B724: 7 | C724: =C723 -> 0.34726 | D724: =D723 -> 0.00253 | E724: =E723 -> 1.95798 | F724: ='до 670кВт'!F724 -> 1.49012 | G724: =SUM(C724:F724) -> 3.79789
A725: ='до 670кВт'!A725 -> 44406 | B725: 8 | C725: =C724 -> 0.34726 | D725: =D724 -> 0.00253 | E725: =E724 -> 1.95798 | F725: ='до 670кВт'!F725 -> 1.85449 | G725: =SUM(C725:F725) -> 4.16226
A726: ='до 670кВт'!A726 -> 44406 | B726: 9 | C726: =C725 -> 0.34726 | D726: =D725 -> 0.00253 | E726: =E725 -> 1.95798 | F726: ='до 670кВт'!F726 -> 2.01624 | G726: =SUM(C726:F726) -> 4.32401
A727: ='до 670кВт'!A727 -> 44406 | B727: 10 | C727: =C726 -> 0.34726 | D727: =D726 -> 0.00253 | E727: =E726 -> 1.95798 | F727: ='до 670кВт'!F727 -> 2.05979 | G727: =SUM(C727:F727) -> 4.36756
A728: ='до 670кВт'!A728 -> 44406 | B728: 11 | C728: =C727 -> 0.34726 | D728: =D727 -> 0.00253 | E728: =E727 -> 1.95798 | F728: ='до 670кВт'!F728 -> 2.07511 | G728: =SUM(C728:F728) -> 4.38288
... A787: ='до 670кВт'!A787 -> 44408 | B787: 22 | C787: =C786 -> 0.34726 | D787: =D786 -> 0.00253 | E787: =E786 -> 1.95798 | F787: ='до 670кВт'!F787 -> 2.02857 | G787: =SUM(C787:F787) -> 4.33634
A788: ='до 670кВт'!A788 -> 44408 | B788: 23 | C788: =C787 -> 0.34726 | D788: =D787 -> 0.00253 | E788: =E787 -> 1.95798 | F788: ='до 670кВт'!F788 -> 1.76338 | G788: =SUM(C788:F788) -> 4.07115 | H788: =G788-'[3]от 670 до 10000'!$Y$50/1000 -> 0
A789: СН1
A790: =A45 -> 44378 | B790: 0 | C790: =C45 -> 0.34726 | D790: =$D$9 -> 0.00253 | E790: =E10 -> 2.56704 | F790: =F45 -> 1.1319 | G790: =SUM(C790:F790) -> 4.04873 | H790: =G790-'[3]от 670 до 10000'!$B$54/1000 -> 0
A791: =A46 -> 44378 | B791: 1 | C791: =C46 -> 0.34726 | D791: =$D$9 -> 0.00253 | E791: =E790 -> 2.56704 | F791: =F46 -> 1.03743 | G791: =SUM(C791:F791) -> 3.95426
A792: =A47 -> 44378 | B792: 2 | C792: =C47 -> 0.34726 | D792: =$D$9 -> 0.00253 | E792: =E791 -> 2.56704 | F792: =F47 -> 0.96484 | G792: =SUM(C792:F792) -> 3.88167
A793: =A48 -> 44378 | B793: 3 | C793: =C48 -> 0.34726 | D793: =$D$9 -> 0.00253 | E793: =E792 -> 2.56704 | F793: =F48 -> 0.90564 | G793: =SUM(C793:F793) -> 3.82247
A794: =A49 -> 44378 | B794: 4 | C794: =C49 -> 0.34726 | D794: =$D$9 -> 0.00253 | E794: =E793 -> 2.56704 | F794: =F49 -> 0.83781 | G794: =SUM(C794:F794) -> 3.75464
A795: =A50 -> 44378 | B795: 5 | C795: =C50 -> 0.34726 | D795: =$D$9 -> 0.00253 | E795: =E794 -> 2.56704 | F795: =F50 -> 0.93751 | G795: =SUM(C795:F795) -> 3.85434
A796: =A51 -> 44378 | B796: 6 | C796: =C51 -> 0.34726 | D796: =$D$9 -> 0.00253 | E796: =E795 -> 2.56704 | F796: =F51 -> 1.17338 | G796: =SUM(C796:F796) -> 4.09021
A797: =A52 -> 44378 | B797: 7 | C797: =C52 -> 0.34726 | D797: =$D$9 -> 0.00253 | E797: =E796 -> 2.56704 | F797: =F52 -> 1.46805 | G797: =SUM(C797:F797) -> 4.38488
A798: =A53 -> 44378 | B798: 8 | C798: =C53 -> 0.34726 | D798: =$D$9 -> 0.00253 | E798: =E797 -> 2.56704 | F798: =F53 -> 1.88325 | G798: =SUM(C798:F798) -> 4.80008
A799: =A54 -> 44378 | B799: 9 | C799: =C54 -> 0.34726 | D799: =$D$9 -> 0.00253 | E799: =E798 -> 2.56704 | F799: =F54 -> 1.9987 | G799: =SUM(C799:F799) -> 4.91553
A800: =A55 -> 44378 | B800: 10 | C800: =C55 -> 0.34726 | D800: =$D$9 -> 0.00253 | E800: =E799 -> 2.56704 | F800: =F55 -> 2.0375 | G800: =SUM(C800:F800) -> 4.95433
A801: =A56 -> 44378 | B801: 11 | C801: =C56 -> 0.34726 | D801: =$D$9 -> 0.00253 | E801: =E800 -> 2.56704 | F801: =F56 -> 2.04805 | G801: =SUM(C801:F801) -> 4.96488
A802: =A57 -> 44378 | B802: 12 | C802: =C57 -> 0.34726 | D802: =$D$9 -> 0.00253 | E802: =E801 -> 2.56704 | F802: =F57 -> 2.06018 | G802: =SUM(C802:F802) -> 4.97701
... A1460: =A715 -> 44405 | B1460: 22 | C1460: =C715 -> 0.34726 | D1460: =$D$9 -> 0.00253 | E1460: =E1459 -> 2.56704 | F1460: =F715 -> 1.9368 | G1460: =SUM(C1460:F1460) -> 4.85363
A1461: =A716 -> 44405 | B1461: 23 | C1461: =C716 -> 0.34726 | D1461: =$D$9 -> 0.00253 | E1461: =E1460 -> 2.56704 | F1461: =F716 -> 1.7323 | G1461: =SUM(C1461:F1461) -> 4.64913 | H1461: =G1461-'[1]от 670 до 10000'!$Y$147/1000 -> 0.31782479
A1462: =A717 -> 44406 | B1462: 0 | C1462: =C717 -> 0.34726 | D1462: =$D$9 -> 0.00253 | E1462: =E1461 -> 2.56704 | F1462: =F717 -> 1.34885 | G1462: =SUM(C1462:F1462) -> 4.26568
A1463: =A718 -> 44406 | B1463: 1 | C1463: =C718 -> 0.34726 | D1463: =$D$9 -> 0.00253 | E1463: =E1462 -> 2.56704 | F1463: =F718 -> 1.18594 | G1463: =SUM(C1463:F1463) -> 4.10277
A1464: =A719 -> 44406 | B1464: 2 | C1464: =C719 -> 0.34726 | D1464: =$D$9 -> 0.00253 | E1464: =E1463 -> 2.56704 | F1464: =F719 -> 1.08967 | G1464: =SUM(C1464:F1464) -> 4.0065
A1465: =A720 -> 44406 | B1465: 3 | C1465: =C720 -> 0.34726 | D1465: =$D$9 -> 0.00253 | E1465: =E1464 -> 2.56704 | F1465: =F720 -> 0.97889 | G1465: =SUM(C1465:F1465) -> 3.89572
A1466: =A721 -> 44406 | B1466: 4 | C1466: =C721 -> 0.34726 | D1466: =$D$9 -> 0.00253 | E1466: =E1465 -> 2.56704 | F1466: =F721 -> 0.97527 | G1466: =SUM(C1466:F1466) -> 3.8921
A1467: =A722 -> 44406 | B1467: 5 | C1467: =C722 -> 0.34726 | D1467: =$D$9 -> 0.00253 | E1467: =E1466 -> 2.56704 | F1467: =F722 -> 0.97795 | G1467: =SUM(C1467:F1467) -> 3.89478
A1468: =A723 -> 44406 | B1468: 6 | C1468: =C723 -> 0.34726 | D1468: =$D$9 -> 0.00253 | E1468: =E1467 -> 2.56704 | F1468: =F723 -> 1.31931 | G1468: =SUM(C1468:F1468) -> 4.23614
A1469: =A724 -> 44406 | B1469: 7 | C1469: =C724 -> 0.34726 | D1469: =$D$9 -> 0.00253 | E1469: =E1468 -> 2.56704 | F1469: =F724 -> 1.49012 | G1469: =SUM(C1469:F1469) -> 4.40695
A1470: =A725 -> 44406 | B1470: 8 | C1470: =C725 -> 0.34726 | D1470: =$D$9 -> 0.00253 | E1470: =E1469 -> 2.56704 | F1470: =F725 -> 1.85449 | G1470: =SUM(C1470:F1470) -> 4.77132
A1471: =A726 -> 44406 | B1471: 9 | C1471: =C726 -> 0.34726 | D1471: =$D$9 -> 0.00253 | E1471: =E1470 -> 2.56704 | F1471: =F726 -> 2.01624 | G1471: =SUM(C1471:F1471) -> 4.93307
A1472: =A727 -> 44406 | B1472: 10 | C1472: =C727 -> 0.34726 | D1472: =$D$9 -> 0.00253 | E1472: =E1471 -> 2.56704 | F1472: =F727 -> 2.05979 | G1472: =SUM(C1472:F1472) -> 4.97662
A1473: =A728 -> 44406 | B1473: 11 | C1473: =C728 -> 0.34726 | D1473: =$D$9 -> 0.00253 | E1473: =E1472 -> 2.56704 | F1473: =F728 -> 2.07511 | G1473: =SUM(C1473:F1473) -> 4.99194
...

Sheet от 10000 кВт
A2: Расчет предельных уровней нерегулируемых цен для потребителей АО «НЭСК»
E3: с максимальной мощностью принадлежащих им энергопринимающих устройств от 10000 кВт
A4: ='от 670кВт до 10000кВт'!A4:G4 -> на июль 2021 года
A5: руб/кВтч | G5: без НДС
A6: Уровень напряжения | C6: Сбытовая надбавка гарантирующего поставщика | D6: Инфраструктурные платежи (услуги "СО ЕЭС", ОАО "АТС", ЗАО "ЦФР") | E6: Плата за услуги по передаче | F6: ='от 670кВт до 10000кВт'!F6 -> Средневзвешенная нерегулируемая цена на электроэнергию (мощность) на оптовом рынке | G6: ='от 670кВт до 10000кВт'!G6 -> Предельные уровни нерегулируемых цен для потребителей группы "Прочие" (гр.2+гр.3+гр.4+гр.5)
A7: 1 | C7: 2 | D7: 3 | E7: 4 | F7: 5 | G7: 6
A8: Первая ценовая категория
A9: ВН | C9: 0.16615 | D9: ='до 670кВт'!D9 -> 0.00253 | E9: 1.78322 | F9: ='от 670кВт до 10000кВт'!F9 -> 3.37462 | G9: =SUM(C9:F9) -> 5.32652
A10: СН1 | C10: =C9 -> 0.16615 | D10: =D9 -> 0.00253 | E10: ='до 670кВт'!E10 -> 2.56704 | F10: =F9 -> 3.37462 | G10: =SUM(C10:F10) -> 6.11034
A11: СН2 | C11: =C9 -> 0.16615 | D11: =D9 -> 0.00253 | E11: ='до 670кВт'!E11 -> 3.96657 | F11: =F9 -> 3.37462 | G11: =SUM(C11:F11) -> 7.50987
A12: НН | C12: =C9 -> 0.16615 | D12: =D9 -> 0.00253 | E12: ='до 670кВт'!E12 -> 5.28789 | F12: =F9 -> 3.37462 | G12: =SUM(C12:F12) -> 8.83119
A13: Вторая ценовая категория
A14: Потребители, рассчитывающиеся по трем зонам суток:
A15: ночная зона
A16: ВН | C16: =C9 -> 0.16615 | D16: =D9 -> 0.00253 | E16: ='до 670кВт'!E16 -> 1.95798 | F16: ='от 670кВт до 10000кВт'!F16 -> 1.10342 | G16: =SUM(C16:F16) -> 3.23008
A17: СН1 | C17: =C10 -> 0.16615 | D17: =D10 -> 0.00253 | E17: ='до 670кВт'!E17 -> 2.56704 | F17: =F16 -> 1.10342 | G17: =SUM(C17:F17) -> 3.83914
A18: СН2 | C18: =C11 -> 0.16615 | D18: =D11 -> 0.00253 | E18: ='до 670кВт'!E18 -> 3.96657 | F18: =F17 -> 1.10342 | G18: =SUM(C18:F18) -> 5.23867
A19: НН | C19: =C12 -> 0.16615 | D19: =D12 -> 0.00253 | E19: ='до 670кВт'!E19 -> 5.28789 | F19: =F18 -> 1.10342 | G19: =SUM(C19:F19) -> 6.55999
A20: полупиковая зона
A21: ВН | C21: =C16 -> 0.16615 | D21: =D16 -> 0.00253 | E21: ='до 670кВт'!E21 -> 1.95798 | F21: ='от 670кВт до 10000кВт'!F21 -> 3.56917 | G21: =SUM(C21:F21) -> 5.69583
A22: СН1 | C22: =C17 -> 0.16615 | D22: =D21 -> 0.00253 | E22: ='до 670кВт'!E22 -> 2.56704 | F22: =F21 -> 3.56917 | G22: =SUM(C22:F22) -> 6.30489
A23: СН2 | C23: =C18 -> 0.16615 | D23: =D22 -> 0.00253 | E23: ='до 670кВт'!E23 -> 3.96657 | F23: =F22 -> 3.56917 | G23: =SUM(C23:F23) -> 7.70442
A24: НН | C24: =C19 -> 0.16615 | D24: =D23 -> 0.00253 | E24: ='до 670кВт'!E24 -> 5.28789 | F24: =F23 -> 3.56917 | G24: =SUM(C24:F24) -> 9.02574
A25: пиковая зона
A26: ВН | C26: =C21 -> 0.16615 | D26: =D9 -> 0.00253 | E26: ='до 670кВт'!E26 -> 1.95798 | F26: ='от 670кВт до 10000кВт'!F26 -> 7.18142 | G26: =SUM(C26:F26) -> 9.30808
A27: СН1 | C27: =C22 -> 0.16615 | D27: =D10 -> 0.00253 | E27: ='до 670кВт'!E27 -> 2.56704 | F27: =F26 -> 7.18142 | G27: =SUM(C27:F27) -> 9.91714
A28: СН2 | C28: =C23 -> 0.16615 | D28: =D11 -> 0.00253 | E28: ='до 670кВт'!E28 -> 3.96657 | F28: =F27 -> 7.18142 | G28: =SUM(C28:F28) -> 11.31667
A29: НН | C29: =C24 -> 0.16615 | D29: =D12 -> 0.00253 | E29: ='до 670кВт'!E29 -> 5.28789 | F29: =F28 -> 7.18142 | G29: =SUM(C29:F29) -> 12.63799
A30: Потребители, рассчитывающиеся по двум зонам суток:
A31: ночная зона
A32: ВН | C32: =C26 -> 0.16615 | D32: =D26 -> 0.00253 | E32: ='до 670кВт'!E32 -> 1.95798 | F32: ='от 670кВт до 10000кВт'!F32 -> 1.10342 | G32: =SUM(C32:F32) -> 3.23008
A33: СН1 | C33: =C27 -> 0.16615 | D33: =D27 -> 0.00253 | E33: ='до 670кВт'!E33 -> 2.56704 | F33: =F32 -> 1.10342 | G33: =SUM(C33:F33) -> 3.83914
A34: СН2 | C34: =C28 -> 0.16615 | D34: =D28 -> 0.00253 | E34: ='до 670кВт'!E34 -> 3.96657 | F34: =F33 -> 1.10342 | G34: =SUM(C34:F34) -> 5.23867
A35: НН | C35: =C29 -> 0.16615 | D35: =D29 -> 0.00253 | E35: ='до 670кВт'!E35 -> 5.28789 | F35: =F34 -> 1.10342 | G35: =SUM(C35:F35) -> 6.55999
A36: дневная зона
A37: ВН | C37: =C32 -> 0.16615 | D37: =D32 -> 0.00253 | E37: ='до 670кВт'!E37 -> 1.95798 | F37: ='от 670кВт до 10000кВт'!F37 -> 5.04972 | G37: =SUM(C37:F37) -> 7.17638
A38: СН1 | C38: =C33 -> 0.16615 | D38: =D33 -> 0.00253 | E38: ='до 670кВт'!E38 -> 2.56704 | F38: =F37 -> 5.04972 | G38: =SUM(C38:F38) -> 7.78544
A39: СН2 | C39: =C34 -> 0.16615 | D39: =D34 -> 0.00253 | E39: ='до 670кВт'!E39 -> 3.96657 | F39: =F38 -> 5.04972 | G39: =SUM(C39:F39) -> 9.18497
A40: НН | C40: =C35 -> 0.16615 | D40: =D35 -> 0.00253 | E40: ='до 670кВт'!E40 -> 5.28789 | F40: =F39 -> 5.04972 | G40: =SUM(C40:F40) -> 10.50629
A41: Третья ценовая категория
A42: ставка за электрическую энергию предельного уровня нерегулируемых цен, руб/кВтч
A43: День | B43: Час | C43: Сбытовая надбавка гарантирующего поставщика | D43: Инфраструктурные платежи (услуги "СО ЕЭС", ОАО "АТС", ЗАО "ЦФР") | E43: Плата за услуги по передаче | F43: =F6 -> Средневзвешенная нерегулируемая цена на электроэнергию (мощность) на оптовом рынке | G43: =G6 -> Предельные уровни нерегулируемых цен для потребителей группы "Прочие" (гр.2+гр.3+гр.4+гр.5)
A44: ВН
A45: ='до 670кВт'!A45 -> 44378 | B45: 0 | C45: =C40 -> 0.16615 | D45: =$D$9 -> 0.00253 | E45: =E37 -> 1.95798 | F45: ='от 670кВт до 10000кВт'!F45 -> 1.1319 | G45: =SUM(C45:F45) -> 3.25856 | H45: =G45-'[3]от 10000'!$B$19/1000 -> 0 | I45: ='от 670кВт до 10000кВт'!I45 -> Проверка с сайта
A46: ='до 670кВт'!A46 -> 44378 | B46: 1 | C46: =C45 -> 0.16615 | D46: =D45 -> 0.00253 | E46: =E45 -> 1.95798 | F46: ='от 670кВт до 10000кВт'!F46 -> 1.03743 | G46: =SUM(C46:F46) -> 3.16409
A47: ='до 670кВт'!A47 -> 44378 | B47: 2 | C47: =C46 -> 0.16615 | D47: =D46 -> 0.00253 | E47: =E46 -> 1.95798 | F47: ='от 670кВт до 10000кВт'!F47 -> 0.96484 | G47: =SUM(C47:F47) -> 3.0915
A48: ='до 670кВт'!A48 -> 44378 | B48: 3 | C48: =C47 -> 0.16615 | D48: =D47 -> 0.00253 | E48: =E47 -> 1.95798 | F48: ='от 670кВт до 10000кВт'!F48 -> 0.90564 | G48: =SUM(C48:F48) -> 3.0323
A49: ='до 670кВт'!A49 -> 44378 | B49: 4 | C49: =C48 -> 0.16615 | D49: =D48 -> 0.00253 | E49: =E48 -> 1.95798 | F49: ='от 670кВт до 10000кВт'!F49 -> 0.83781 | G49: =SUM(C49:F49) -> 2.96447
A50: ='до 670кВт'!A50 -> 44378 | B50: 5 | C50: =C49 -> 0.16615 | D50: =D49 -> 0.00253 | E50: =E49 -> 1.95798 | F50: ='от 670кВт до 10000кВт'!F50 -> 0.93751 | G50: =SUM(C50:F50) -> 3.06417
A51: ='до 670кВт'!A51 -> 44378 | B51: 6 | C51: =C50 -> 0.16615 | D51: =D50 -> 0.00253 | E51: =E50 -> 1.95798 | F51: ='от 670кВт до 10000кВт'!F51 -> 1.17338 | G51: =SUM(C51:F51) -> 3.30004
A52: ='до 670кВт'!A52 -> 44378 | B52: 7 | C52: =C51 -> 0.16615 | D52: =D51 -> 0.00253 | E52: =E51 -> 1.95798 | F52: ='от 670кВт до 10000кВт'!F52 -> 1.46805 | G52: =SUM(C52:F52) -> 3.59471
A53: ='до 670кВт'!A53 -> 44378 | B53: 8 | C53: =C52 -> 0.16615 | D53: =D52 -> 0.00253 | E53: =E52 -> 1.95798 | F53: ='от 670кВт до 10000кВт'!F53 -> 1.88325 | G53: =SUM(C53:F53) -> 4.00991
A54: ='до 670кВт'!A54 -> 44378 | B54: 9 | C54: =C53 -> 0.16615 | D54: =D53 -> 0.00253 | E54: =E53 -> 1.95798 | F54: ='от 670кВт до 10000кВт'!F54 -> 1.9987 | G54: =SUM(C54:F54) -> 4.12536
A55: ='до 670кВт'!A55 -> 44378 | B55: 10 | C55: =C54 -> 0.16615 | D55: =D54 -> 0.00253 | E55: =E54 -> 1.95798 | F55: ='от 670кВт до 10000кВт'!F55 -> 2.0375 | G55: =SUM(C55:F55) -> 4.16416
A56: ='до 670кВт'!A56 -> 44378 | B56: 11 | C56: =C55 -> 0.16615 | D56: =D55 -> 0.00253 | E56: =E55 -> 1.95798 | F56: ='от 670кВт до 10000кВт'!F56 -> 2.04805 | G56: =SUM(C56:F56) -> 4.17471
A57: ='до 670кВт'!A57 -> 44378 | B57: 12 | C57: =C56 -> 0.16615 | D57: =D56 -> 0.00253 | E57: =E56 -> 1.95798 | F57: ='от 670кВт до 10000кВт'!F57 -> 2.06018 | G57: =SUM(C57:F57) -> 4.18684
... A715: ='до 670кВт'!A715 -> 44405 | B715: 22 | C715: =C714 -> 0.16615 | D715: =D714 -> 0.00253 | E715: =E714 -> 1.95798 | F715: ='от 670кВт до 10000кВт'!F715 -> 1.9368 | G715: =SUM(C715:F715) -> 4.06346
A716: ='до 670кВт'!A716 -> 44405 | B716: 23 | C716: =C715 -> 0.16615 | D716: =D715 -> 0.00253 | E716: =E715 -> 1.95798 | F716: ='от 670кВт до 10000кВт'!F716 -> 1.7323 | G716: =SUM(C716:F716) -> 3.85896 | H716: =G716-'[1]от 10000'!$Y$113/1000 -> 0.20005479
A717: ='до 670кВт'!A717 -> 44406 | B717: 0 | C717: =C716 -> 0.16615 | D717: =D716 -> 0.00253 | E717: =E716 -> 1.95798 | F717: ='от 670кВт до 10000кВт'!F717 -> 1.34885 | G717: =SUM(C717:F717) -> 3.47551
A718: ='до 670кВт'!A718 -> 44406 | B718: 1 | C718: =C717 -> 0.16615 | D718: =D717 -> 0.00253 | E718: =E717 -> 1.95798 | F718: ='от 670кВт до 10000кВт'!F718 -> 1.18594 | G718: =SUM(C718:F718) -> 3.3126
A719: ='до 670кВт'!A719 -> 44406 | B719: 2 | C719: =C718 -> 0.16615 | D719: =D718 -> 0.00253 | E719: =E718 -> 1.95798 | F719: ='от 670кВт до 10000кВт'!F719 -> 1.08967 | G719: =SUM(C719:F719) -> 3.21633
A720: ='до 670кВт'!A720 -> 44406 | B720: 3 | C720: =C719 -> 0.16615 | D720: =D719 -> 0.00253 | E720: =E719 -> 1.95798 | F720: ='от 670кВт до 10000кВт'!F720 -> 0.97889 | G720: =SUM(C720:F720) -> 3.10555
A721: ='до 670кВт'!A721 -> 44406 | B721: 4 | C721: =C720 -> 0.16615 | D721: =D720 -> 0.00253 | E721: =E720 -> 1.95798 | F721: ='от 670кВт до 10000кВт'!F721 -> 0.97527 | G721: =SUM(C721:F721) -> 3.10193
A722: ='до 670кВт'!A722 -> 44406 | B722: 5 | C722: =C721 -> 0.16615 | D722: =D721 -> 0.00253 | E722: =E721 -> 1.95798 | F722: ='от 670кВт до 10000кВт'!F722 -> 0.97795 | G722: =SUM(C722:F722) -> 3.10461
A723: ='до 670кВт'!A723 -> 44406 | B723: 6 | C723: =C722 -> 0.16615 | D723: =D722 -> 0.00253 | E723: =E722 -> 1.95798 | F723: ='от 670кВт до 10000кВт'!F723 -> 1.31931 | G723: =SUM(C723:F723) -> 3.44597
A724: ='до 670кВт'!A724 -> 44406 | B724: 7 | C724: =C723 -> 0.16615 | D724: =D723 -> 0.00253 | E724: =E723 -> 1.95798 | F724: ='от 670кВт до 10000кВт'!F724 -> 1.49012 | G724: =SUM(C724:F724) -> 3.61678
A725: ='до 670кВт'!A725 -> 44406 | B725: 8 | C725: =C724 -> 0.16615 | D725: =D724 -> 0.00253 | E725: =E724 -> 1.95798 | F725: ='от 670кВт до 10000кВт'!F725 -> 1.85449 | G725: =SUM(C725:F725) -> 3.98115
A726: ='до 670кВт'!A726 -> 44406 | B726: 9 | C726: =C725 -> 0.16615 | D726: =D725 -> 0.00253 | E726: =E725 -> 1.95798 | F726: ='от 670кВт до 10000кВт'!F726 -> 2.01624 | G726: =SUM(C726:F726) -> 4.1429
A727: ='до 670кВт'!A727 -> 44406 | B727: 10 | C727: =C726 -> 0.16615 | D727: =D726 -> 0.00253 | E727: =E726 -> 1.95798 | F727: ='от 670кВт до 10000кВт'!F727 -> 2.05979 | G727: =SUM(C727:F727) -> 4.18645
A728: ='до 670кВт'!A728 -> 44406 | B728: 11 | C728: =C727 -> 0.16615 | D728: =D727 -> 0.00253 | E728: =E727 -> 1.95798 | F728: ='от 670кВт до 10000кВт'!F728 -> 2.07511 | G728: =SUM(C728:F728) -> 4.20177
... A787: ='до 670кВт'!A787 -> 44408 | B787: 22 | C787: =C786 -> 0.16615 | D787: =D786 -> 0.00253 | E787: =E786 -> 1.95798 | F787: ='от 670кВт до 10000кВт'!F787 -> 2.02857 | G787: =SUM(C787:F787) -> 4.15523
A788: ='до 670кВт'!A788 -> 44408 | B788: 23 | C788: =C787 -> 0.16615 | D788: =D787 -> 0.00253 | E788: =E787 -> 1.95798 | F788: ='от 670кВт до 10000кВт'!F788 -> 1.76338 | G788: =SUM(C788:F788) -> 3.89004 | H788: =G788-'[3]от 10000'!$Y$49/1000 -> 0
A789: СН1
A790: =A45 -> 44378 | B790: 0 | C790: =C45 -> 0.16615 | D790: =$D$9 -> 0.00253 | E790: =E10 -> 2.56704 | F790: =F45 -> 1.1319 | G790: =SUM(C790:F790) -> 3.86762 | H790: =G790-'[3]от 10000'!$B$53/1000 -> 0
A791: =A46 -> 44378 | B791: 1 | C791: =C46 -> 0.16615 | D791: =$D$9 -> 0.00253 | E791: =E790 -> 2.56704 | F791: =F46 -> 1.03743 | G791: =SUM(C791:F791) -> 3.77315
A792: =A47 -> 44378 | B792: 2 | C792: =C47 -> 0.16615 | D792: =$D$9 -> 0.00253 | E792: =E791 -> 2.56704 | F792: =F47 -> 0.96484 | G792: =SUM(C792:F792) -> 3.70056
A793: =A48 -> 44378 | B793: 3 | C793: =C48 -> 0.16615 | D793: =$D$9 -> 0.00253 | E793: =E792 -> 2.56704 | F793: =F48 -> 0.90564 | G793: =SUM(C793:F793) -> 3.64136
A794: =A49 -> 44378 | B794: 4 | C794: =C49 -> 0.16615 | D794: =$D$9 -> 0.00253 | E794: =E793 -> 2.56704 | F794: =F49 -> 0.83781 | G794: =SUM(C794:F794) -> 3.57353
A795: =A50 -> 44378 | B795: 5 | C795: =C50 -> 0.16615 | D795: =$D$9 -> 0.00253 | E795: =E794 -> 2.56704 | F795: =F50 -> 0.93751 | G795: =SUM(C795:F795) -> 3.67323
A796: =A51 -> 44378 | B796: 6 | C796: =C51 -> 0.16615 | D796: =$D$9 -> 0.00253 | E796: =E795 -> 2.56704 | F796: =F51 -> 1.17338 | G796: =SUM(C796:F796) -> 3.9091
A797: =A52 -> 44378 | B797: 7 | C797: =C52 -> 0.16615 | D797: =$D$9 -> 0.00253 | E797: =E796 -> 2.56704 | F797: =F52 -> 1.46805 | G797: =SUM(C797:F797) -> 4.20377
A798: =A53 -> 44378 | B798: 8 | C798: =C53 -> 0.16615 | D798: =$D$9 -> 0.00253 | E798: =E797 -> 2.56704 | F798: =F53 -> 1.88325 | G798: =SUM(C798:F798) -> 4.61897
A799: =A54 -> 44378 | B799: 9 | C799: =C54 -> 0.16615 | D799: =$D$9 -> 0.00253 | E799: =E798 -> 2.56704 | F799: =F54 -> 1.9987 | G799: =SUM(C799:F799) -> 4.73442
A800: =A55 -> 44378 | B800: 10 | C800: =C55 -> 0.16615 | D800: =$D$9 -> 0.00253 | E800: =E799 -> 2.56704 | F800: =F55 -> 2.0375 | G800: =SUM(C800:F800) -> 4.77322
A801: =A56 -> 44378 | B801: 11 | C801: =C56 -> 0.16615 | D801: =$D$9 -> 0.00253 | E801: =E800 -> 2.56704 | F801: =F56 -> 2.04805 | G801: =SUM(C801:F801) -> 4.78377
A802: =A57 -> 44378 | B802: 12 | C802: =C57 -> 0.16615 | D802: =$D$9 -> 0.00253 | E802: =E801 -> 2.56704 | F802: =F57 -> 2.06018 | G802: =SUM(C802:F802) -> 4.7959
... A1460: =A715 -> 44405 | B1460: 22 | C1460: =C715 -> 0.16615 | D1460: =$D$9 -> 0.00253 | E1460: =E1459 -> 2.56704 | F1460: =F715 -> 1.9368 | G1460: =SUM(C1460:F1460) -> 4.67252
A1461: =A716 -> 44405 | B1461: 23 | C1461: =C716 -> 0.16615 | D1461: =$D$9 -> 0.00253 | E1461: =E1460 -> 2.56704 | F1461: =F716 -> 1.7323 | G1461: =SUM(C1461:F1461) -> 4.46802 | H1461: =G1461-'[1]от 10000'!$Y$147/1000 -> 0.25228479
A1462: =A717 -> 44406 | B1462: 0 | C1462: =C717 -> 0.16615 | D1462: =$D$9 -> 0.00253 | E1462: =E1461 -> 2.56704 | F1462: =F717 -> 1.34885 | G1462: =SUM(C1462:F1462) -> 4.08457
A1463: =A718 -> 44406 | B1463: 1 | C1463: =C718 -> 0.16615 | D1463: =$D$9 -> 0.00253 | E1463: =E1462 -> 2.56704 | F1463: =F718 -> 1.18594 | G1463: =SUM(C1463:F1463) -> 3.92166
A1464: =A719 -> 44406 | B1464: 2 | C1464: =C719 -> 0.16615 | D1464: =$D$9 -> 0.00253 | E1464: =E1463 -> 2.56704 | F1464: =F719 -> 1.08967 | G1464: =SUM(C1464:F1464) -> 3.82539
A1465: =A720 -> 44406 | B1465: 3 | C1465: =C720 -> 0.16615 | D1465: =$D$9 -> 0.00253 | E1465: =E1464 -> 2.56704 | F1465: =F720 -> 0.97889 | G1465: =SUM(C1465:F1465) -> 3.71461
A1466: =A721 -> 44406 | B1466: 4 | C1466: =C721 -> 0.16615 | D1466: =$D$9 -> 0.00253 | E1466: =E1465 -> 2.56704 | F1466: =F721 -> 0.97527 | G1466: =SUM(C1466:F1466) -> 3.71099
A1467: =A722 -> 44406 | B1467: 5 | C1467: =C722 -> 0.16615 | D1467: =$D$9 -> 0.00253 | E1467: =E1466 -> 2.56704 | F1467: =F722 -> 0.97795 | G1467: =SUM(C1467:F1467) -> 3.71367
A1468: =A723 -> 44406 | B1468: 6 | C1468: =C723 -> 0.16615 | D1468: =$D$9 -> 0.00253 | E1468: =E1467 -> 2.56704 | F1468: =F723 -> 1.31931 | G1468: =SUM(C1468:F1468) -> 4.05503
A1469: =A724 -> 44406 | B1469: 7 | C1469: =C724 -> 0.16615 | D1469: =$D$9 -> 0.00253 | E1469: =E1468 -> 2.56704 | F1469: =F724 -> 1.49012 | G1469: =SUM(C1469:F1469) -> 4.22584
A1470: =A725 -> 44406 | B1470: 8 | C1470: =C725 -> 0.16615 | D1470: =$D$9 -> 0.00253 | E1470: =E1469 -> 2.56704 | F1470: =F725 -> 1.85449 | G1470: =SUM(C1470:F1470) -> 4.59021
A1471: =A726 -> 44406 | B1471: 9 | C1471: =C726 -> 0.16615 | D1471: =$D$9 -> 0.00253 | E1471: =E1470 -> 2.56704 | F1471: =F726 -> 2.01624 | G1471: =SUM(C1471:F1471) -> 4.75196
A1472: =A727 -> 44406 | B1472: 10 | C1472: =C727 -> 0.16615 | D1472: =$D$9 -> 0.00253 | E1472: =E1471 -> 2.56704 | F1472: =F727 -> 2.05979 | G1472: =SUM(C1472:F1472) -> 4.79551
A1473: =A728 -> 44406 | B1473: 11 | C1473: =C728 -> 0.16615 | D1473: =$D$9 -> 0.00253 | E1473: =E1472 -> 2.56704 | F1473: =F728 -> 2.07511 | G1473: =SUM(C1473:F1473) -> 4.81083
...
